{"text_format":"1","workbook":"xlsx","n_sheets":24,"sheets":["Lists","Hazard Register","Substances Register","Plant and Equipment Register","Risk Assessment","Classification Definitions","WHS Event Log","Risk Matrix","Likelihood_Consequence Model","Management Report","Site Report ","StagingTables","Hazard Control","Info Tables","Monthly Summaries","Type Graphs","Injury Sustained","Day_Shift_Data","Controls_Month","Identification Type","Controls_Risk","Type Charts","Individual_Stats","Sheet1"],"not_rendered":{"charts":24,"images":3,"macros":1,"external_links":4,"defined_names":337,"comments":1,"pivot_tables":6},"unopened":[],"bounds":{"document_bytes":16777216,"sheet_cells":100000,"rows_first":2000,"rows_last":500,"rows_between":2000,"halvings":0,"cell_chars":16384,"cell_head_chars":4096},"cells_cut":0,"cells_raw":0,"read":"whole","date_system":"1900"}

{"sheet":"Lists","index":0,"n_rows":43,"n_cols":42,"rows_kept":43,"cut":false,"hidden":true,"merged":[[1,18,1,19]]}
[null,null,null,null,null,null,null,null,null,null,null,null,null,null,null,null,null,null,null,null,null,null,null,"x","y","z","aa","ab","ac","ad","ae"]
[null,null,"Incident Event Type/Cause",null,"Claim",null,"Nature of Claim",null,"Part",null,"Claim status",null,"Day",null,"Month",null,"Shift",null,"Fiscal Month Values",null,null,"Cal Month",null,"Risk Type","Identification Method","Likelihood","Rank Value","Consequence","Rank Value","Rating","Control Type","Likelihood","Consecquence","Rating",null,"Report Type",null,null,"# Injured",null,null,"Dept"]
["Open",null,"Chemical",null,"Yes",null,"No Injury Sustained",null,"No Injury Sustained",null,"Open",null,"Sun",null,"January",null,"AM Early",null,1,1,null,{"$f":"+MONTH('Site Report '!J1)","v":2},null,"Accreditation/Licensing","Chance Discovery","Rare",1,"Insignificant",1,"Low","Elimination","Rare","Insignificant","Low",null,"General",null,null,0]
[null,null,"Electrical",null,"No",null,"External NO Liability",null,"External Party",null,"Closed",null,"Mon",null,"February",null,"AM Late",null,2,2,null,null,null,"Asset","Critical Control","Unlikely",2,"Minor",2,"Moderate","Substitution","Unlikely","Insignificant","Low",null,"Hazard Report",null,null,"External"]
[null,null,"Environment",null,null,null,"Amputation",null,"Abdomen",null,"N/A",null,"Tues",null,"March",null,"PM Early",null,3,3,null,null,null,"Brand Value","External Audit Process","Possible",3,"Medium",3,"High","Isolation","Possible","Insignificant","Low",null,"Incident",null,null,1]
[null,null,"External - No Control",null,null,null,"Burns",null,"Ankle",null,null,null,"Wed",null,"April",null,"PM Late",null,4,4,null,null,null,"Business Continuity","Feedback Mechanism","Likely",4,"Major",4,"Extreme","Engineering","Likely","Insignificant","Moderate",null,"Incident with Injury(s)",null,null,2]
[null,null,"Failure to Report",null,null,null,"Contusion/crushing",null,"Buttock",null,null,null,"Thurs",null,"May",null,null,null,5,5,null,null,null,"Compliance (legislative)","Hazard Notification","Almost Certain",5,"Catastrophic",5,null,"Administration","Almost Certain","Insignificant","Moderate",null,"Incident External",null,null,3]
[null,null,"Fall - Object",null,null,null,"Dermatitis/Eczema",null,"Chest",null,null,null,"Fri",null,"June",null,null,null,6,6,null,null,null,"Customer Relations","Incident",null,null,null,null,null,"PPE","Rare","Minor","Low",null,"Maintenance",null,null,4]
[null,null,"Fall from Height - Person",null,null,null,"Dislocation",null,"Cognitive",null,null,null,"Sat",null,"July",null,null,null,7,7,null,null,null,"Due Diligence","Information Bulletin",null,null,null,null,null,null,"Unlikely","Minor","Low",null,"System Compliance",null,null,5]
[null,null,"Fatigue-Human",null,null,null,"Disorder of the Eye",null,"Ear",null,null,null,null,null,"August",null,null,null,8,8,null,null,null,"Environmental Hazard","Internal Audit Process",null,null,null,null,null,null,"Possible","Minor","Moderate",null,"Other",null,null,6]
[null,null,"Furniture",null,null,null,"Electric Shock",null,"Elbow",null,null,null,null,null,"September",null,null,null,9,9,null,null,null,"Essential Services","Legislative Monitoring Process",null,null,null,null,null,null,"Likely","Minor","High",null,null,null,null,7]
[null,null,"Hazardous Condition",null,null,null,"Fatality",null,"Eye",null,null,null,null,null,"October",null,null,null,10,10,null,null,null,"Financial","Peakbody Information",null,null,null,null,null,null,"Almost Certain","Minor","High",null,null,null,null,8]
[null,null,"Hazardous Substance",null,null,null,"Fatigue",null,"Face",null,null,null,null,null,"November",null,null,null,11,11,null,null,null,"Funding (other income)","Physical Inspection",null,null,null,null,null,null,"Rare","Medium","Low",null,null,null,null,9]
[null,null,"Hot Object",null,null,null,"Foreign Body ",null,"Finger",null,null,null,null,null,"December",null,null,null,12,12,null,null,null,"Governance","Planning Activities",null,null,null,null,null,null,"Unlikely","Medium","Moderate",null,null,null,null,10]
[null,null,"Infrastructure",null,null,null,"Fracture",null,"Foot",null,null,null,null,null,null,null,null,null,null,null,null,null,null,"Industrial Relations","Product/Plant Assessment/Review",null,null,null,null,null,null,"Possible","Medium","High",null,null,null,null,">10"]
[null,null,"Maintenance Issue",null,null,null,"Hernia",null,"Groin",null,null,null,null,null,null,null,null,null,null,null,null,null,null,"Infrastructure","Quality Improvement Activity",null,null,null,null,null,null,"Likely","Medium","High"]
[null,null,"Manual Handling Lift General",null,null,null,"Lacerations",null,"Hand",null,null,null,null,null,null,null,null,null,null,null,null,null,null,"Legal (liability/prosecution)","Random Observation",null,null,null,null,null,null,"Almost Certain","Medium","Extreme"]
[null,null,"Manual Handling Plant Entry",null,null,null,"Mental Disorder",null,"Head",null,null,null,null,null,null,null,null,null,null,null,null,null,null,"Management/Leadership","Risk Assessment Process",null,null,null,null,null,null,"Rare","Major","Moderate"]
[null,null,"Manual Handling Plant Exit",null,null,null,"Multiple Injury",null,"Hip",null,null,null,null,null,null,null,null,null,null,null,null,null,null,"Market (industry)","Safety Review Activity",null,null,null,null,null,null,"Unlikely","Major","High"]
[null,null,"Manual Handling Plant Operation",null,null,null,"Open Wound",null,"Internal",null,null,null,null,null,null,null,null,null,null,null,null,null,null,"Operations","Stakeholder Information",null,null,null,null,null,null,"Possible","Major","High"]
[null,null,"Manual Handling Posture",null,null,null,"Poisoning/Toxic Effects",null,"Knee",null,null,null,null,null,null,null,null,null,null,null,null,null,null,"Professional","Statistical Information",null,null,null,null,null,null,"Likely","Major","Extreme"]
[null,null,"Manual Handling Push/Pull General",null,null,null,"Puncture wound",null,"Lower Arm",null,null,null,null,null,null,null,null,null,null,null,null,null,null,"Quality","Warning Mechanism",null,null,null,null,null,null,"Almost Certain","Major","Extreme"]
[null,null,"Medical Condition",null,null,null,"Respiratory Condition",null,"Lower Back",null,null,null,null,null,null,null,null,null,null,null,null,null,null,"Regulatory Compliance","Other",null,null,null,null,null,null,"Rare","Catastrophic","Moderate"]
[null,null,"Negligence",null,null,null,"Sensory Loss",null,"Lower Leg",null,null,null,null,null,null,null,null,null,null,null,null,null,null,"Reputation",null,null,null,null,null,null,null,"Unlikely","Catastrophic","High"]
[null,null,"Operator Error",null,null,null,"Sprains, Strains",null,"Mouth",null,null,null,null,null,null,null,null,null,null,null,null,null,null,"Service Growth",null,null,null,null,null,null,null,"Possible","Catastrophic","Extreme"]
[null,null,"Pest/Animal",null,null,null,"Superficial Injury",null,"Neck",null,null,null,null,null,null,null,null,null,null,null,null,null,null,"Strategic",null,null,null,null,null,null,null,"Likely","Catastrophic","Extreme"]
[null,null,"Plant Design",null,null,null,"Unspecified",null,"Nose",null,null,null,null,null,null,null,null,null,null,null,null,null,null,"System Integrity",null,null,null,null,null,null,null,"Almost Certain","Catastrophic","Extreme"]
[null,null,"Plant/Equipment Failure",null,null,null,"Other",null,"Scalp",null,null,null,null,null,null,null,null,null,null,null,null,null,null,"WHS Hazard"]
[null,null,"Plant/Equipment Use",null,null,null,null,null,"Shoulder",null,null,null,null,null,null,null,null,null,null,null,null,null,null,"Workforce/Skills/Resources"]
[null,null,"Plant Inspection",null,null,null,null,null,"Throat",null,null,null,null,null,null,null,null,null,null,null,null,null,null,"Other"]
[null,null,"Process Design",null,null,null,null,null,"Toe"]
[null,null,"Second Party Other",null,null,null,null,null,"Unspecified"]
[null,null,"Second Party Physical",null,null,null,null,null,"Upper Arm"]
[null,null,"Sharps",null,null,null,null,null,"Upper Back"]
[null,null,"Slip",null,null,null,null,null,"Upper Leg"]
[null,null,"Strain",null,null,null,null,null,"Wrist"]
[null,null,"Stress",null,null,null,null,null,"Other"]
[null,null,"Supervision"]
[null,null,"Surface Condition"]
[null,null,"Training"]
[null,null,"Trip"]
[null,null,"Weather"]
[null,null,"Other"]

{"sheet":"Hazard Register","index":1,"n_rows":96,"n_cols":16,"rows_kept":96,"cut":false,"hidden":false,"merged":[]}
[]
["ID","Hazard Agent","Substance","Critical Limits","Specification Source","Causes","Identified By","Risk Context","Likelihood","Consequence","Initial Risk","Hazard Control Measures","Likelihood","Consequence","Residual Risk","Last Review"]
["HAZ001",null,null,null,null,null,null,null,null,null,{"$f":"INDEX([3]Lists!$AH$3:$AH$27,MATCH(I3&J3,INDEX([3]Lists!$AF$3:$AF$27&[3]Lists!$AG$3:$AG$27,),0))","v":{"$error":"#N/A"}},null,null,null,{"$f":"INDEX(Lists!$AH$3:$AH$27,MATCH(M3&N3,INDEX(Lists!$AF$3:$AF$27&Lists!$AG$3:$AG$27,),0))","v":{"$error":"#N/A"}}]
["HAZ002",null,null,null,null,null,null,null,null,null,{"$f":"INDEX([3]Lists!$AH$3:$AH$27,MATCH(I4&J4,INDEX([3]Lists!$AF$3:$AF$27&[3]Lists!$AG$3:$AG$27,),0))","v":{"$error":"#N/A"}},null,null,null,{"$f":"INDEX(Lists!$AH$3:$AH$27,MATCH(M4&N4,INDEX(Lists!$AF$3:$AF$27&Lists!$AG$3:$AG$27,),0))","v":{"$error":"#N/A"}}]
["HAZ003",null,null,null,null,null,null,null,null,null,{"$f":"INDEX([3]Lists!$AH$3:$AH$27,MATCH(I5&J5,INDEX([3]Lists!$AF$3:$AF$27&[3]Lists!$AG$3:$AG$27,),0))","v":{"$error":"#N/A"}},null,null,null,{"$f":"INDEX(Lists!$AH$3:$AH$27,MATCH(M5&N5,INDEX(Lists!$AF$3:$AF$27&Lists!$AG$3:$AG$27,),0))","v":{"$error":"#N/A"}}]
["HAZ004",null,null,null,null,null,null,null,null,null,{"$f":"INDEX([3]Lists!$AH$3:$AH$27,MATCH(I6&J6,INDEX([3]Lists!$AF$3:$AF$27&[3]Lists!$AG$3:$AG$27,),0))","v":{"$error":"#N/A"}},null,null,null,{"$f":"INDEX(Lists!$AH$3:$AH$27,MATCH(M6&N6,INDEX(Lists!$AF$3:$AF$27&Lists!$AG$3:$AG$27,),0))","v":{"$error":"#N/A"}}]
["HAZ005",null,null,null,null,null,null,null,null,null,{"$f":"INDEX([3]Lists!$AH$3:$AH$27,MATCH(I7&J7,INDEX([3]Lists!$AF$3:$AF$27&[3]Lists!$AG$3:$AG$27,),0))","v":{"$error":"#N/A"}},null,null,null,{"$f":"INDEX(Lists!$AH$3:$AH$27,MATCH(M7&N7,INDEX(Lists!$AF$3:$AF$27&Lists!$AG$3:$AG$27,),0))","v":{"$error":"#N/A"}}]
["HAZ006",null,null,null,null,null,null,null,null,null,{"$f":"INDEX([3]Lists!$AH$3:$AH$27,MATCH(I8&J8,INDEX([3]Lists!$AF$3:$AF$27&[3]Lists!$AG$3:$AG$27,),0))","v":{"$error":"#N/A"}},null,null,null,{"$f":"INDEX(Lists!$AH$3:$AH$27,MATCH(M8&N8,INDEX(Lists!$AF$3:$AF$27&Lists!$AG$3:$AG$27,),0))","v":{"$error":"#N/A"}}]
["HAZ007",null,null,null,null,null,null,null,null,null,{"$f":"INDEX([3]Lists!$AH$3:$AH$27,MATCH(I9&J9,INDEX([3]Lists!$AF$3:$AF$27&[3]Lists!$AG$3:$AG$27,),0))","v":{"$error":"#N/A"}},null,null,null,{"$f":"INDEX(Lists!$AH$3:$AH$27,MATCH(M9&N9,INDEX(Lists!$AF$3:$AF$27&Lists!$AG$3:$AG$27,),0))","v":{"$error":"#N/A"}}]
["HAZ008",null,null,null,null,null,null,null,null,null,{"$f":"INDEX([3]Lists!$AH$3:$AH$27,MATCH(I10&J10,INDEX([3]Lists!$AF$3:$AF$27&[3]Lists!$AG$3:$AG$27,),0))","v":{"$error":"#N/A"}},null,null,null,{"$f":"INDEX(Lists!$AH$3:$AH$27,MATCH(M10&N10,INDEX(Lists!$AF$3:$AF$27&Lists!$AG$3:$AG$27,),0))","v":{"$error":"#N/A"}}]
["HAZ009",null,null,null,null,null,null,null,null,null,{"$f":"INDEX([3]Lists!$AH$3:$AH$27,MATCH(I11&J11,INDEX([3]Lists!$AF$3:$AF$27&[3]Lists!$AG$3:$AG$27,),0))","v":{"$error":"#N/A"}},null,null,null,{"$f":"INDEX(Lists!$AH$3:$AH$27,MATCH(M11&N11,INDEX(Lists!$AF$3:$AF$27&Lists!$AG$3:$AG$27,),0))","v":{"$error":"#N/A"}}]
["HAZ010",null,null,null,null,null,null,null,null,null,{"$f":"INDEX([3]Lists!$AH$3:$AH$27,MATCH(I12&J12,INDEX([3]Lists!$AF$3:$AF$27&[3]Lists!$AG$3:$AG$27,),0))","v":{"$error":"#N/A"}},null,null,null,{"$f":"INDEX(Lists!$AH$3:$AH$27,MATCH(M12&N12,INDEX(Lists!$AF$3:$AF$27&Lists!$AG$3:$AG$27,),0))","v":{"$error":"#N/A"}}]
["HAZ011",null,null,null,null,null,null,null,null,null,{"$f":"INDEX([3]Lists!$AH$3:$AH$27,MATCH(I13&J13,INDEX([3]Lists!$AF$3:$AF$27&[3]Lists!$AG$3:$AG$27,),0))","v":{"$error":"#N/A"}},null,null,null,{"$f":"INDEX(Lists!$AH$3:$AH$27,MATCH(M13&N13,INDEX(Lists!$AF$3:$AF$27&Lists!$AG$3:$AG$27,),0))","v":{"$error":"#N/A"}}]
["HAZ012",null,null,null,null,null,null,null,null,null,{"$f":"INDEX([3]Lists!$AH$3:$AH$27,MATCH(I14&J14,INDEX([3]Lists!$AF$3:$AF$27&[3]Lists!$AG$3:$AG$27,),0))","v":{"$error":"#N/A"}},null,null,null,{"$f":"INDEX(Lists!$AH$3:$AH$27,MATCH(M14&N14,INDEX(Lists!$AF$3:$AF$27&Lists!$AG$3:$AG$27,),0))","v":{"$error":"#N/A"}}]
["HAZ013",null,null,null,null,null,null,null,null,null,{"$f":"INDEX([3]Lists!$AH$3:$AH$27,MATCH(I15&J15,INDEX([3]Lists!$AF$3:$AF$27&[3]Lists!$AG$3:$AG$27,),0))","v":{"$error":"#N/A"}},null,null,null,{"$f":"INDEX(Lists!$AH$3:$AH$27,MATCH(M15&N15,INDEX(Lists!$AF$3:$AF$27&Lists!$AG$3:$AG$27,),0))","v":{"$error":"#N/A"}}]
["HAZ014",null,null,null,null,null,null,null,null,null,{"$f":"INDEX([3]Lists!$AH$3:$AH$27,MATCH(I16&J16,INDEX([3]Lists!$AF$3:$AF$27&[3]Lists!$AG$3:$AG$27,),0))","v":{"$error":"#N/A"}},null,null,null,{"$f":"INDEX(Lists!$AH$3:$AH$27,MATCH(M16&N16,INDEX(Lists!$AF$3:$AF$27&Lists!$AG$3:$AG$27,),0))","v":{"$error":"#N/A"}}]
["HAZ015",null,null,null,null,null,null,null,null,null,{"$f":"INDEX([3]Lists!$AH$3:$AH$27,MATCH(I17&J17,INDEX([3]Lists!$AF$3:$AF$27&[3]Lists!$AG$3:$AG$27,),0))","v":{"$error":"#N/A"}},null,null,null,{"$f":"INDEX(Lists!$AH$3:$AH$27,MATCH(M17&N17,INDEX(Lists!$AF$3:$AF$27&Lists!$AG$3:$AG$27,),0))","v":{"$error":"#N/A"}}]
["HAZ016",null,null,null,null,null,null,null,null,null,{"$f":"INDEX([3]Lists!$AH$3:$AH$27,MATCH(I18&J18,INDEX([3]Lists!$AF$3:$AF$27&[3]Lists!$AG$3:$AG$27,),0))","v":{"$error":"#N/A"}},null,null,null,{"$f":"INDEX(Lists!$AH$3:$AH$27,MATCH(M18&N18,INDEX(Lists!$AF$3:$AF$27&Lists!$AG$3:$AG$27,),0))","v":{"$error":"#N/A"}}]
["HAZ017",null,null,null,null,null,null,null,null,null,{"$f":"INDEX([3]Lists!$AH$3:$AH$27,MATCH(I19&J19,INDEX([3]Lists!$AF$3:$AF$27&[3]Lists!$AG$3:$AG$27,),0))","v":{"$error":"#N/A"}},null,null,null,{"$f":"INDEX(Lists!$AH$3:$AH$27,MATCH(M19&N19,INDEX(Lists!$AF$3:$AF$27&Lists!$AG$3:$AG$27,),0))","v":{"$error":"#N/A"}}]
["HAZ018",null,null,null,null,null,null,null,null,null,{"$f":"INDEX([3]Lists!$AH$3:$AH$27,MATCH(I20&J20,INDEX([3]Lists!$AF$3:$AF$27&[3]Lists!$AG$3:$AG$27,),0))","v":{"$error":"#N/A"}},null,null,null,{"$f":"INDEX(Lists!$AH$3:$AH$27,MATCH(M20&N20,INDEX(Lists!$AF$3:$AF$27&Lists!$AG$3:$AG$27,),0))","v":{"$error":"#N/A"}}]
["HAZ019",null,null,null,null,null,null,null,null,null,{"$f":"INDEX([3]Lists!$AH$3:$AH$27,MATCH(I21&J21,INDEX([3]Lists!$AF$3:$AF$27&[3]Lists!$AG$3:$AG$27,),0))","v":{"$error":"#N/A"}},null,null,null,{"$f":"INDEX(Lists!$AH$3:$AH$27,MATCH(M21&N21,INDEX(Lists!$AF$3:$AF$27&Lists!$AG$3:$AG$27,),0))","v":{"$error":"#N/A"}}]
["HAZ020",null,null,null,null,null,null,null,null,null,{"$f":"INDEX([3]Lists!$AH$3:$AH$27,MATCH(I22&J22,INDEX([3]Lists!$AF$3:$AF$27&[3]Lists!$AG$3:$AG$27,),0))","v":{"$error":"#N/A"}},null,null,null,{"$f":"INDEX(Lists!$AH$3:$AH$27,MATCH(M22&N22,INDEX(Lists!$AF$3:$AF$27&Lists!$AG$3:$AG$27,),0))","v":{"$error":"#N/A"}}]
["HAZ021",null,null,null,null,null,null,null,null,null,{"$f":"INDEX([3]Lists!$AH$3:$AH$27,MATCH(I23&J23,INDEX([3]Lists!$AF$3:$AF$27&[3]Lists!$AG$3:$AG$27,),0))","v":{"$error":"#N/A"}},null,null,null,{"$f":"INDEX(Lists!$AH$3:$AH$27,MATCH(M23&N23,INDEX(Lists!$AF$3:$AF$27&Lists!$AG$3:$AG$27,),0))","v":{"$error":"#N/A"}}]
["HAZ022",null,null,null,null,null,null,null,null,null,{"$f":"INDEX([3]Lists!$AH$3:$AH$27,MATCH(I24&J24,INDEX([3]Lists!$AF$3:$AF$27&[3]Lists!$AG$3:$AG$27,),0))","v":{"$error":"#N/A"}},null,null,null,{"$f":"INDEX(Lists!$AH$3:$AH$27,MATCH(M24&N24,INDEX(Lists!$AF$3:$AF$27&Lists!$AG$3:$AG$27,),0))","v":{"$error":"#N/A"}}]
["HAZ023",null,null,null,null,null,null,null,null,null,{"$f":"INDEX([3]Lists!$AH$3:$AH$27,MATCH(I25&J25,INDEX([3]Lists!$AF$3:$AF$27&[3]Lists!$AG$3:$AG$27,),0))","v":{"$error":"#N/A"}},null,null,null,{"$f":"INDEX(Lists!$AH$3:$AH$27,MATCH(M25&N25,INDEX(Lists!$AF$3:$AF$27&Lists!$AG$3:$AG$27,),0))","v":{"$error":"#N/A"}}]
["HAZ024",null,null,null,null,null,null,null,null,null,{"$f":"INDEX([3]Lists!$AH$3:$AH$27,MATCH(I26&J26,INDEX([3]Lists!$AF$3:$AF$27&[3]Lists!$AG$3:$AG$27,),0))","v":{"$error":"#N/A"}},null,null,null,{"$f":"INDEX(Lists!$AH$3:$AH$27,MATCH(M26&N26,INDEX(Lists!$AF$3:$AF$27&Lists!$AG$3:$AG$27,),0))","v":{"$error":"#N/A"}}]
["HAZ025",null,null,null,null,null,null,null,null,null,{"$f":"INDEX([3]Lists!$AH$3:$AH$27,MATCH(I27&J27,INDEX([3]Lists!$AF$3:$AF$27&[3]Lists!$AG$3:$AG$27,),0))","v":{"$error":"#N/A"}},null,null,null,{"$f":"INDEX(Lists!$AH$3:$AH$27,MATCH(M27&N27,INDEX(Lists!$AF$3:$AF$27&Lists!$AG$3:$AG$27,),0))","v":{"$error":"#N/A"}}]
["HAZ026",null,null,null,null,null,null,null,null,null,{"$f":"INDEX([3]Lists!$AH$3:$AH$27,MATCH(I28&J28,INDEX([3]Lists!$AF$3:$AF$27&[3]Lists!$AG$3:$AG$27,),0))","v":{"$error":"#N/A"}},null,null,null,{"$f":"INDEX(Lists!$AH$3:$AH$27,MATCH(M28&N28,INDEX(Lists!$AF$3:$AF$27&Lists!$AG$3:$AG$27,),0))","v":{"$error":"#N/A"}}]
["HAZ027",null,null,null,null,null,null,null,null,null,{"$f":"INDEX([3]Lists!$AH$3:$AH$27,MATCH(I29&J29,INDEX([3]Lists!$AF$3:$AF$27&[3]Lists!$AG$3:$AG$27,),0))","v":{"$error":"#N/A"}},null,null,null,{"$f":"INDEX(Lists!$AH$3:$AH$27,MATCH(M29&N29,INDEX(Lists!$AF$3:$AF$27&Lists!$AG$3:$AG$27,),0))","v":{"$error":"#N/A"}}]
["HAZ028",null,null,null,null,null,null,null,null,null,{"$f":"INDEX([3]Lists!$AH$3:$AH$27,MATCH(I30&J30,INDEX([3]Lists!$AF$3:$AF$27&[3]Lists!$AG$3:$AG$27,),0))","v":{"$error":"#N/A"}},null,null,null,{"$f":"INDEX(Lists!$AH$3:$AH$27,MATCH(M30&N30,INDEX(Lists!$AF$3:$AF$27&Lists!$AG$3:$AG$27,),0))","v":{"$error":"#N/A"}}]
["HAZ029",null,null,null,null,null,null,null,null,null,{"$f":"INDEX([3]Lists!$AH$3:$AH$27,MATCH(I31&J31,INDEX([3]Lists!$AF$3:$AF$27&[3]Lists!$AG$3:$AG$27,),0))","v":{"$error":"#N/A"}},null,null,null,{"$f":"INDEX(Lists!$AH$3:$AH$27,MATCH(M31&N31,INDEX(Lists!$AF$3:$AF$27&Lists!$AG$3:$AG$27,),0))","v":{"$error":"#N/A"}}]
["HAZ030",null,null,null,null,null,null,null,null,null,{"$f":"INDEX([3]Lists!$AH$3:$AH$27,MATCH(I32&J32,INDEX([3]Lists!$AF$3:$AF$27&[3]Lists!$AG$3:$AG$27,),0))","v":{"$error":"#N/A"}},null,null,null,{"$f":"INDEX(Lists!$AH$3:$AH$27,MATCH(M32&N32,INDEX(Lists!$AF$3:$AF$27&Lists!$AG$3:$AG$27,),0))","v":{"$error":"#N/A"}}]
["HAZ031",null,null,null,null,null,null,null,null,null,{"$f":"INDEX([3]Lists!$AH$3:$AH$27,MATCH(I33&J33,INDEX([3]Lists!$AF$3:$AF$27&[3]Lists!$AG$3:$AG$27,),0))","v":{"$error":"#N/A"}},null,null,null,{"$f":"INDEX(Lists!$AH$3:$AH$27,MATCH(M33&N33,INDEX(Lists!$AF$3:$AF$27&Lists!$AG$3:$AG$27,),0))","v":{"$error":"#N/A"}}]
["HAZ032",null,null,null,null,null,null,null,null,null,{"$f":"INDEX([3]Lists!$AH$3:$AH$27,MATCH(I34&J34,INDEX([3]Lists!$AF$3:$AF$27&[3]Lists!$AG$3:$AG$27,),0))","v":{"$error":"#N/A"}},null,null,null,{"$f":"INDEX(Lists!$AH$3:$AH$27,MATCH(M34&N34,INDEX(Lists!$AF$3:$AF$27&Lists!$AG$3:$AG$27,),0))","v":{"$error":"#N/A"}}]
["HAZ033",null,null,null,null,null,null,null,null,null,{"$f":"INDEX([3]Lists!$AH$3:$AH$27,MATCH(I35&J35,INDEX([3]Lists!$AF$3:$AF$27&[3]Lists!$AG$3:$AG$27,),0))","v":{"$error":"#N/A"}},null,null,null,{"$f":"INDEX(Lists!$AH$3:$AH$27,MATCH(M35&N35,INDEX(Lists!$AF$3:$AF$27&Lists!$AG$3:$AG$27,),0))","v":{"$error":"#N/A"}}]
["HAZ034",null,null,null,null,null,null,null,null,null,{"$f":"INDEX([3]Lists!$AH$3:$AH$27,MATCH(I36&J36,INDEX([3]Lists!$AF$3:$AF$27&[3]Lists!$AG$3:$AG$27,),0))","v":{"$error":"#N/A"}},null,null,null,{"$f":"INDEX(Lists!$AH$3:$AH$27,MATCH(M36&N36,INDEX(Lists!$AF$3:$AF$27&Lists!$AG$3:$AG$27,),0))","v":{"$error":"#N/A"}}]
["HAZ035",null,null,null,null,null,null,null,null,null,{"$f":"INDEX([3]Lists!$AH$3:$AH$27,MATCH(I37&J37,INDEX([3]Lists!$AF$3:$AF$27&[3]Lists!$AG$3:$AG$27,),0))","v":{"$error":"#N/A"}},null,null,null,{"$f":"INDEX(Lists!$AH$3:$AH$27,MATCH(M37&N37,INDEX(Lists!$AF$3:$AF$27&Lists!$AG$3:$AG$27,),0))","v":{"$error":"#N/A"}}]
["HAZ036",null,null,null,null,null,null,null,null,null,{"$f":"INDEX([3]Lists!$AH$3:$AH$27,MATCH(I38&J38,INDEX([3]Lists!$AF$3:$AF$27&[3]Lists!$AG$3:$AG$27,),0))","v":{"$error":"#N/A"}},null,null,null,{"$f":"INDEX(Lists!$AH$3:$AH$27,MATCH(M38&N38,INDEX(Lists!$AF$3:$AF$27&Lists!$AG$3:$AG$27,),0))","v":{"$error":"#N/A"}}]
["HAZ037",null,null,null,null,null,null,null,null,null,{"$f":"INDEX([3]Lists!$AH$3:$AH$27,MATCH(I39&J39,INDEX([3]Lists!$AF$3:$AF$27&[3]Lists!$AG$3:$AG$27,),0))","v":{"$error":"#N/A"}},null,null,null,{"$f":"INDEX(Lists!$AH$3:$AH$27,MATCH(M39&N39,INDEX(Lists!$AF$3:$AF$27&Lists!$AG$3:$AG$27,),0))","v":{"$error":"#N/A"}}]
["HAZ038",null,null,null,null,null,null,null,null,null,{"$f":"INDEX([3]Lists!$AH$3:$AH$27,MATCH(I40&J40,INDEX([3]Lists!$AF$3:$AF$27&[3]Lists!$AG$3:$AG$27,),0))","v":{"$error":"#N/A"}},null,null,null,{"$f":"INDEX(Lists!$AH$3:$AH$27,MATCH(M40&N40,INDEX(Lists!$AF$3:$AF$27&Lists!$AG$3:$AG$27,),0))","v":{"$error":"#N/A"}}]
["HAZ039",null,null,null,null,null,null,null,null,null,{"$f":"INDEX([3]Lists!$AH$3:$AH$27,MATCH(I41&J41,INDEX([3]Lists!$AF$3:$AF$27&[3]Lists!$AG$3:$AG$27,),0))","v":{"$error":"#N/A"}},null,null,null,{"$f":"INDEX(Lists!$AH$3:$AH$27,MATCH(M41&N41,INDEX(Lists!$AF$3:$AF$27&Lists!$AG$3:$AG$27,),0))","v":{"$error":"#N/A"}}]
["HAZ040",null,null,null,null,null,null,null,null,null,{"$f":"INDEX([3]Lists!$AH$3:$AH$27,MATCH(I42&J42,INDEX([3]Lists!$AF$3:$AF$27&[3]Lists!$AG$3:$AG$27,),0))","v":{"$error":"#N/A"}},null,null,null,{"$f":"INDEX(Lists!$AH$3:$AH$27,MATCH(M42&N42,INDEX(Lists!$AF$3:$AF$27&Lists!$AG$3:$AG$27,),0))","v":{"$error":"#N/A"}}]
["HAZ041",null,null,null,null,null,null,null,null,null,{"$f":"INDEX([3]Lists!$AH$3:$AH$27,MATCH(I43&J43,INDEX([3]Lists!$AF$3:$AF$27&[3]Lists!$AG$3:$AG$27,),0))","v":{"$error":"#N/A"}},null,null,null,{"$f":"INDEX(Lists!$AH$3:$AH$27,MATCH(M43&N43,INDEX(Lists!$AF$3:$AF$27&Lists!$AG$3:$AG$27,),0))","v":{"$error":"#N/A"}}]
["HAZ042",null,null,null,null,null,null,null,null,null,{"$f":"INDEX([3]Lists!$AH$3:$AH$27,MATCH(I44&J44,INDEX([3]Lists!$AF$3:$AF$27&[3]Lists!$AG$3:$AG$27,),0))","v":{"$error":"#N/A"}},null,null,null,{"$f":"INDEX(Lists!$AH$3:$AH$27,MATCH(M44&N44,INDEX(Lists!$AF$3:$AF$27&Lists!$AG$3:$AG$27,),0))","v":{"$error":"#N/A"}}]
["HAZ043",null,null,null,null,null,null,null,null,null,{"$f":"INDEX([3]Lists!$AH$3:$AH$27,MATCH(I45&J45,INDEX([3]Lists!$AF$3:$AF$27&[3]Lists!$AG$3:$AG$27,),0))","v":{"$error":"#N/A"}},null,null,null,{"$f":"INDEX(Lists!$AH$3:$AH$27,MATCH(M45&N45,INDEX(Lists!$AF$3:$AF$27&Lists!$AG$3:$AG$27,),0))","v":{"$error":"#N/A"}}]
["HAZ044",null,null,null,null,null,null,null,null,null,{"$f":"INDEX([3]Lists!$AH$3:$AH$27,MATCH(I46&J46,INDEX([3]Lists!$AF$3:$AF$27&[3]Lists!$AG$3:$AG$27,),0))","v":{"$error":"#N/A"}},null,null,null,{"$f":"INDEX(Lists!$AH$3:$AH$27,MATCH(M46&N46,INDEX(Lists!$AF$3:$AF$27&Lists!$AG$3:$AG$27,),0))","v":{"$error":"#N/A"}}]
["HAZ045",null,null,null,null,null,null,null,null,null,{"$f":"INDEX([3]Lists!$AH$3:$AH$27,MATCH(I47&J47,INDEX([3]Lists!$AF$3:$AF$27&[3]Lists!$AG$3:$AG$27,),0))","v":{"$error":"#N/A"}},null,null,null,{"$f":"INDEX(Lists!$AH$3:$AH$27,MATCH(M47&N47,INDEX(Lists!$AF$3:$AF$27&Lists!$AG$3:$AG$27,),0))","v":{"$error":"#N/A"}}]
["HAZ046",null,null,null,null,null,null,null,null,null,{"$f":"INDEX([3]Lists!$AH$3:$AH$27,MATCH(I48&J48,INDEX([3]Lists!$AF$3:$AF$27&[3]Lists!$AG$3:$AG$27,),0))","v":{"$error":"#N/A"}},null,null,null,{"$f":"INDEX(Lists!$AH$3:$AH$27,MATCH(M48&N48,INDEX(Lists!$AF$3:$AF$27&Lists!$AG$3:$AG$27,),0))","v":{"$error":"#N/A"}}]
["HAZ047",null,null,null,null,null,null,null,null,null,{"$f":"INDEX([3]Lists!$AH$3:$AH$27,MATCH(I49&J49,INDEX([3]Lists!$AF$3:$AF$27&[3]Lists!$AG$3:$AG$27,),0))","v":{"$error":"#N/A"}},null,null,null,{"$f":"INDEX(Lists!$AH$3:$AH$27,MATCH(M49&N49,INDEX(Lists!$AF$3:$AF$27&Lists!$AG$3:$AG$27,),0))","v":{"$error":"#N/A"}}]
["HAZ048",null,null,null,null,null,null,null,null,null,{"$f":"INDEX([3]Lists!$AH$3:$AH$27,MATCH(I50&J50,INDEX([3]Lists!$AF$3:$AF$27&[3]Lists!$AG$3:$AG$27,),0))","v":{"$error":"#N/A"}},null,null,null,{"$f":"INDEX(Lists!$AH$3:$AH$27,MATCH(M50&N50,INDEX(Lists!$AF$3:$AF$27&Lists!$AG$3:$AG$27,),0))","v":{"$error":"#N/A"}}]
["HAZ049",null,null,null,null,null,null,null,null,null,{"$f":"INDEX([3]Lists!$AH$3:$AH$27,MATCH(I51&J51,INDEX([3]Lists!$AF$3:$AF$27&[3]Lists!$AG$3:$AG$27,),0))","v":{"$error":"#N/A"}},null,null,null,{"$f":"INDEX(Lists!$AH$3:$AH$27,MATCH(M51&N51,INDEX(Lists!$AF$3:$AF$27&Lists!$AG$3:$AG$27,),0))","v":{"$error":"#N/A"}}]
["HAZ050",null,null,null,null,null,null,null,null,null,{"$f":"INDEX([3]Lists!$AH$3:$AH$27,MATCH(I52&J52,INDEX([3]Lists!$AF$3:$AF$27&[3]Lists!$AG$3:$AG$27,),0))","v":{"$error":"#N/A"}},null,null,null,{"$f":"INDEX(Lists!$AH$3:$AH$27,MATCH(M52&N52,INDEX(Lists!$AF$3:$AF$27&Lists!$AG$3:$AG$27,),0))","v":{"$error":"#N/A"}}]
["HAZ051",null,null,null,null,null,null,null,null,null,{"$f":"INDEX([3]Lists!$AH$3:$AH$27,MATCH(I53&J53,INDEX([3]Lists!$AF$3:$AF$27&[3]Lists!$AG$3:$AG$27,),0))","v":{"$error":"#N/A"}},null,null,null,{"$f":"INDEX(Lists!$AH$3:$AH$27,MATCH(M53&N53,INDEX(Lists!$AF$3:$AF$27&Lists!$AG$3:$AG$27,),0))","v":{"$error":"#N/A"}}]
["HAZ052",null,null,null,null,null,null,null,null,null,{"$f":"INDEX([3]Lists!$AH$3:$AH$27,MATCH(I54&J54,INDEX([3]Lists!$AF$3:$AF$27&[3]Lists!$AG$3:$AG$27,),0))","v":{"$error":"#N/A"}},null,null,null,{"$f":"INDEX(Lists!$AH$3:$AH$27,MATCH(M54&N54,INDEX(Lists!$AF$3:$AF$27&Lists!$AG$3:$AG$27,),0))","v":{"$error":"#N/A"}}]
["HAZ053",null,null,null,null,null,null,null,null,null,{"$f":"INDEX([3]Lists!$AH$3:$AH$27,MATCH(I55&J55,INDEX([3]Lists!$AF$3:$AF$27&[3]Lists!$AG$3:$AG$27,),0))","v":{"$error":"#N/A"}},null,null,null,{"$f":"INDEX(Lists!$AH$3:$AH$27,MATCH(M55&N55,INDEX(Lists!$AF$3:$AF$27&Lists!$AG$3:$AG$27,),0))","v":{"$error":"#N/A"}}]
["HAZ054",null,null,null,null,null,null,null,null,null,{"$f":"INDEX([3]Lists!$AH$3:$AH$27,MATCH(I56&J56,INDEX([3]Lists!$AF$3:$AF$27&[3]Lists!$AG$3:$AG$27,),0))","v":{"$error":"#N/A"}},null,null,null,{"$f":"INDEX(Lists!$AH$3:$AH$27,MATCH(M56&N56,INDEX(Lists!$AF$3:$AF$27&Lists!$AG$3:$AG$27,),0))","v":{"$error":"#N/A"}}]
["HAZ055",null,null,null,null,null,null,null,null,null,{"$f":"INDEX([3]Lists!$AH$3:$AH$27,MATCH(I57&J57,INDEX([3]Lists!$AF$3:$AF$27&[3]Lists!$AG$3:$AG$27,),0))","v":{"$error":"#N/A"}},null,null,null,{"$f":"INDEX(Lists!$AH$3:$AH$27,MATCH(M57&N57,INDEX(Lists!$AF$3:$AF$27&Lists!$AG$3:$AG$27,),0))","v":{"$error":"#N/A"}}]
["HAZ056",null,null,null,null,null,null,null,null,null,{"$f":"INDEX([3]Lists!$AH$3:$AH$27,MATCH(I58&J58,INDEX([3]Lists!$AF$3:$AF$27&[3]Lists!$AG$3:$AG$27,),0))","v":{"$error":"#N/A"}},null,null,null,{"$f":"INDEX(Lists!$AH$3:$AH$27,MATCH(M58&N58,INDEX(Lists!$AF$3:$AF$27&Lists!$AG$3:$AG$27,),0))","v":{"$error":"#N/A"}}]
["HAZ057",null,null,null,null,null,null,null,null,null,{"$f":"INDEX([3]Lists!$AH$3:$AH$27,MATCH(I59&J59,INDEX([3]Lists!$AF$3:$AF$27&[3]Lists!$AG$3:$AG$27,),0))","v":{"$error":"#N/A"}},null,null,null,{"$f":"INDEX(Lists!$AH$3:$AH$27,MATCH(M59&N59,INDEX(Lists!$AF$3:$AF$27&Lists!$AG$3:$AG$27,),0))","v":{"$error":"#N/A"}}]
["HAZ058",null,null,null,null,null,null,null,null,null,{"$f":"INDEX([3]Lists!$AH$3:$AH$27,MATCH(I60&J60,INDEX([3]Lists!$AF$3:$AF$27&[3]Lists!$AG$3:$AG$27,),0))","v":{"$error":"#N/A"}},null,null,null,{"$f":"INDEX(Lists!$AH$3:$AH$27,MATCH(M60&N60,INDEX(Lists!$AF$3:$AF$27&Lists!$AG$3:$AG$27,),0))","v":{"$error":"#N/A"}}]
["HAZ059",null,null,null,null,null,null,null,null,null,{"$f":"INDEX([3]Lists!$AH$3:$AH$27,MATCH(I61&J61,INDEX([3]Lists!$AF$3:$AF$27&[3]Lists!$AG$3:$AG$27,),0))","v":{"$error":"#N/A"}},null,null,null,{"$f":"INDEX(Lists!$AH$3:$AH$27,MATCH(M61&N61,INDEX(Lists!$AF$3:$AF$27&Lists!$AG$3:$AG$27,),0))","v":{"$error":"#N/A"}}]
["HAZ060",null,null,null,null,null,null,null,null,null,{"$f":"INDEX([3]Lists!$AH$3:$AH$27,MATCH(I62&J62,INDEX([3]Lists!$AF$3:$AF$27&[3]Lists!$AG$3:$AG$27,),0))","v":{"$error":"#N/A"}},null,null,null,{"$f":"INDEX(Lists!$AH$3:$AH$27,MATCH(M62&N62,INDEX(Lists!$AF$3:$AF$27&Lists!$AG$3:$AG$27,),0))","v":{"$error":"#N/A"}}]
["HAZ061",null,null,null,null,null,null,null,null,null,{"$f":"INDEX([3]Lists!$AH$3:$AH$27,MATCH(I63&J63,INDEX([3]Lists!$AF$3:$AF$27&[3]Lists!$AG$3:$AG$27,),0))","v":{"$error":"#N/A"}},null,null,null,{"$f":"INDEX(Lists!$AH$3:$AH$27,MATCH(M63&N63,INDEX(Lists!$AF$3:$AF$27&Lists!$AG$3:$AG$27,),0))","v":{"$error":"#N/A"}}]
["HAZ062",null,null,null,null,null,null,null,null,null,{"$f":"INDEX([3]Lists!$AH$3:$AH$27,MATCH(I64&J64,INDEX([3]Lists!$AF$3:$AF$27&[3]Lists!$AG$3:$AG$27,),0))","v":{"$error":"#N/A"}},null,null,null,{"$f":"INDEX(Lists!$AH$3:$AH$27,MATCH(M64&N64,INDEX(Lists!$AF$3:$AF$27&Lists!$AG$3:$AG$27,),0))","v":{"$error":"#N/A"}}]
["HAZ063",null,null,null,null,null,null,null,null,null,{"$f":"INDEX([3]Lists!$AH$3:$AH$27,MATCH(I65&J65,INDEX([3]Lists!$AF$3:$AF$27&[3]Lists!$AG$3:$AG$27,),0))","v":{"$error":"#N/A"}},null,null,null,{"$f":"INDEX(Lists!$AH$3:$AH$27,MATCH(M65&N65,INDEX(Lists!$AF$3:$AF$27&Lists!$AG$3:$AG$27,),0))","v":{"$error":"#N/A"}}]
["HAZ064",null,null,null,null,null,null,null,null,null,{"$f":"INDEX([3]Lists!$AH$3:$AH$27,MATCH(I66&J66,INDEX([3]Lists!$AF$3:$AF$27&[3]Lists!$AG$3:$AG$27,),0))","v":{"$error":"#N/A"}},null,null,null,{"$f":"INDEX(Lists!$AH$3:$AH$27,MATCH(M66&N66,INDEX(Lists!$AF$3:$AF$27&Lists!$AG$3:$AG$27,),0))","v":{"$error":"#N/A"}}]
["HAZ065",null,null,null,null,null,null,null,null,null,{"$f":"INDEX([3]Lists!$AH$3:$AH$27,MATCH(I67&J67,INDEX([3]Lists!$AF$3:$AF$27&[3]Lists!$AG$3:$AG$27,),0))","v":{"$error":"#N/A"}},null,null,null,{"$f":"INDEX(Lists!$AH$3:$AH$27,MATCH(M67&N67,INDEX(Lists!$AF$3:$AF$27&Lists!$AG$3:$AG$27,),0))","v":{"$error":"#N/A"}}]
["HAZ066",null,null,null,null,null,null,null,null,null,{"$f":"INDEX([3]Lists!$AH$3:$AH$27,MATCH(I68&J68,INDEX([3]Lists!$AF$3:$AF$27&[3]Lists!$AG$3:$AG$27,),0))","v":{"$error":"#N/A"}},null,null,null,{"$f":"INDEX(Lists!$AH$3:$AH$27,MATCH(M68&N68,INDEX(Lists!$AF$3:$AF$27&Lists!$AG$3:$AG$27,),0))","v":{"$error":"#N/A"}}]
["HAZ067",null,null,null,null,null,null,null,null,null,{"$f":"INDEX([3]Lists!$AH$3:$AH$27,MATCH(I69&J69,INDEX([3]Lists!$AF$3:$AF$27&[3]Lists!$AG$3:$AG$27,),0))","v":{"$error":"#N/A"}},null,null,null,{"$f":"INDEX(Lists!$AH$3:$AH$27,MATCH(M69&N69,INDEX(Lists!$AF$3:$AF$27&Lists!$AG$3:$AG$27,),0))","v":{"$error":"#N/A"}}]
["HAZ068",null,null,null,null,null,null,null,null,null,{"$f":"INDEX([3]Lists!$AH$3:$AH$27,MATCH(I70&J70,INDEX([3]Lists!$AF$3:$AF$27&[3]Lists!$AG$3:$AG$27,),0))","v":{"$error":"#N/A"}},null,null,null,{"$f":"INDEX(Lists!$AH$3:$AH$27,MATCH(M70&N70,INDEX(Lists!$AF$3:$AF$27&Lists!$AG$3:$AG$27,),0))","v":{"$error":"#N/A"}}]
["HAZ069",null,null,null,null,null,null,null,null,null,{"$f":"INDEX([3]Lists!$AH$3:$AH$27,MATCH(I71&J71,INDEX([3]Lists!$AF$3:$AF$27&[3]Lists!$AG$3:$AG$27,),0))","v":{"$error":"#N/A"}},null,null,null,{"$f":"INDEX(Lists!$AH$3:$AH$27,MATCH(M71&N71,INDEX(Lists!$AF$3:$AF$27&Lists!$AG$3:$AG$27,),0))","v":{"$error":"#N/A"}}]
["HAZ070",null,null,null,null,null,null,null,null,null,{"$f":"INDEX([3]Lists!$AH$3:$AH$27,MATCH(I72&J72,INDEX([3]Lists!$AF$3:$AF$27&[3]Lists!$AG$3:$AG$27,),0))","v":{"$error":"#N/A"}},null,null,null,{"$f":"INDEX(Lists!$AH$3:$AH$27,MATCH(M72&N72,INDEX(Lists!$AF$3:$AF$27&Lists!$AG$3:$AG$27,),0))","v":{"$error":"#N/A"}}]
["HAZ071",null,null,null,null,null,null,null,null,null,{"$f":"INDEX([3]Lists!$AH$3:$AH$27,MATCH(I73&J73,INDEX([3]Lists!$AF$3:$AF$27&[3]Lists!$AG$3:$AG$27,),0))","v":{"$error":"#N/A"}},null,null,null,{"$f":"INDEX(Lists!$AH$3:$AH$27,MATCH(M73&N73,INDEX(Lists!$AF$3:$AF$27&Lists!$AG$3:$AG$27,),0))","v":{"$error":"#N/A"}}]
["HAZ072",null,null,null,null,null,null,null,null,null,{"$f":"INDEX([3]Lists!$AH$3:$AH$27,MATCH(I74&J74,INDEX([3]Lists!$AF$3:$AF$27&[3]Lists!$AG$3:$AG$27,),0))","v":{"$error":"#N/A"}},null,null,null,{"$f":"INDEX(Lists!$AH$3:$AH$27,MATCH(M74&N74,INDEX(Lists!$AF$3:$AF$27&Lists!$AG$3:$AG$27,),0))","v":{"$error":"#N/A"}}]
["HAZ073",null,null,null,null,null,null,null,null,null,{"$f":"INDEX([3]Lists!$AH$3:$AH$27,MATCH(I75&J75,INDEX([3]Lists!$AF$3:$AF$27&[3]Lists!$AG$3:$AG$27,),0))","v":{"$error":"#N/A"}},null,null,null,{"$f":"INDEX(Lists!$AH$3:$AH$27,MATCH(M75&N75,INDEX(Lists!$AF$3:$AF$27&Lists!$AG$3:$AG$27,),0))","v":{"$error":"#N/A"}}]
["HAZ074",null,null,null,null,null,null,null,null,null,{"$f":"INDEX([3]Lists!$AH$3:$AH$27,MATCH(I76&J76,INDEX([3]Lists!$AF$3:$AF$27&[3]Lists!$AG$3:$AG$27,),0))","v":{"$error":"#N/A"}},null,null,null,{"$f":"INDEX(Lists!$AH$3:$AH$27,MATCH(M76&N76,INDEX(Lists!$AF$3:$AF$27&Lists!$AG$3:$AG$27,),0))","v":{"$error":"#N/A"}}]
["HAZ075",null,null,null,null,null,null,null,null,null,{"$f":"INDEX([3]Lists!$AH$3:$AH$27,MATCH(I77&J77,INDEX([3]Lists!$AF$3:$AF$27&[3]Lists!$AG$3:$AG$27,),0))","v":{"$error":"#N/A"}},null,null,null,{"$f":"INDEX(Lists!$AH$3:$AH$27,MATCH(M77&N77,INDEX(Lists!$AF$3:$AF$27&Lists!$AG$3:$AG$27,),0))","v":{"$error":"#N/A"}}]
["HAZ076",null,null,null,null,null,null,null,null,null,{"$f":"INDEX([3]Lists!$AH$3:$AH$27,MATCH(I78&J78,INDEX([3]Lists!$AF$3:$AF$27&[3]Lists!$AG$3:$AG$27,),0))","v":{"$error":"#N/A"}},null,null,null,{"$f":"INDEX(Lists!$AH$3:$AH$27,MATCH(M78&N78,INDEX(Lists!$AF$3:$AF$27&Lists!$AG$3:$AG$27,),0))","v":{"$error":"#N/A"}}]
["HAZ077",null,null,null,null,null,null,null,null,null,{"$f":"INDEX(Lists!$AH$3:$AH$27,MATCH(I79&J79,INDEX(Lists!$AF$3:$AF$27&Lists!$AG$3:$AG$27,),0))","v":{"$error":"#N/A"}},null,null,null,{"$f":"INDEX(Lists!$AH$3:$AH$27,MATCH(M79&N79,INDEX(Lists!$AF$3:$AF$27&Lists!$AG$3:$AG$27,),0))","v":{"$error":"#N/A"}}]
["HAZ078",null,null,null,null,null,null,null,null,null,{"$f":"INDEX(Lists!$AH$3:$AH$27,MATCH(I80&J80,INDEX(Lists!$AF$3:$AF$27&Lists!$AG$3:$AG$27,),0))","v":{"$error":"#N/A"}},null,null,null,{"$f":"INDEX(Lists!$AH$3:$AH$27,MATCH(M80&N80,INDEX(Lists!$AF$3:$AF$27&Lists!$AG$3:$AG$27,),0))","v":{"$error":"#N/A"}}]
["HAZ079",null,null,null,null,null,null,null,null,null,{"$f":"INDEX(Lists!$AH$3:$AH$27,MATCH(I81&J81,INDEX(Lists!$AF$3:$AF$27&Lists!$AG$3:$AG$27,),0))","v":{"$error":"#N/A"}},null,null,null,{"$f":"INDEX(Lists!$AH$3:$AH$27,MATCH(M81&N81,INDEX(Lists!$AF$3:$AF$27&Lists!$AG$3:$AG$27,),0))","v":{"$error":"#N/A"}}]
["HAZ080",null,null,null,null,null,null,null,null,null,{"$f":"INDEX(Lists!$AH$3:$AH$27,MATCH(I82&J82,INDEX(Lists!$AF$3:$AF$27&Lists!$AG$3:$AG$27,),0))","v":{"$error":"#N/A"}},null,null,null,{"$f":"INDEX(Lists!$AH$3:$AH$27,MATCH(M82&N82,INDEX(Lists!$AF$3:$AF$27&Lists!$AG$3:$AG$27,),0))","v":{"$error":"#N/A"}}]
["HAZ081",null,null,null,null,null,null,null,null,null,{"$f":"INDEX(Lists!$AH$3:$AH$27,MATCH(I83&J83,INDEX(Lists!$AF$3:$AF$27&Lists!$AG$3:$AG$27,),0))","v":{"$error":"#N/A"}},null,null,null,{"$f":"INDEX(Lists!$AH$3:$AH$27,MATCH(M83&N83,INDEX(Lists!$AF$3:$AF$27&Lists!$AG$3:$AG$27,),0))","v":{"$error":"#N/A"}}]
["HAZ082",null,null,null,null,null,null,null,null,null,{"$f":"INDEX(Lists!$AH$3:$AH$27,MATCH(I84&J84,INDEX(Lists!$AF$3:$AF$27&Lists!$AG$3:$AG$27,),0))","v":{"$error":"#N/A"}},null,null,null,{"$f":"INDEX(Lists!$AH$3:$AH$27,MATCH(M84&N84,INDEX(Lists!$AF$3:$AF$27&Lists!$AG$3:$AG$27,),0))","v":{"$error":"#N/A"}}]
["HAZ083",null,null,null,null,null,null,null,null,null,{"$f":"INDEX(Lists!$AH$3:$AH$27,MATCH(I85&J85,INDEX(Lists!$AF$3:$AF$27&Lists!$AG$3:$AG$27,),0))","v":{"$error":"#N/A"}},null,null,null,{"$f":"INDEX(Lists!$AH$3:$AH$27,MATCH(M85&N85,INDEX(Lists!$AF$3:$AF$27&Lists!$AG$3:$AG$27,),0))","v":{"$error":"#N/A"}}]
["HAZ084",null,null,null,null,null,null,null,null,null,{"$f":"INDEX(Lists!$AH$3:$AH$27,MATCH(I86&J86,INDEX(Lists!$AF$3:$AF$27&Lists!$AG$3:$AG$27,),0))","v":{"$error":"#N/A"}},null,null,null,{"$f":"INDEX(Lists!$AH$3:$AH$27,MATCH(M86&N86,INDEX(Lists!$AF$3:$AF$27&Lists!$AG$3:$AG$27,),0))","v":{"$error":"#N/A"}}]
["HAZ085",null,null,null,null,null,null,null,null,null,{"$f":"INDEX(Lists!$AH$3:$AH$27,MATCH(I87&J87,INDEX(Lists!$AF$3:$AF$27&Lists!$AG$3:$AG$27,),0))","v":{"$error":"#N/A"}},null,null,null,{"$f":"INDEX(Lists!$AH$3:$AH$27,MATCH(M87&N87,INDEX(Lists!$AF$3:$AF$27&Lists!$AG$3:$AG$27,),0))","v":{"$error":"#N/A"}}]
["HAZ086",null,null,null,null,null,null,null,null,null,{"$f":"INDEX(Lists!$AH$3:$AH$27,MATCH(I88&J88,INDEX(Lists!$AF$3:$AF$27&Lists!$AG$3:$AG$27,),0))","v":{"$error":"#N/A"}},null,null,null,{"$f":"INDEX(Lists!$AH$3:$AH$27,MATCH(M88&N88,INDEX(Lists!$AF$3:$AF$27&Lists!$AG$3:$AG$27,),0))","v":{"$error":"#N/A"}}]
["HAZ087",null,null,null,null,null,null,null,null,null,{"$f":"INDEX(Lists!$AH$3:$AH$27,MATCH(I89&J89,INDEX(Lists!$AF$3:$AF$27&Lists!$AG$3:$AG$27,),0))","v":{"$error":"#N/A"}},null,null,null,{"$f":"INDEX(Lists!$AH$3:$AH$27,MATCH(M89&N89,INDEX(Lists!$AF$3:$AF$27&Lists!$AG$3:$AG$27,),0))","v":{"$error":"#N/A"}}]
["HAZ088",null,null,null,null,null,null,null,null,null,{"$f":"INDEX(Lists!$AH$3:$AH$27,MATCH(I90&J90,INDEX(Lists!$AF$3:$AF$27&Lists!$AG$3:$AG$27,),0))","v":{"$error":"#N/A"}},null,null,null,{"$f":"INDEX(Lists!$AH$3:$AH$27,MATCH(M90&N90,INDEX(Lists!$AF$3:$AF$27&Lists!$AG$3:$AG$27,),0))","v":{"$error":"#N/A"}}]
["HAZ089",null,null,null,null,null,null,null,null,null,{"$f":"INDEX(Lists!$AH$3:$AH$27,MATCH(I91&J91,INDEX(Lists!$AF$3:$AF$27&Lists!$AG$3:$AG$27,),0))","v":{"$error":"#N/A"}},null,null,null,{"$f":"INDEX(Lists!$AH$3:$AH$27,MATCH(M91&N91,INDEX(Lists!$AF$3:$AF$27&Lists!$AG$3:$AG$27,),0))","v":{"$error":"#N/A"}}]
["HAZ090",null,null,null,null,null,null,null,null,null,{"$f":"INDEX(Lists!$AH$3:$AH$27,MATCH(I92&J92,INDEX(Lists!$AF$3:$AF$27&Lists!$AG$3:$AG$27,),0))","v":{"$error":"#N/A"}},null,null,null,{"$f":"INDEX(Lists!$AH$3:$AH$27,MATCH(M92&N92,INDEX(Lists!$AF$3:$AF$27&Lists!$AG$3:$AG$27,),0))","v":{"$error":"#N/A"}}]
["HAZ091",null,null,null,null,null,null,null,null,null,{"$f":"INDEX(Lists!$AH$3:$AH$27,MATCH(I93&J93,INDEX(Lists!$AF$3:$AF$27&Lists!$AG$3:$AG$27,),0))","v":{"$error":"#N/A"}},null,null,null,{"$f":"INDEX(Lists!$AH$3:$AH$27,MATCH(M93&N93,INDEX(Lists!$AF$3:$AF$27&Lists!$AG$3:$AG$27,),0))","v":{"$error":"#N/A"}}]
["HAZ092",null,null,null,null,null,null,null,null,null,{"$f":"INDEX(Lists!$AH$3:$AH$27,MATCH(I94&J94,INDEX(Lists!$AF$3:$AF$27&Lists!$AG$3:$AG$27,),0))","v":{"$error":"#N/A"}},null,null,null,{"$f":"INDEX(Lists!$AH$3:$AH$27,MATCH(M94&N94,INDEX(Lists!$AF$3:$AF$27&Lists!$AG$3:$AG$27,),0))","v":{"$error":"#N/A"}}]
["HAZ093",null,null,null,null,null,null,null,null,null,{"$f":"INDEX(Lists!$AH$3:$AH$27,MATCH(I95&J95,INDEX(Lists!$AF$3:$AF$27&Lists!$AG$3:$AG$27,),0))","v":{"$error":"#N/A"}},null,null,null,{"$f":"INDEX(Lists!$AH$3:$AH$27,MATCH(M95&N95,INDEX(Lists!$AF$3:$AF$27&Lists!$AG$3:$AG$27,),0))","v":{"$error":"#N/A"}}]
["HAZ094"," *insert row and format*",null,null,null,null,null,null,null,null,{"$f":"INDEX(Lists!$AH$3:$AH$27,MATCH(I96&J96,INDEX(Lists!$AF$3:$AF$27&Lists!$AG$3:$AG$27,),0))","v":{"$error":"#N/A"}},null,null,null,{"$f":"INDEX(Lists!$AH$3:$AH$27,MATCH(M96&N96,INDEX(Lists!$AF$3:$AF$27&Lists!$AG$3:$AG$27,),0))","v":{"$error":"#N/A"}}]

{"sheet":"Substances Register","index":2,"n_rows":96,"n_cols":18,"rows_kept":96,"cut":false,"hidden":false,"merged":[]}
[]
["ID","Substance Name","SDS Date","Dangerous Goods","Hazardous","Critical Limits","Specification Source","Storage","Substance Uses","Risk Context","Likelihood","Consequence","Initial Risk","Risk Control Measures","Likelihood","Consequence","Residual Risk","Last Review"]
["SUB001",null,null,null,null,null,null,null,null,null,null,null,{"$f":"INDEX(Lists!$AH$3:$AH$27,MATCH(K3&L3,INDEX(Lists!$AF$3:$AF$27&Lists!$AG$3:$AG$27,),0))","v":{"$error":"#N/A"}},null,null,null,{"$f":"INDEX(Lists!$AH$3:$AH$27,MATCH(O3&P3,INDEX(Lists!$AF$3:$AF$27&Lists!$AG$3:$AG$27,),0))","v":{"$error":"#N/A"}}]
["SUB002",null,null,null,null,null,null,null,null,null,null,null,{"$f":"INDEX(Lists!$AH$3:$AH$27,MATCH(K4&L4,INDEX(Lists!$AF$3:$AF$27&Lists!$AG$3:$AG$27,),0))","v":{"$error":"#N/A"}},null,null,null,{"$f":"INDEX(Lists!$AH$3:$AH$27,MATCH(O4&P4,INDEX(Lists!$AF$3:$AF$27&Lists!$AG$3:$AG$27,),0))","v":{"$error":"#N/A"}}]
["SUB003",null,null,null,null,null,null,null,null,null,null,null,{"$f":"INDEX(Lists!$AH$3:$AH$27,MATCH(K5&L5,INDEX(Lists!$AF$3:$AF$27&Lists!$AG$3:$AG$27,),0))","v":{"$error":"#N/A"}},null,null,null,{"$f":"INDEX(Lists!$AH$3:$AH$27,MATCH(O5&P5,INDEX(Lists!$AF$3:$AF$27&Lists!$AG$3:$AG$27,),0))","v":{"$error":"#N/A"}}]
["SUB004",null,null,null,null,null,null,null,null,null,null,null,{"$f":"INDEX(Lists!$AH$3:$AH$27,MATCH(K6&L6,INDEX(Lists!$AF$3:$AF$27&Lists!$AG$3:$AG$27,),0))","v":{"$error":"#N/A"}},null,null,null,{"$f":"INDEX(Lists!$AH$3:$AH$27,MATCH(O6&P6,INDEX(Lists!$AF$3:$AF$27&Lists!$AG$3:$AG$27,),0))","v":{"$error":"#N/A"}}]
["SUB005",null,null,null,null,null,null,null,null,null,null,null,{"$f":"INDEX(Lists!$AH$3:$AH$27,MATCH(K7&L7,INDEX(Lists!$AF$3:$AF$27&Lists!$AG$3:$AG$27,),0))","v":{"$error":"#N/A"}},null,null,null,{"$f":"INDEX(Lists!$AH$3:$AH$27,MATCH(O7&P7,INDEX(Lists!$AF$3:$AF$27&Lists!$AG$3:$AG$27,),0))","v":{"$error":"#N/A"}}]
["SUB006",null,null,null,null,null,null,null,null,null,null,null,{"$f":"INDEX(Lists!$AH$3:$AH$27,MATCH(K8&L8,INDEX(Lists!$AF$3:$AF$27&Lists!$AG$3:$AG$27,),0))","v":{"$error":"#N/A"}},null,null,null,{"$f":"INDEX(Lists!$AH$3:$AH$27,MATCH(O8&P8,INDEX(Lists!$AF$3:$AF$27&Lists!$AG$3:$AG$27,),0))","v":{"$error":"#N/A"}}]
["SUB007",null,null,null,null,null,null,null,null,null,null,null,{"$f":"INDEX(Lists!$AH$3:$AH$27,MATCH(K9&L9,INDEX(Lists!$AF$3:$AF$27&Lists!$AG$3:$AG$27,),0))","v":{"$error":"#N/A"}},null,null,null,{"$f":"INDEX(Lists!$AH$3:$AH$27,MATCH(O9&P9,INDEX(Lists!$AF$3:$AF$27&Lists!$AG$3:$AG$27,),0))","v":{"$error":"#N/A"}}]
["SUB008",null,null,null,null,null,null,null,null,null,null,null,{"$f":"INDEX(Lists!$AH$3:$AH$27,MATCH(K10&L10,INDEX(Lists!$AF$3:$AF$27&Lists!$AG$3:$AG$27,),0))","v":{"$error":"#N/A"}},null,null,null,{"$f":"INDEX(Lists!$AH$3:$AH$27,MATCH(O10&P10,INDEX(Lists!$AF$3:$AF$27&Lists!$AG$3:$AG$27,),0))","v":{"$error":"#N/A"}}]
["SUB009",null,null,null,null,null,null,null,null,null,null,null,{"$f":"INDEX(Lists!$AH$3:$AH$27,MATCH(K11&L11,INDEX(Lists!$AF$3:$AF$27&Lists!$AG$3:$AG$27,),0))","v":{"$error":"#N/A"}},null,null,null,{"$f":"INDEX(Lists!$AH$3:$AH$27,MATCH(O11&P11,INDEX(Lists!$AF$3:$AF$27&Lists!$AG$3:$AG$27,),0))","v":{"$error":"#N/A"}}]
["SUB010",null,null,null,null,null,null,null,null,null,null,null,{"$f":"INDEX(Lists!$AH$3:$AH$27,MATCH(K12&L12,INDEX(Lists!$AF$3:$AF$27&Lists!$AG$3:$AG$27,),0))","v":{"$error":"#N/A"}},null,null,null,{"$f":"INDEX(Lists!$AH$3:$AH$27,MATCH(O12&P12,INDEX(Lists!$AF$3:$AF$27&Lists!$AG$3:$AG$27,),0))","v":{"$error":"#N/A"}}]
["SUB011",null,null,null,null,null,null,null,null,null,null,null,{"$f":"INDEX(Lists!$AH$3:$AH$27,MATCH(K13&L13,INDEX(Lists!$AF$3:$AF$27&Lists!$AG$3:$AG$27,),0))","v":{"$error":"#N/A"}},null,null,null,{"$f":"INDEX(Lists!$AH$3:$AH$27,MATCH(O13&P13,INDEX(Lists!$AF$3:$AF$27&Lists!$AG$3:$AG$27,),0))","v":{"$error":"#N/A"}}]
["SUB012",null,null,null,null,null,null,null,null,null,null,null,{"$f":"INDEX(Lists!$AH$3:$AH$27,MATCH(K14&L14,INDEX(Lists!$AF$3:$AF$27&Lists!$AG$3:$AG$27,),0))","v":{"$error":"#N/A"}},null,null,null,{"$f":"INDEX(Lists!$AH$3:$AH$27,MATCH(O14&P14,INDEX(Lists!$AF$3:$AF$27&Lists!$AG$3:$AG$27,),0))","v":{"$error":"#N/A"}}]
["SUB013",null,null,null,null,null,null,null,null,null,null,null,{"$f":"INDEX(Lists!$AH$3:$AH$27,MATCH(K15&L15,INDEX(Lists!$AF$3:$AF$27&Lists!$AG$3:$AG$27,),0))","v":{"$error":"#N/A"}},null,null,null,{"$f":"INDEX(Lists!$AH$3:$AH$27,MATCH(O15&P15,INDEX(Lists!$AF$3:$AF$27&Lists!$AG$3:$AG$27,),0))","v":{"$error":"#N/A"}}]
["SUB014",null,null,null,null,null,null,null,null,null,null,null,{"$f":"INDEX(Lists!$AH$3:$AH$27,MATCH(K16&L16,INDEX(Lists!$AF$3:$AF$27&Lists!$AG$3:$AG$27,),0))","v":{"$error":"#N/A"}},null,null,null,{"$f":"INDEX(Lists!$AH$3:$AH$27,MATCH(O16&P16,INDEX(Lists!$AF$3:$AF$27&Lists!$AG$3:$AG$27,),0))","v":{"$error":"#N/A"}}]
["SUB015",null,null,null,null,null,null,null,null,null,null,null,{"$f":"INDEX(Lists!$AH$3:$AH$27,MATCH(K17&L17,INDEX(Lists!$AF$3:$AF$27&Lists!$AG$3:$AG$27,),0))","v":{"$error":"#N/A"}},null,null,null,{"$f":"INDEX(Lists!$AH$3:$AH$27,MATCH(O17&P17,INDEX(Lists!$AF$3:$AF$27&Lists!$AG$3:$AG$27,),0))","v":{"$error":"#N/A"}}]
["SUB016",null,null,null,null,null,null,null,null,null,null,null,{"$f":"INDEX(Lists!$AH$3:$AH$27,MATCH(K18&L18,INDEX(Lists!$AF$3:$AF$27&Lists!$AG$3:$AG$27,),0))","v":{"$error":"#N/A"}},null,null,null,{"$f":"INDEX(Lists!$AH$3:$AH$27,MATCH(O18&P18,INDEX(Lists!$AF$3:$AF$27&Lists!$AG$3:$AG$27,),0))","v":{"$error":"#N/A"}}]
["SUB017",null,null,null,null,null,null,null,null,null,null,null,{"$f":"INDEX(Lists!$AH$3:$AH$27,MATCH(K19&L19,INDEX(Lists!$AF$3:$AF$27&Lists!$AG$3:$AG$27,),0))","v":{"$error":"#N/A"}},null,null,null,{"$f":"INDEX(Lists!$AH$3:$AH$27,MATCH(O19&P19,INDEX(Lists!$AF$3:$AF$27&Lists!$AG$3:$AG$27,),0))","v":{"$error":"#N/A"}}]
["SUB018",null,null,null,null,null,null,null,null,null,null,null,{"$f":"INDEX(Lists!$AH$3:$AH$27,MATCH(K20&L20,INDEX(Lists!$AF$3:$AF$27&Lists!$AG$3:$AG$27,),0))","v":{"$error":"#N/A"}},null,null,null,{"$f":"INDEX(Lists!$AH$3:$AH$27,MATCH(O20&P20,INDEX(Lists!$AF$3:$AF$27&Lists!$AG$3:$AG$27,),0))","v":{"$error":"#N/A"}}]
["SUB019",null,null,null,null,null,null,null,null,null,null,null,{"$f":"INDEX(Lists!$AH$3:$AH$27,MATCH(K21&L21,INDEX(Lists!$AF$3:$AF$27&Lists!$AG$3:$AG$27,),0))","v":{"$error":"#N/A"}},null,null,null,{"$f":"INDEX(Lists!$AH$3:$AH$27,MATCH(O21&P21,INDEX(Lists!$AF$3:$AF$27&Lists!$AG$3:$AG$27,),0))","v":{"$error":"#N/A"}}]
["SUB020",null,null,null,null,null,null,null,null,null,null,null,{"$f":"INDEX(Lists!$AH$3:$AH$27,MATCH(K22&L22,INDEX(Lists!$AF$3:$AF$27&Lists!$AG$3:$AG$27,),0))","v":{"$error":"#N/A"}},null,null,null,{"$f":"INDEX(Lists!$AH$3:$AH$27,MATCH(O22&P22,INDEX(Lists!$AF$3:$AF$27&Lists!$AG$3:$AG$27,),0))","v":{"$error":"#N/A"}}]
["SUB021",null,null,null,null,null,null,null,null,null,null,null,{"$f":"INDEX(Lists!$AH$3:$AH$27,MATCH(K23&L23,INDEX(Lists!$AF$3:$AF$27&Lists!$AG$3:$AG$27,),0))","v":{"$error":"#N/A"}},null,null,null,{"$f":"INDEX(Lists!$AH$3:$AH$27,MATCH(O23&P23,INDEX(Lists!$AF$3:$AF$27&Lists!$AG$3:$AG$27,),0))","v":{"$error":"#N/A"}}]
["SUB022",null,null,null,null,null,null,null,null,null,null,null,{"$f":"INDEX(Lists!$AH$3:$AH$27,MATCH(K24&L24,INDEX(Lists!$AF$3:$AF$27&Lists!$AG$3:$AG$27,),0))","v":{"$error":"#N/A"}},null,null,null,{"$f":"INDEX(Lists!$AH$3:$AH$27,MATCH(O24&P24,INDEX(Lists!$AF$3:$AF$27&Lists!$AG$3:$AG$27,),0))","v":{"$error":"#N/A"}}]
["SUB023",null,null,null,null,null,null,null,null,null,null,null,{"$f":"INDEX(Lists!$AH$3:$AH$27,MATCH(K25&L25,INDEX(Lists!$AF$3:$AF$27&Lists!$AG$3:$AG$27,),0))","v":{"$error":"#N/A"}},null,null,null,{"$f":"INDEX(Lists!$AH$3:$AH$27,MATCH(O25&P25,INDEX(Lists!$AF$3:$AF$27&Lists!$AG$3:$AG$27,),0))","v":{"$error":"#N/A"}}]
["SUB024",null,null,null,null,null,null,null,null,null,null,null,{"$f":"INDEX(Lists!$AH$3:$AH$27,MATCH(K26&L26,INDEX(Lists!$AF$3:$AF$27&Lists!$AG$3:$AG$27,),0))","v":{"$error":"#N/A"}},null,null,null,{"$f":"INDEX(Lists!$AH$3:$AH$27,MATCH(O26&P26,INDEX(Lists!$AF$3:$AF$27&Lists!$AG$3:$AG$27,),0))","v":{"$error":"#N/A"}}]
["SUB025",null,null,null,null,null,null,null,null,null,null,null,{"$f":"INDEX(Lists!$AH$3:$AH$27,MATCH(K27&L27,INDEX(Lists!$AF$3:$AF$27&Lists!$AG$3:$AG$27,),0))","v":{"$error":"#N/A"}},null,null,null,{"$f":"INDEX(Lists!$AH$3:$AH$27,MATCH(O27&P27,INDEX(Lists!$AF$3:$AF$27&Lists!$AG$3:$AG$27,),0))","v":{"$error":"#N/A"}}]
["SUB026",null,null,null,null,null,null,null,null,null,null,null,{"$f":"INDEX(Lists!$AH$3:$AH$27,MATCH(K28&L28,INDEX(Lists!$AF$3:$AF$27&Lists!$AG$3:$AG$27,),0))","v":{"$error":"#N/A"}},null,null,null,{"$f":"INDEX(Lists!$AH$3:$AH$27,MATCH(O28&P28,INDEX(Lists!$AF$3:$AF$27&Lists!$AG$3:$AG$27,),0))","v":{"$error":"#N/A"}}]
["SUB027",null,null,null,null,null,null,null,null,null,null,null,{"$f":"INDEX(Lists!$AH$3:$AH$27,MATCH(K29&L29,INDEX(Lists!$AF$3:$AF$27&Lists!$AG$3:$AG$27,),0))","v":{"$error":"#N/A"}},null,null,null,{"$f":"INDEX(Lists!$AH$3:$AH$27,MATCH(O29&P29,INDEX(Lists!$AF$3:$AF$27&Lists!$AG$3:$AG$27,),0))","v":{"$error":"#N/A"}}]
["SUB028",null,null,null,null,null,null,null,null,null,null,null,{"$f":"INDEX(Lists!$AH$3:$AH$27,MATCH(K30&L30,INDEX(Lists!$AF$3:$AF$27&Lists!$AG$3:$AG$27,),0))","v":{"$error":"#N/A"}},null,null,null,{"$f":"INDEX(Lists!$AH$3:$AH$27,MATCH(O30&P30,INDEX(Lists!$AF$3:$AF$27&Lists!$AG$3:$AG$27,),0))","v":{"$error":"#N/A"}}]
["SUB029",null,null,null,null,null,null,null,null,null,null,null,{"$f":"INDEX(Lists!$AH$3:$AH$27,MATCH(K31&L31,INDEX(Lists!$AF$3:$AF$27&Lists!$AG$3:$AG$27,),0))","v":{"$error":"#N/A"}},null,null,null,{"$f":"INDEX(Lists!$AH$3:$AH$27,MATCH(O31&P31,INDEX(Lists!$AF$3:$AF$27&Lists!$AG$3:$AG$27,),0))","v":{"$error":"#N/A"}}]
["SUB030",null,null,null,null,null,null,null,null,null,null,null,{"$f":"INDEX(Lists!$AH$3:$AH$27,MATCH(K32&L32,INDEX(Lists!$AF$3:$AF$27&Lists!$AG$3:$AG$27,),0))","v":{"$error":"#N/A"}},null,null,null,{"$f":"INDEX(Lists!$AH$3:$AH$27,MATCH(O32&P32,INDEX(Lists!$AF$3:$AF$27&Lists!$AG$3:$AG$27,),0))","v":{"$error":"#N/A"}}]
["SUB031",null,null,null,null,null,null,null,null,null,null,null,{"$f":"INDEX(Lists!$AH$3:$AH$27,MATCH(K33&L33,INDEX(Lists!$AF$3:$AF$27&Lists!$AG$3:$AG$27,),0))","v":{"$error":"#N/A"}},null,null,null,{"$f":"INDEX(Lists!$AH$3:$AH$27,MATCH(O33&P33,INDEX(Lists!$AF$3:$AF$27&Lists!$AG$3:$AG$27,),0))","v":{"$error":"#N/A"}}]
["SUB032",null,null,null,null,null,null,null,null,null,null,null,{"$f":"INDEX(Lists!$AH$3:$AH$27,MATCH(K34&L34,INDEX(Lists!$AF$3:$AF$27&Lists!$AG$3:$AG$27,),0))","v":{"$error":"#N/A"}},null,null,null,{"$f":"INDEX(Lists!$AH$3:$AH$27,MATCH(O34&P34,INDEX(Lists!$AF$3:$AF$27&Lists!$AG$3:$AG$27,),0))","v":{"$error":"#N/A"}}]
["SUB033",null,null,null,null,null,null,null,null,null,null,null,{"$f":"INDEX(Lists!$AH$3:$AH$27,MATCH(K35&L35,INDEX(Lists!$AF$3:$AF$27&Lists!$AG$3:$AG$27,),0))","v":{"$error":"#N/A"}},null,null,null,{"$f":"INDEX(Lists!$AH$3:$AH$27,MATCH(O35&P35,INDEX(Lists!$AF$3:$AF$27&Lists!$AG$3:$AG$27,),0))","v":{"$error":"#N/A"}}]
["SUB034",null,null,null,null,null,null,null,null,null,null,null,{"$f":"INDEX(Lists!$AH$3:$AH$27,MATCH(K36&L36,INDEX(Lists!$AF$3:$AF$27&Lists!$AG$3:$AG$27,),0))","v":{"$error":"#N/A"}},null,null,null,{"$f":"INDEX(Lists!$AH$3:$AH$27,MATCH(O36&P36,INDEX(Lists!$AF$3:$AF$27&Lists!$AG$3:$AG$27,),0))","v":{"$error":"#N/A"}}]
["SUB035",null,null,null,null,null,null,null,null,null,null,null,{"$f":"INDEX(Lists!$AH$3:$AH$27,MATCH(K37&L37,INDEX(Lists!$AF$3:$AF$27&Lists!$AG$3:$AG$27,),0))","v":{"$error":"#N/A"}},null,null,null,{"$f":"INDEX(Lists!$AH$3:$AH$27,MATCH(O37&P37,INDEX(Lists!$AF$3:$AF$27&Lists!$AG$3:$AG$27,),0))","v":{"$error":"#N/A"}}]
["SUB036",null,null,null,null,null,null,null,null,null,null,null,{"$f":"INDEX(Lists!$AH$3:$AH$27,MATCH(K38&L38,INDEX(Lists!$AF$3:$AF$27&Lists!$AG$3:$AG$27,),0))","v":{"$error":"#N/A"}},null,null,null,{"$f":"INDEX(Lists!$AH$3:$AH$27,MATCH(O38&P38,INDEX(Lists!$AF$3:$AF$27&Lists!$AG$3:$AG$27,),0))","v":{"$error":"#N/A"}}]
["SUB037",null,null,null,null,null,null,null,null,null,null,null,{"$f":"INDEX(Lists!$AH$3:$AH$27,MATCH(K39&L39,INDEX(Lists!$AF$3:$AF$27&Lists!$AG$3:$AG$27,),0))","v":{"$error":"#N/A"}},null,null,null,{"$f":"INDEX(Lists!$AH$3:$AH$27,MATCH(O39&P39,INDEX(Lists!$AF$3:$AF$27&Lists!$AG$3:$AG$27,),0))","v":{"$error":"#N/A"}}]
["SUB038",null,null,null,null,null,null,null,null,null,null,null,{"$f":"INDEX(Lists!$AH$3:$AH$27,MATCH(K40&L40,INDEX(Lists!$AF$3:$AF$27&Lists!$AG$3:$AG$27,),0))","v":{"$error":"#N/A"}},null,null,null,{"$f":"INDEX(Lists!$AH$3:$AH$27,MATCH(O40&P40,INDEX(Lists!$AF$3:$AF$27&Lists!$AG$3:$AG$27,),0))","v":{"$error":"#N/A"}}]
["SUB039",null,null,null,null,null,null,null,null,null,null,null,{"$f":"INDEX(Lists!$AH$3:$AH$27,MATCH(K41&L41,INDEX(Lists!$AF$3:$AF$27&Lists!$AG$3:$AG$27,),0))","v":{"$error":"#N/A"}},null,null,null,{"$f":"INDEX(Lists!$AH$3:$AH$27,MATCH(O41&P41,INDEX(Lists!$AF$3:$AF$27&Lists!$AG$3:$AG$27,),0))","v":{"$error":"#N/A"}}]
["SUB040",null,null,null,null,null,null,null,null,null,null,null,{"$f":"INDEX(Lists!$AH$3:$AH$27,MATCH(K42&L42,INDEX(Lists!$AF$3:$AF$27&Lists!$AG$3:$AG$27,),0))","v":{"$error":"#N/A"}},null,null,null,{"$f":"INDEX(Lists!$AH$3:$AH$27,MATCH(O42&P42,INDEX(Lists!$AF$3:$AF$27&Lists!$AG$3:$AG$27,),0))","v":{"$error":"#N/A"}}]
["SUB041",null,null,null,null,null,null,null,null,null,null,null,{"$f":"INDEX(Lists!$AH$3:$AH$27,MATCH(K43&L43,INDEX(Lists!$AF$3:$AF$27&Lists!$AG$3:$AG$27,),0))","v":{"$error":"#N/A"}},null,null,null,{"$f":"INDEX(Lists!$AH$3:$AH$27,MATCH(O43&P43,INDEX(Lists!$AF$3:$AF$27&Lists!$AG$3:$AG$27,),0))","v":{"$error":"#N/A"}}]
["SUB042",null,null,null,null,null,null,null,null,null,null,null,{"$f":"INDEX(Lists!$AH$3:$AH$27,MATCH(K44&L44,INDEX(Lists!$AF$3:$AF$27&Lists!$AG$3:$AG$27,),0))","v":{"$error":"#N/A"}},null,null,null,{"$f":"INDEX(Lists!$AH$3:$AH$27,MATCH(O44&P44,INDEX(Lists!$AF$3:$AF$27&Lists!$AG$3:$AG$27,),0))","v":{"$error":"#N/A"}}]
["SUB043",null,null,null,null,null,null,null,null,null,null,null,{"$f":"INDEX(Lists!$AH$3:$AH$27,MATCH(K45&L45,INDEX(Lists!$AF$3:$AF$27&Lists!$AG$3:$AG$27,),0))","v":{"$error":"#N/A"}},null,null,null,{"$f":"INDEX(Lists!$AH$3:$AH$27,MATCH(O45&P45,INDEX(Lists!$AF$3:$AF$27&Lists!$AG$3:$AG$27,),0))","v":{"$error":"#N/A"}}]
["SUB044",null,null,null,null,null,null,null,null,null,null,null,{"$f":"INDEX(Lists!$AH$3:$AH$27,MATCH(K46&L46,INDEX(Lists!$AF$3:$AF$27&Lists!$AG$3:$AG$27,),0))","v":{"$error":"#N/A"}},null,null,null,{"$f":"INDEX(Lists!$AH$3:$AH$27,MATCH(O46&P46,INDEX(Lists!$AF$3:$AF$27&Lists!$AG$3:$AG$27,),0))","v":{"$error":"#N/A"}}]
["SUB045",null,null,null,null,null,null,null,null,null,null,null,{"$f":"INDEX(Lists!$AH$3:$AH$27,MATCH(K47&L47,INDEX(Lists!$AF$3:$AF$27&Lists!$AG$3:$AG$27,),0))","v":{"$error":"#N/A"}},null,null,null,{"$f":"INDEX(Lists!$AH$3:$AH$27,MATCH(O47&P47,INDEX(Lists!$AF$3:$AF$27&Lists!$AG$3:$AG$27,),0))","v":{"$error":"#N/A"}}]
["SUB046",null,null,null,null,null,null,null,null,null,null,null,{"$f":"INDEX(Lists!$AH$3:$AH$27,MATCH(K48&L48,INDEX(Lists!$AF$3:$AF$27&Lists!$AG$3:$AG$27,),0))","v":{"$error":"#N/A"}},null,null,null,{"$f":"INDEX(Lists!$AH$3:$AH$27,MATCH(O48&P48,INDEX(Lists!$AF$3:$AF$27&Lists!$AG$3:$AG$27,),0))","v":{"$error":"#N/A"}}]
["SUB047",null,null,null,null,null,null,null,null,null,null,null,{"$f":"INDEX(Lists!$AH$3:$AH$27,MATCH(K49&L49,INDEX(Lists!$AF$3:$AF$27&Lists!$AG$3:$AG$27,),0))","v":{"$error":"#N/A"}},null,null,null,{"$f":"INDEX(Lists!$AH$3:$AH$27,MATCH(O49&P49,INDEX(Lists!$AF$3:$AF$27&Lists!$AG$3:$AG$27,),0))","v":{"$error":"#N/A"}}]
["SUB048",null,null,null,null,null,null,null,null,null,null,null,{"$f":"INDEX(Lists!$AH$3:$AH$27,MATCH(K50&L50,INDEX(Lists!$AF$3:$AF$27&Lists!$AG$3:$AG$27,),0))","v":{"$error":"#N/A"}},null,null,null,{"$f":"INDEX(Lists!$AH$3:$AH$27,MATCH(O50&P50,INDEX(Lists!$AF$3:$AF$27&Lists!$AG$3:$AG$27,),0))","v":{"$error":"#N/A"}}]
["SUB049",null,null,null,null,null,null,null,null,null,null,null,{"$f":"INDEX(Lists!$AH$3:$AH$27,MATCH(K51&L51,INDEX(Lists!$AF$3:$AF$27&Lists!$AG$3:$AG$27,),0))","v":{"$error":"#N/A"}},null,null,null,{"$f":"INDEX(Lists!$AH$3:$AH$27,MATCH(O51&P51,INDEX(Lists!$AF$3:$AF$27&Lists!$AG$3:$AG$27,),0))","v":{"$error":"#N/A"}}]
["SUB050",null,null,null,null,null,null,null,null,null,null,null,{"$f":"INDEX(Lists!$AH$3:$AH$27,MATCH(K52&L52,INDEX(Lists!$AF$3:$AF$27&Lists!$AG$3:$AG$27,),0))","v":{"$error":"#N/A"}},null,null,null,{"$f":"INDEX(Lists!$AH$3:$AH$27,MATCH(O52&P52,INDEX(Lists!$AF$3:$AF$27&Lists!$AG$3:$AG$27,),0))","v":{"$error":"#N/A"}}]
["SUB051",null,null,null,null,null,null,null,null,null,null,null,{"$f":"INDEX(Lists!$AH$3:$AH$27,MATCH(K53&L53,INDEX(Lists!$AF$3:$AF$27&Lists!$AG$3:$AG$27,),0))","v":{"$error":"#N/A"}},null,null,null,{"$f":"INDEX(Lists!$AH$3:$AH$27,MATCH(O53&P53,INDEX(Lists!$AF$3:$AF$27&Lists!$AG$3:$AG$27,),0))","v":{"$error":"#N/A"}}]
["SUB052",null,null,null,null,null,null,null,null,null,null,null,{"$f":"INDEX(Lists!$AH$3:$AH$27,MATCH(K54&L54,INDEX(Lists!$AF$3:$AF$27&Lists!$AG$3:$AG$27,),0))","v":{"$error":"#N/A"}},null,null,null,{"$f":"INDEX(Lists!$AH$3:$AH$27,MATCH(O54&P54,INDEX(Lists!$AF$3:$AF$27&Lists!$AG$3:$AG$27,),0))","v":{"$error":"#N/A"}}]
["SUB053",null,null,null,null,null,null,null,null,null,null,null,{"$f":"INDEX(Lists!$AH$3:$AH$27,MATCH(K55&L55,INDEX(Lists!$AF$3:$AF$27&Lists!$AG$3:$AG$27,),0))","v":{"$error":"#N/A"}},null,null,null,{"$f":"INDEX(Lists!$AH$3:$AH$27,MATCH(O55&P55,INDEX(Lists!$AF$3:$AF$27&Lists!$AG$3:$AG$27,),0))","v":{"$error":"#N/A"}}]
["SUB054",null,null,null,null,null,null,null,null,null,null,null,{"$f":"INDEX(Lists!$AH$3:$AH$27,MATCH(K56&L56,INDEX(Lists!$AF$3:$AF$27&Lists!$AG$3:$AG$27,),0))","v":{"$error":"#N/A"}},null,null,null,{"$f":"INDEX(Lists!$AH$3:$AH$27,MATCH(O56&P56,INDEX(Lists!$AF$3:$AF$27&Lists!$AG$3:$AG$27,),0))","v":{"$error":"#N/A"}}]
["SUB055",null,null,null,null,null,null,null,null,null,null,null,{"$f":"INDEX(Lists!$AH$3:$AH$27,MATCH(K57&L57,INDEX(Lists!$AF$3:$AF$27&Lists!$AG$3:$AG$27,),0))","v":{"$error":"#N/A"}},null,null,null,{"$f":"INDEX(Lists!$AH$3:$AH$27,MATCH(O57&P57,INDEX(Lists!$AF$3:$AF$27&Lists!$AG$3:$AG$27,),0))","v":{"$error":"#N/A"}}]
["SUB056",null,null,null,null,null,null,null,null,null,null,null,{"$f":"INDEX(Lists!$AH$3:$AH$27,MATCH(K58&L58,INDEX(Lists!$AF$3:$AF$27&Lists!$AG$3:$AG$27,),0))","v":{"$error":"#N/A"}},null,null,null,{"$f":"INDEX(Lists!$AH$3:$AH$27,MATCH(O58&P58,INDEX(Lists!$AF$3:$AF$27&Lists!$AG$3:$AG$27,),0))","v":{"$error":"#N/A"}}]
["SUB057",null,null,null,null,null,null,null,null,null,null,null,{"$f":"INDEX(Lists!$AH$3:$AH$27,MATCH(K59&L59,INDEX(Lists!$AF$3:$AF$27&Lists!$AG$3:$AG$27,),0))","v":{"$error":"#N/A"}},null,null,null,{"$f":"INDEX(Lists!$AH$3:$AH$27,MATCH(O59&P59,INDEX(Lists!$AF$3:$AF$27&Lists!$AG$3:$AG$27,),0))","v":{"$error":"#N/A"}}]
["SUB058",null,null,null,null,null,null,null,null,null,null,null,{"$f":"INDEX(Lists!$AH$3:$AH$27,MATCH(K60&L60,INDEX(Lists!$AF$3:$AF$27&Lists!$AG$3:$AG$27,),0))","v":{"$error":"#N/A"}},null,null,null,{"$f":"INDEX(Lists!$AH$3:$AH$27,MATCH(O60&P60,INDEX(Lists!$AF$3:$AF$27&Lists!$AG$3:$AG$27,),0))","v":{"$error":"#N/A"}}]
["SUB059",null,null,null,null,null,null,null,null,null,null,null,{"$f":"INDEX(Lists!$AH$3:$AH$27,MATCH(K61&L61,INDEX(Lists!$AF$3:$AF$27&Lists!$AG$3:$AG$27,),0))","v":{"$error":"#N/A"}},null,null,null,{"$f":"INDEX(Lists!$AH$3:$AH$27,MATCH(O61&P61,INDEX(Lists!$AF$3:$AF$27&Lists!$AG$3:$AG$27,),0))","v":{"$error":"#N/A"}}]
["SUB060",null,null,null,null,null,null,null,null,null,null,null,{"$f":"INDEX(Lists!$AH$3:$AH$27,MATCH(K62&L62,INDEX(Lists!$AF$3:$AF$27&Lists!$AG$3:$AG$27,),0))","v":{"$error":"#N/A"}},null,null,null,{"$f":"INDEX(Lists!$AH$3:$AH$27,MATCH(O62&P62,INDEX(Lists!$AF$3:$AF$27&Lists!$AG$3:$AG$27,),0))","v":{"$error":"#N/A"}}]
["SUB061",null,null,null,null,null,null,null,null,null,null,null,{"$f":"INDEX(Lists!$AH$3:$AH$27,MATCH(K63&L63,INDEX(Lists!$AF$3:$AF$27&Lists!$AG$3:$AG$27,),0))","v":{"$error":"#N/A"}},null,null,null,{"$f":"INDEX(Lists!$AH$3:$AH$27,MATCH(O63&P63,INDEX(Lists!$AF$3:$AF$27&Lists!$AG$3:$AG$27,),0))","v":{"$error":"#N/A"}}]
["SUB062",null,null,null,null,null,null,null,null,null,null,null,{"$f":"INDEX(Lists!$AH$3:$AH$27,MATCH(K64&L64,INDEX(Lists!$AF$3:$AF$27&Lists!$AG$3:$AG$27,),0))","v":{"$error":"#N/A"}},null,null,null,{"$f":"INDEX(Lists!$AH$3:$AH$27,MATCH(O64&P64,INDEX(Lists!$AF$3:$AF$27&Lists!$AG$3:$AG$27,),0))","v":{"$error":"#N/A"}}]
["SUB063",null,null,null,null,null,null,null,null,null,null,null,{"$f":"INDEX(Lists!$AH$3:$AH$27,MATCH(K65&L65,INDEX(Lists!$AF$3:$AF$27&Lists!$AG$3:$AG$27,),0))","v":{"$error":"#N/A"}},null,null,null,{"$f":"INDEX(Lists!$AH$3:$AH$27,MATCH(O65&P65,INDEX(Lists!$AF$3:$AF$27&Lists!$AG$3:$AG$27,),0))","v":{"$error":"#N/A"}}]
["SUB064",null,null,null,null,null,null,null,null,null,null,null,{"$f":"INDEX(Lists!$AH$3:$AH$27,MATCH(K66&L66,INDEX(Lists!$AF$3:$AF$27&Lists!$AG$3:$AG$27,),0))","v":{"$error":"#N/A"}},null,null,null,{"$f":"INDEX(Lists!$AH$3:$AH$27,MATCH(O66&P66,INDEX(Lists!$AF$3:$AF$27&Lists!$AG$3:$AG$27,),0))","v":{"$error":"#N/A"}}]
["SUB065",null,null,null,null,null,null,null,null,null,null,null,{"$f":"INDEX(Lists!$AH$3:$AH$27,MATCH(K67&L67,INDEX(Lists!$AF$3:$AF$27&Lists!$AG$3:$AG$27,),0))","v":{"$error":"#N/A"}},null,null,null,{"$f":"INDEX(Lists!$AH$3:$AH$27,MATCH(O67&P67,INDEX(Lists!$AF$3:$AF$27&Lists!$AG$3:$AG$27,),0))","v":{"$error":"#N/A"}}]
["SUB066",null,null,null,null,null,null,null,null,null,null,null,{"$f":"INDEX(Lists!$AH$3:$AH$27,MATCH(K68&L68,INDEX(Lists!$AF$3:$AF$27&Lists!$AG$3:$AG$27,),0))","v":{"$error":"#N/A"}},null,null,null,{"$f":"INDEX(Lists!$AH$3:$AH$27,MATCH(O68&P68,INDEX(Lists!$AF$3:$AF$27&Lists!$AG$3:$AG$27,),0))","v":{"$error":"#N/A"}}]
["SUB067",null,null,null,null,null,null,null,null,null,null,null,{"$f":"INDEX(Lists!$AH$3:$AH$27,MATCH(K69&L69,INDEX(Lists!$AF$3:$AF$27&Lists!$AG$3:$AG$27,),0))","v":{"$error":"#N/A"}},null,null,null,{"$f":"INDEX(Lists!$AH$3:$AH$27,MATCH(O69&P69,INDEX(Lists!$AF$3:$AF$27&Lists!$AG$3:$AG$27,),0))","v":{"$error":"#N/A"}}]
["SUB068",null,null,null,null,null,null,null,null,null,null,null,{"$f":"INDEX(Lists!$AH$3:$AH$27,MATCH(K70&L70,INDEX(Lists!$AF$3:$AF$27&Lists!$AG$3:$AG$27,),0))","v":{"$error":"#N/A"}},null,null,null,{"$f":"INDEX(Lists!$AH$3:$AH$27,MATCH(O70&P70,INDEX(Lists!$AF$3:$AF$27&Lists!$AG$3:$AG$27,),0))","v":{"$error":"#N/A"}}]
["SUB069",null,null,null,null,null,null,null,null,null,null,null,{"$f":"INDEX(Lists!$AH$3:$AH$27,MATCH(K71&L71,INDEX(Lists!$AF$3:$AF$27&Lists!$AG$3:$AG$27,),0))","v":{"$error":"#N/A"}},null,null,null,{"$f":"INDEX(Lists!$AH$3:$AH$27,MATCH(O71&P71,INDEX(Lists!$AF$3:$AF$27&Lists!$AG$3:$AG$27,),0))","v":{"$error":"#N/A"}}]
["SUB070",null,null,null,null,null,null,null,null,null,null,null,{"$f":"INDEX(Lists!$AH$3:$AH$27,MATCH(K72&L72,INDEX(Lists!$AF$3:$AF$27&Lists!$AG$3:$AG$27,),0))","v":{"$error":"#N/A"}},null,null,null,{"$f":"INDEX(Lists!$AH$3:$AH$27,MATCH(O72&P72,INDEX(Lists!$AF$3:$AF$27&Lists!$AG$3:$AG$27,),0))","v":{"$error":"#N/A"}}]
["SUB071",null,null,null,null,null,null,null,null,null,null,null,{"$f":"INDEX(Lists!$AH$3:$AH$27,MATCH(K73&L73,INDEX(Lists!$AF$3:$AF$27&Lists!$AG$3:$AG$27,),0))","v":{"$error":"#N/A"}},null,null,null,{"$f":"INDEX(Lists!$AH$3:$AH$27,MATCH(O73&P73,INDEX(Lists!$AF$3:$AF$27&Lists!$AG$3:$AG$27,),0))","v":{"$error":"#N/A"}}]
["SUB072",null,null,null,null,null,null,null,null,null,null,null,{"$f":"INDEX(Lists!$AH$3:$AH$27,MATCH(K74&L74,INDEX(Lists!$AF$3:$AF$27&Lists!$AG$3:$AG$27,),0))","v":{"$error":"#N/A"}},null,null,null,{"$f":"INDEX(Lists!$AH$3:$AH$27,MATCH(O74&P74,INDEX(Lists!$AF$3:$AF$27&Lists!$AG$3:$AG$27,),0))","v":{"$error":"#N/A"}}]
["SUB073",null,null,null,null,null,null,null,null,null,null,null,{"$f":"INDEX(Lists!$AH$3:$AH$27,MATCH(K75&L75,INDEX(Lists!$AF$3:$AF$27&Lists!$AG$3:$AG$27,),0))","v":{"$error":"#N/A"}},null,null,null,{"$f":"INDEX(Lists!$AH$3:$AH$27,MATCH(O75&P75,INDEX(Lists!$AF$3:$AF$27&Lists!$AG$3:$AG$27,),0))","v":{"$error":"#N/A"}}]
["SUB074",null,null,null,null,null,null,null,null,null,null,null,{"$f":"INDEX(Lists!$AH$3:$AH$27,MATCH(K76&L76,INDEX(Lists!$AF$3:$AF$27&Lists!$AG$3:$AG$27,),0))","v":{"$error":"#N/A"}},null,null,null,{"$f":"INDEX(Lists!$AH$3:$AH$27,MATCH(O76&P76,INDEX(Lists!$AF$3:$AF$27&Lists!$AG$3:$AG$27,),0))","v":{"$error":"#N/A"}}]
["SUB075",null,null,null,null,null,null,null,null,null,null,null,{"$f":"INDEX(Lists!$AH$3:$AH$27,MATCH(K77&L77,INDEX(Lists!$AF$3:$AF$27&Lists!$AG$3:$AG$27,),0))","v":{"$error":"#N/A"}},null,null,null,{"$f":"INDEX(Lists!$AH$3:$AH$27,MATCH(O77&P77,INDEX(Lists!$AF$3:$AF$27&Lists!$AG$3:$AG$27,),0))","v":{"$error":"#N/A"}}]
["SUB076",null,null,null,null,null,null,null,null,null,null,null,{"$f":"INDEX(Lists!$AH$3:$AH$27,MATCH(K78&L78,INDEX(Lists!$AF$3:$AF$27&Lists!$AG$3:$AG$27,),0))","v":{"$error":"#N/A"}},null,null,null,{"$f":"INDEX(Lists!$AH$3:$AH$27,MATCH(O78&P78,INDEX(Lists!$AF$3:$AF$27&Lists!$AG$3:$AG$27,),0))","v":{"$error":"#N/A"}}]
["SUB077",null,null,null,null,null,null,null,null,null,null,null,{"$f":"INDEX(Lists!$AH$3:$AH$27,MATCH(K79&L79,INDEX(Lists!$AF$3:$AF$27&Lists!$AG$3:$AG$27,),0))","v":{"$error":"#N/A"}},null,null,null,{"$f":"INDEX(Lists!$AH$3:$AH$27,MATCH(O79&P79,INDEX(Lists!$AF$3:$AF$27&Lists!$AG$3:$AG$27,),0))","v":{"$error":"#N/A"}}]
["SUB078",null,null,null,null,null,null,null,null,null,null,null,{"$f":"INDEX(Lists!$AH$3:$AH$27,MATCH(K80&L80,INDEX(Lists!$AF$3:$AF$27&Lists!$AG$3:$AG$27,),0))","v":{"$error":"#N/A"}},null,null,null,{"$f":"INDEX(Lists!$AH$3:$AH$27,MATCH(O80&P80,INDEX(Lists!$AF$3:$AF$27&Lists!$AG$3:$AG$27,),0))","v":{"$error":"#N/A"}}]
["SUB079",null,null,null,null,null,null,null,null,null,null,null,{"$f":"INDEX(Lists!$AH$3:$AH$27,MATCH(K81&L81,INDEX(Lists!$AF$3:$AF$27&Lists!$AG$3:$AG$27,),0))","v":{"$error":"#N/A"}},null,null,null,{"$f":"INDEX(Lists!$AH$3:$AH$27,MATCH(O81&P81,INDEX(Lists!$AF$3:$AF$27&Lists!$AG$3:$AG$27,),0))","v":{"$error":"#N/A"}}]
["SUB080",null,null,null,null,null,null,null,null,null,null,null,{"$f":"INDEX(Lists!$AH$3:$AH$27,MATCH(K82&L82,INDEX(Lists!$AF$3:$AF$27&Lists!$AG$3:$AG$27,),0))","v":{"$error":"#N/A"}},null,null,null,{"$f":"INDEX(Lists!$AH$3:$AH$27,MATCH(O82&P82,INDEX(Lists!$AF$3:$AF$27&Lists!$AG$3:$AG$27,),0))","v":{"$error":"#N/A"}}]
["SUB081",null,null,null,null,null,null,null,null,null,null,null,{"$f":"INDEX(Lists!$AH$3:$AH$27,MATCH(K83&L83,INDEX(Lists!$AF$3:$AF$27&Lists!$AG$3:$AG$27,),0))","v":{"$error":"#N/A"}},null,null,null,{"$f":"INDEX(Lists!$AH$3:$AH$27,MATCH(O83&P83,INDEX(Lists!$AF$3:$AF$27&Lists!$AG$3:$AG$27,),0))","v":{"$error":"#N/A"}}]
["SUB082",null,null,null,null,null,null,null,null,null,null,null,{"$f":"INDEX(Lists!$AH$3:$AH$27,MATCH(K84&L84,INDEX(Lists!$AF$3:$AF$27&Lists!$AG$3:$AG$27,),0))","v":{"$error":"#N/A"}},null,null,null,{"$f":"INDEX(Lists!$AH$3:$AH$27,MATCH(O84&P84,INDEX(Lists!$AF$3:$AF$27&Lists!$AG$3:$AG$27,),0))","v":{"$error":"#N/A"}}]
["SUB083",null,null,null,null,null,null,null,null,null,null,null,{"$f":"INDEX(Lists!$AH$3:$AH$27,MATCH(K85&L85,INDEX(Lists!$AF$3:$AF$27&Lists!$AG$3:$AG$27,),0))","v":{"$error":"#N/A"}},null,null,null,{"$f":"INDEX(Lists!$AH$3:$AH$27,MATCH(O85&P85,INDEX(Lists!$AF$3:$AF$27&Lists!$AG$3:$AG$27,),0))","v":{"$error":"#N/A"}}]
["SUB084",null,null,null,null,null,null,null,null,null,null,null,{"$f":"INDEX(Lists!$AH$3:$AH$27,MATCH(K86&L86,INDEX(Lists!$AF$3:$AF$27&Lists!$AG$3:$AG$27,),0))","v":{"$error":"#N/A"}},null,null,null,{"$f":"INDEX(Lists!$AH$3:$AH$27,MATCH(O86&P86,INDEX(Lists!$AF$3:$AF$27&Lists!$AG$3:$AG$27,),0))","v":{"$error":"#N/A"}}]
["SUB085",null,null,null,null,null,null,null,null,null,null,null,{"$f":"INDEX(Lists!$AH$3:$AH$27,MATCH(K87&L87,INDEX(Lists!$AF$3:$AF$27&Lists!$AG$3:$AG$27,),0))","v":{"$error":"#N/A"}},null,null,null,{"$f":"INDEX(Lists!$AH$3:$AH$27,MATCH(O87&P87,INDEX(Lists!$AF$3:$AF$27&Lists!$AG$3:$AG$27,),0))","v":{"$error":"#N/A"}}]
["SUB086",null,null,null,null,null,null,null,null,null,null,null,{"$f":"INDEX(Lists!$AH$3:$AH$27,MATCH(K88&L88,INDEX(Lists!$AF$3:$AF$27&Lists!$AG$3:$AG$27,),0))","v":{"$error":"#N/A"}},null,null,null,{"$f":"INDEX(Lists!$AH$3:$AH$27,MATCH(O88&P88,INDEX(Lists!$AF$3:$AF$27&Lists!$AG$3:$AG$27,),0))","v":{"$error":"#N/A"}}]
["SUB087",null,null,null,null,null,null,null,null,null,null,null,{"$f":"INDEX(Lists!$AH$3:$AH$27,MATCH(K89&L89,INDEX(Lists!$AF$3:$AF$27&Lists!$AG$3:$AG$27,),0))","v":{"$error":"#N/A"}},null,null,null,{"$f":"INDEX(Lists!$AH$3:$AH$27,MATCH(O89&P89,INDEX(Lists!$AF$3:$AF$27&Lists!$AG$3:$AG$27,),0))","v":{"$error":"#N/A"}}]
["SUB088",null,null,null,null,null,null,null,null,null,null,null,{"$f":"INDEX(Lists!$AH$3:$AH$27,MATCH(K90&L90,INDEX(Lists!$AF$3:$AF$27&Lists!$AG$3:$AG$27,),0))","v":{"$error":"#N/A"}},null,null,null,{"$f":"INDEX(Lists!$AH$3:$AH$27,MATCH(O90&P90,INDEX(Lists!$AF$3:$AF$27&Lists!$AG$3:$AG$27,),0))","v":{"$error":"#N/A"}}]
["SUB089",null,null,null,null,null,null,null,null,null,null,null,{"$f":"INDEX(Lists!$AH$3:$AH$27,MATCH(K91&L91,INDEX(Lists!$AF$3:$AF$27&Lists!$AG$3:$AG$27,),0))","v":{"$error":"#N/A"}},null,null,null,{"$f":"INDEX(Lists!$AH$3:$AH$27,MATCH(O91&P91,INDEX(Lists!$AF$3:$AF$27&Lists!$AG$3:$AG$27,),0))","v":{"$error":"#N/A"}}]
["SUB090",null,null,null,null,null,null,null,null,null,null,null,{"$f":"INDEX(Lists!$AH$3:$AH$27,MATCH(K92&L92,INDEX(Lists!$AF$3:$AF$27&Lists!$AG$3:$AG$27,),0))","v":{"$error":"#N/A"}},null,null,null,{"$f":"INDEX(Lists!$AH$3:$AH$27,MATCH(O92&P92,INDEX(Lists!$AF$3:$AF$27&Lists!$AG$3:$AG$27,),0))","v":{"$error":"#N/A"}}]
["SUB091",null,null,null,null,null,null,null,null,null,null,null,{"$f":"INDEX(Lists!$AH$3:$AH$27,MATCH(K93&L93,INDEX(Lists!$AF$3:$AF$27&Lists!$AG$3:$AG$27,),0))","v":{"$error":"#N/A"}},null,null,null,{"$f":"INDEX(Lists!$AH$3:$AH$27,MATCH(O93&P93,INDEX(Lists!$AF$3:$AF$27&Lists!$AG$3:$AG$27,),0))","v":{"$error":"#N/A"}}]
["SUB092",null,null,null,null,null,null,null,null,null,null,null,{"$f":"INDEX(Lists!$AH$3:$AH$27,MATCH(K94&L94,INDEX(Lists!$AF$3:$AF$27&Lists!$AG$3:$AG$27,),0))","v":{"$error":"#N/A"}},null,null,null,{"$f":"INDEX(Lists!$AH$3:$AH$27,MATCH(O94&P94,INDEX(Lists!$AF$3:$AF$27&Lists!$AG$3:$AG$27,),0))","v":{"$error":"#N/A"}}]
["SUB093",null,null,null,null,null,null,null,null,null,null,null,{"$f":"INDEX(Lists!$AH$3:$AH$27,MATCH(K95&L95,INDEX(Lists!$AF$3:$AF$27&Lists!$AG$3:$AG$27,),0))","v":{"$error":"#N/A"}},null,null,null,{"$f":"INDEX(Lists!$AH$3:$AH$27,MATCH(O95&P95,INDEX(Lists!$AF$3:$AF$27&Lists!$AG$3:$AG$27,),0))","v":{"$error":"#N/A"}}]
["SUB094",null,null,null,null,null,null,null,null,null,null,null,{"$f":"INDEX(Lists!$AH$3:$AH$27,MATCH(K96&L96,INDEX(Lists!$AF$3:$AF$27&Lists!$AG$3:$AG$27,),0))","v":{"$error":"#N/A"}},null,null,null,{"$f":"INDEX(Lists!$AH$3:$AH$27,MATCH(O96&P96,INDEX(Lists!$AF$3:$AF$27&Lists!$AG$3:$AG$27,),0))","v":{"$error":"#N/A"}}]

{"sheet":"Plant and Equipment Register","index":3,"n_rows":136,"n_cols":16,"rows_kept":136,"cut":false,"hidden":false,"merged":[]}
[]
["ID","Plant Name","Registration Details","Critical Limits and Operating Conditions","Specification Source","Supplier Details","Location","Risk Context","Likelihood","Consequence","Initial Risk","Hazard Control Measures","Likelihood","Consequence","Residual Risk","Last Review"]
[null,null,null,null,null,null,null,null,null,null,{"$f":"INDEX(Lists!$AH$3:$AH$27,MATCH(I3&J3,INDEX(Lists!$AF$3:$AF$27&Lists!$AG$3:$AG$27,),0))","v":{"$error":"#N/A"}},null,null,null,{"$f":"INDEX(Lists!$AH$3:$AH$27,MATCH(M3&N3,INDEX(Lists!$AF$3:$AF$27&Lists!$AG$3:$AG$27,),0))","v":{"$error":"#N/A"}}]
[null,null,null,null,null,null,null,null,null,null,{"$f":"INDEX(Lists!$AH$3:$AH$27,MATCH(I4&J4,INDEX(Lists!$AF$3:$AF$27&Lists!$AG$3:$AG$27,),0))","v":{"$error":"#N/A"}},null,null,null,{"$f":"INDEX(Lists!$AH$3:$AH$27,MATCH(M4&N4,INDEX(Lists!$AF$3:$AF$27&Lists!$AG$3:$AG$27,),0))","v":{"$error":"#N/A"}}]
[null,null,null,null,null,null,null,null,null,null,{"$f":"INDEX(Lists!$AH$3:$AH$27,MATCH(I5&J5,INDEX(Lists!$AF$3:$AF$27&Lists!$AG$3:$AG$27,),0))","v":{"$error":"#N/A"}},null,null,null,{"$f":"INDEX(Lists!$AH$3:$AH$27,MATCH(M5&N5,INDEX(Lists!$AF$3:$AF$27&Lists!$AG$3:$AG$27,),0))","v":{"$error":"#N/A"}}]
[null,null,null,null,null,null,null,null,null,null,{"$f":"INDEX(Lists!$AH$3:$AH$27,MATCH(I6&J6,INDEX(Lists!$AF$3:$AF$27&Lists!$AG$3:$AG$27,),0))","v":{"$error":"#N/A"}},null,null,null,{"$f":"INDEX(Lists!$AH$3:$AH$27,MATCH(M6&N6,INDEX(Lists!$AF$3:$AF$27&Lists!$AG$3:$AG$27,),0))","v":{"$error":"#N/A"}}]
[null,null,null,null,null,null,null,null,null,null,{"$f":"INDEX(Lists!$AH$3:$AH$27,MATCH(I7&J7,INDEX(Lists!$AF$3:$AF$27&Lists!$AG$3:$AG$27,),0))","v":{"$error":"#N/A"}},null,null,null,{"$f":"INDEX(Lists!$AH$3:$AH$27,MATCH(M7&N7,INDEX(Lists!$AF$3:$AF$27&Lists!$AG$3:$AG$27,),0))","v":{"$error":"#N/A"}}]
[null,null,null,null,null,null,null,null,null,null,{"$f":"INDEX(Lists!$AH$3:$AH$27,MATCH(I8&J8,INDEX(Lists!$AF$3:$AF$27&Lists!$AG$3:$AG$27,),0))","v":{"$error":"#N/A"}},null,null,null,{"$f":"INDEX(Lists!$AH$3:$AH$27,MATCH(M8&N8,INDEX(Lists!$AF$3:$AF$27&Lists!$AG$3:$AG$27,),0))","v":{"$error":"#N/A"}}]
[null,null,null,null,null,null,null,null,null,null,{"$f":"INDEX(Lists!$AH$3:$AH$27,MATCH(I9&J9,INDEX(Lists!$AF$3:$AF$27&Lists!$AG$3:$AG$27,),0))","v":{"$error":"#N/A"}},null,null,null,{"$f":"INDEX(Lists!$AH$3:$AH$27,MATCH(M9&N9,INDEX(Lists!$AF$3:$AF$27&Lists!$AG$3:$AG$27,),0))","v":{"$error":"#N/A"}}]
[null,null,null,null,null,null,null,null,null,null,{"$f":"INDEX(Lists!$AH$3:$AH$27,MATCH(I10&J10,INDEX(Lists!$AF$3:$AF$27&Lists!$AG$3:$AG$27,),0))","v":{"$error":"#N/A"}},null,null,null,{"$f":"INDEX(Lists!$AH$3:$AH$27,MATCH(M10&N10,INDEX(Lists!$AF$3:$AF$27&Lists!$AG$3:$AG$27,),0))","v":{"$error":"#N/A"}}]
[null,null,null,null,null,null,null,null,null,null,{"$f":"INDEX(Lists!$AH$3:$AH$27,MATCH(I11&J11,INDEX(Lists!$AF$3:$AF$27&Lists!$AG$3:$AG$27,),0))","v":{"$error":"#N/A"}},null,null,null,{"$f":"INDEX(Lists!$AH$3:$AH$27,MATCH(M11&N11,INDEX(Lists!$AF$3:$AF$27&Lists!$AG$3:$AG$27,),0))","v":{"$error":"#N/A"}}]
[null,null,null,null,null,null,null,null,null,null,{"$f":"INDEX(Lists!$AH$3:$AH$27,MATCH(I12&J12,INDEX(Lists!$AF$3:$AF$27&Lists!$AG$3:$AG$27,),0))","v":{"$error":"#N/A"}},null,null,null,{"$f":"INDEX(Lists!$AH$3:$AH$27,MATCH(M12&N12,INDEX(Lists!$AF$3:$AF$27&Lists!$AG$3:$AG$27,),0))","v":{"$error":"#N/A"}}]
[null,null,null,null,null,null,null,null,null,null,{"$f":"INDEX(Lists!$AH$3:$AH$27,MATCH(I13&J13,INDEX(Lists!$AF$3:$AF$27&Lists!$AG$3:$AG$27,),0))","v":{"$error":"#N/A"}},null,null,null,{"$f":"INDEX(Lists!$AH$3:$AH$27,MATCH(M13&N13,INDEX(Lists!$AF$3:$AF$27&Lists!$AG$3:$AG$27,),0))","v":{"$error":"#N/A"}}]
[null,null,null,null,null,null,null,null,null,null,{"$f":"INDEX(Lists!$AH$3:$AH$27,MATCH(I14&J14,INDEX(Lists!$AF$3:$AF$27&Lists!$AG$3:$AG$27,),0))","v":{"$error":"#N/A"}},null,null,null,{"$f":"INDEX(Lists!$AH$3:$AH$27,MATCH(M14&N14,INDEX(Lists!$AF$3:$AF$27&Lists!$AG$3:$AG$27,),0))","v":{"$error":"#N/A"}}]
[null,null,null,null,null,null,null,null,null,null,{"$f":"INDEX(Lists!$AH$3:$AH$27,MATCH(I15&J15,INDEX(Lists!$AF$3:$AF$27&Lists!$AG$3:$AG$27,),0))","v":{"$error":"#N/A"}},null,null,null,{"$f":"INDEX(Lists!$AH$3:$AH$27,MATCH(M15&N15,INDEX(Lists!$AF$3:$AF$27&Lists!$AG$3:$AG$27,),0))","v":{"$error":"#N/A"}}]
[null,null,null,null,null,null,null,null,null,null,{"$f":"INDEX(Lists!$AH$3:$AH$27,MATCH(I16&J16,INDEX(Lists!$AF$3:$AF$27&Lists!$AG$3:$AG$27,),0))","v":{"$error":"#N/A"}},null,null,null,{"$f":"INDEX(Lists!$AH$3:$AH$27,MATCH(M16&N16,INDEX(Lists!$AF$3:$AF$27&Lists!$AG$3:$AG$27,),0))","v":{"$error":"#N/A"}}]
[null,null,null,null,null,null,null,null,null,null,{"$f":"INDEX(Lists!$AH$3:$AH$27,MATCH(I17&J17,INDEX(Lists!$AF$3:$AF$27&Lists!$AG$3:$AG$27,),0))","v":{"$error":"#N/A"}},null,null,null,{"$f":"INDEX(Lists!$AH$3:$AH$27,MATCH(M17&N17,INDEX(Lists!$AF$3:$AF$27&Lists!$AG$3:$AG$27,),0))","v":{"$error":"#N/A"}}]
[null,null,null,null,null,null,null,null,null,null,{"$f":"INDEX(Lists!$AH$3:$AH$27,MATCH(I18&J18,INDEX(Lists!$AF$3:$AF$27&Lists!$AG$3:$AG$27,),0))","v":{"$error":"#N/A"}},null,null,null,{"$f":"INDEX(Lists!$AH$3:$AH$27,MATCH(M18&N18,INDEX(Lists!$AF$3:$AF$27&Lists!$AG$3:$AG$27,),0))","v":{"$error":"#N/A"}}]
[null,null,null,null,null,null,null,null,null,null,{"$f":"INDEX(Lists!$AH$3:$AH$27,MATCH(I19&J19,INDEX(Lists!$AF$3:$AF$27&Lists!$AG$3:$AG$27,),0))","v":{"$error":"#N/A"}},null,null,null,{"$f":"INDEX(Lists!$AH$3:$AH$27,MATCH(M19&N19,INDEX(Lists!$AF$3:$AF$27&Lists!$AG$3:$AG$27,),0))","v":{"$error":"#N/A"}}]
[null,null,null,null,null,null,null,null,null,null,{"$f":"INDEX(Lists!$AH$3:$AH$27,MATCH(I20&J20,INDEX(Lists!$AF$3:$AF$27&Lists!$AG$3:$AG$27,),0))","v":{"$error":"#N/A"}},null,null,null,{"$f":"INDEX(Lists!$AH$3:$AH$27,MATCH(M20&N20,INDEX(Lists!$AF$3:$AF$27&Lists!$AG$3:$AG$27,),0))","v":{"$error":"#N/A"}}]
[null,null,null,null,null,null,null,null,null,null,{"$f":"INDEX(Lists!$AH$3:$AH$27,MATCH(I21&J21,INDEX(Lists!$AF$3:$AF$27&Lists!$AG$3:$AG$27,),0))","v":{"$error":"#N/A"}},null,null,null,{"$f":"INDEX(Lists!$AH$3:$AH$27,MATCH(M21&N21,INDEX(Lists!$AF$3:$AF$27&Lists!$AG$3:$AG$27,),0))","v":{"$error":"#N/A"}}]
[null,null,null,null,null,null,null,null,null,null,{"$f":"INDEX(Lists!$AH$3:$AH$27,MATCH(I22&J22,INDEX(Lists!$AF$3:$AF$27&Lists!$AG$3:$AG$27,),0))","v":{"$error":"#N/A"}},null,null,null,{"$f":"INDEX(Lists!$AH$3:$AH$27,MATCH(M22&N22,INDEX(Lists!$AF$3:$AF$27&Lists!$AG$3:$AG$27,),0))","v":{"$error":"#N/A"}}]
[null,null,null,null,null,null,null,null,null,null,{"$f":"INDEX(Lists!$AH$3:$AH$27,MATCH(I23&J23,INDEX(Lists!$AF$3:$AF$27&Lists!$AG$3:$AG$27,),0))","v":{"$error":"#N/A"}},null,null,null,{"$f":"INDEX(Lists!$AH$3:$AH$27,MATCH(M23&N23,INDEX(Lists!$AF$3:$AF$27&Lists!$AG$3:$AG$27,),0))","v":{"$error":"#N/A"}}]
[null,null,null,null,null,null,null,null,null,null,{"$f":"INDEX(Lists!$AH$3:$AH$27,MATCH(I24&J24,INDEX(Lists!$AF$3:$AF$27&Lists!$AG$3:$AG$27,),0))","v":{"$error":"#N/A"}},null,null,null,{"$f":"INDEX(Lists!$AH$3:$AH$27,MATCH(M24&N24,INDEX(Lists!$AF$3:$AF$27&Lists!$AG$3:$AG$27,),0))","v":{"$error":"#N/A"}}]
[null,null,null,null,null,null,null,null,null,null,{"$f":"INDEX(Lists!$AH$3:$AH$27,MATCH(I25&J25,INDEX(Lists!$AF$3:$AF$27&Lists!$AG$3:$AG$27,),0))","v":{"$error":"#N/A"}},null,null,null,{"$f":"INDEX(Lists!$AH$3:$AH$27,MATCH(M25&N25,INDEX(Lists!$AF$3:$AF$27&Lists!$AG$3:$AG$27,),0))","v":{"$error":"#N/A"}}]
[null,null,null,null,null,null,null,null,null,null,{"$f":"INDEX(Lists!$AH$3:$AH$27,MATCH(I26&J26,INDEX(Lists!$AF$3:$AF$27&Lists!$AG$3:$AG$27,),0))","v":{"$error":"#N/A"}},null,null,null,{"$f":"INDEX(Lists!$AH$3:$AH$27,MATCH(M26&N26,INDEX(Lists!$AF$3:$AF$27&Lists!$AG$3:$AG$27,),0))","v":{"$error":"#N/A"}}]
[null,null,null,null,null,null,null,null,null,null,{"$f":"INDEX(Lists!$AH$3:$AH$27,MATCH(I27&J27,INDEX(Lists!$AF$3:$AF$27&Lists!$AG$3:$AG$27,),0))","v":{"$error":"#N/A"}},null,null,null,{"$f":"INDEX(Lists!$AH$3:$AH$27,MATCH(M27&N27,INDEX(Lists!$AF$3:$AF$27&Lists!$AG$3:$AG$27,),0))","v":{"$error":"#N/A"}}]
[null,null,null,null,null,null,null,null,null,null,{"$f":"INDEX(Lists!$AH$3:$AH$27,MATCH(I28&J28,INDEX(Lists!$AF$3:$AF$27&Lists!$AG$3:$AG$27,),0))","v":{"$error":"#N/A"}},null,null,null,{"$f":"INDEX(Lists!$AH$3:$AH$27,MATCH(M28&N28,INDEX(Lists!$AF$3:$AF$27&Lists!$AG$3:$AG$27,),0))","v":{"$error":"#N/A"}}]
[null,null,null,null,null,null,null,null,null,null,{"$f":"INDEX(Lists!$AH$3:$AH$27,MATCH(I29&J29,INDEX(Lists!$AF$3:$AF$27&Lists!$AG$3:$AG$27,),0))","v":{"$error":"#N/A"}},null,null,null,{"$f":"INDEX(Lists!$AH$3:$AH$27,MATCH(M29&N29,INDEX(Lists!$AF$3:$AF$27&Lists!$AG$3:$AG$27,),0))","v":{"$error":"#N/A"}}]
[null,null,null,null,null,null,null,null,null,null,{"$f":"INDEX(Lists!$AH$3:$AH$27,MATCH(I30&J30,INDEX(Lists!$AF$3:$AF$27&Lists!$AG$3:$AG$27,),0))","v":{"$error":"#N/A"}},null,null,null,{"$f":"INDEX(Lists!$AH$3:$AH$27,MATCH(M30&N30,INDEX(Lists!$AF$3:$AF$27&Lists!$AG$3:$AG$27,),0))","v":{"$error":"#N/A"}}]
[null,null,null,null,null,null,null,null,null,null,{"$f":"INDEX(Lists!$AH$3:$AH$27,MATCH(I31&J31,INDEX(Lists!$AF$3:$AF$27&Lists!$AG$3:$AG$27,),0))","v":{"$error":"#N/A"}},null,null,null,{"$f":"INDEX(Lists!$AH$3:$AH$27,MATCH(M31&N31,INDEX(Lists!$AF$3:$AF$27&Lists!$AG$3:$AG$27,),0))","v":{"$error":"#N/A"}}]
[null,null,null,null,null,null,null,null,null,null,{"$f":"INDEX(Lists!$AH$3:$AH$27,MATCH(I32&J32,INDEX(Lists!$AF$3:$AF$27&Lists!$AG$3:$AG$27,),0))","v":{"$error":"#N/A"}},null,null,null,{"$f":"INDEX(Lists!$AH$3:$AH$27,MATCH(M32&N32,INDEX(Lists!$AF$3:$AF$27&Lists!$AG$3:$AG$27,),0))","v":{"$error":"#N/A"}}]
[null,null,null,null,null,null,null,null,null,null,{"$f":"INDEX(Lists!$AH$3:$AH$27,MATCH(I33&J33,INDEX(Lists!$AF$3:$AF$27&Lists!$AG$3:$AG$27,),0))","v":{"$error":"#N/A"}},null,null,null,{"$f":"INDEX(Lists!$AH$3:$AH$27,MATCH(M33&N33,INDEX(Lists!$AF$3:$AF$27&Lists!$AG$3:$AG$27,),0))","v":{"$error":"#N/A"}}]
[null,null,null,null,null,null,null,null,null,null,{"$f":"INDEX(Lists!$AH$3:$AH$27,MATCH(I34&J34,INDEX(Lists!$AF$3:$AF$27&Lists!$AG$3:$AG$27,),0))","v":{"$error":"#N/A"}},null,null,null,{"$f":"INDEX(Lists!$AH$3:$AH$27,MATCH(M34&N34,INDEX(Lists!$AF$3:$AF$27&Lists!$AG$3:$AG$27,),0))","v":{"$error":"#N/A"}}]
[null,null,null,null,null,null,null,null,null,null,{"$f":"INDEX(Lists!$AH$3:$AH$27,MATCH(I35&J35,INDEX(Lists!$AF$3:$AF$27&Lists!$AG$3:$AG$27,),0))","v":{"$error":"#N/A"}},null,null,null,{"$f":"INDEX(Lists!$AH$3:$AH$27,MATCH(M35&N35,INDEX(Lists!$AF$3:$AF$27&Lists!$AG$3:$AG$27,),0))","v":{"$error":"#N/A"}}]
[null,null,null,null,null,null,null,null,null,null,{"$f":"INDEX(Lists!$AH$3:$AH$27,MATCH(I36&J36,INDEX(Lists!$AF$3:$AF$27&Lists!$AG$3:$AG$27,),0))","v":{"$error":"#N/A"}},null,null,null,{"$f":"INDEX(Lists!$AH$3:$AH$27,MATCH(M36&N36,INDEX(Lists!$AF$3:$AF$27&Lists!$AG$3:$AG$27,),0))","v":{"$error":"#N/A"}}]
[null,null,null,null,null,null,null,null,null,null,{"$f":"INDEX(Lists!$AH$3:$AH$27,MATCH(I37&J37,INDEX(Lists!$AF$3:$AF$27&Lists!$AG$3:$AG$27,),0))","v":{"$error":"#N/A"}},null,null,null,{"$f":"INDEX(Lists!$AH$3:$AH$27,MATCH(M37&N37,INDEX(Lists!$AF$3:$AF$27&Lists!$AG$3:$AG$27,),0))","v":{"$error":"#N/A"}}]
[null,null,null,null,null,null,null,null,null,null,{"$f":"INDEX(Lists!$AH$3:$AH$27,MATCH(I38&J38,INDEX(Lists!$AF$3:$AF$27&Lists!$AG$3:$AG$27,),0))","v":{"$error":"#N/A"}},null,null,null,{"$f":"INDEX(Lists!$AH$3:$AH$27,MATCH(M38&N38,INDEX(Lists!$AF$3:$AF$27&Lists!$AG$3:$AG$27,),0))","v":{"$error":"#N/A"}}]
[null,null,null,null,null,null,null,null,null,null,{"$f":"INDEX(Lists!$AH$3:$AH$27,MATCH(I39&J39,INDEX(Lists!$AF$3:$AF$27&Lists!$AG$3:$AG$27,),0))","v":{"$error":"#N/A"}},null,null,null,{"$f":"INDEX(Lists!$AH$3:$AH$27,MATCH(M39&N39,INDEX(Lists!$AF$3:$AF$27&Lists!$AG$3:$AG$27,),0))","v":{"$error":"#N/A"}}]
[null,null,null,null,null,null,null,null,null,null,{"$f":"INDEX(Lists!$AH$3:$AH$27,MATCH(I40&J40,INDEX(Lists!$AF$3:$AF$27&Lists!$AG$3:$AG$27,),0))","v":{"$error":"#N/A"}},null,null,null,{"$f":"INDEX(Lists!$AH$3:$AH$27,MATCH(M40&N40,INDEX(Lists!$AF$3:$AF$27&Lists!$AG$3:$AG$27,),0))","v":{"$error":"#N/A"}}]
[null,null,null,null,null,null,null,null,null,null,{"$f":"INDEX(Lists!$AH$3:$AH$27,MATCH(I41&J41,INDEX(Lists!$AF$3:$AF$27&Lists!$AG$3:$AG$27,),0))","v":{"$error":"#N/A"}},null,null,null,{"$f":"INDEX(Lists!$AH$3:$AH$27,MATCH(M41&N41,INDEX(Lists!$AF$3:$AF$27&Lists!$AG$3:$AG$27,),0))","v":{"$error":"#N/A"}}]
[null,null,null,null,null,null,null,null,null,null,{"$f":"INDEX(Lists!$AH$3:$AH$27,MATCH(I42&J42,INDEX(Lists!$AF$3:$AF$27&Lists!$AG$3:$AG$27,),0))","v":{"$error":"#N/A"}},null,null,null,{"$f":"INDEX(Lists!$AH$3:$AH$27,MATCH(M42&N42,INDEX(Lists!$AF$3:$AF$27&Lists!$AG$3:$AG$27,),0))","v":{"$error":"#N/A"}}]
[null,null,null,null,null,null,null,null,null,null,{"$f":"INDEX(Lists!$AH$3:$AH$27,MATCH(I43&J43,INDEX(Lists!$AF$3:$AF$27&Lists!$AG$3:$AG$27,),0))","v":{"$error":"#N/A"}},null,null,null,{"$f":"INDEX(Lists!$AH$3:$AH$27,MATCH(M43&N43,INDEX(Lists!$AF$3:$AF$27&Lists!$AG$3:$AG$27,),0))","v":{"$error":"#N/A"}}]
[null,null,null,null,null,null,null,null,null,null,{"$f":"INDEX(Lists!$AH$3:$AH$27,MATCH(I44&J44,INDEX(Lists!$AF$3:$AF$27&Lists!$AG$3:$AG$27,),0))","v":{"$error":"#N/A"}},null,null,null,{"$f":"INDEX(Lists!$AH$3:$AH$27,MATCH(M44&N44,INDEX(Lists!$AF$3:$AF$27&Lists!$AG$3:$AG$27,),0))","v":{"$error":"#N/A"}}]
[null,null,null,null,null,null,null,null,null,null,{"$f":"INDEX(Lists!$AH$3:$AH$27,MATCH(I45&J45,INDEX(Lists!$AF$3:$AF$27&Lists!$AG$3:$AG$27,),0))","v":{"$error":"#N/A"}},null,null,null,{"$f":"INDEX(Lists!$AH$3:$AH$27,MATCH(M45&N45,INDEX(Lists!$AF$3:$AF$27&Lists!$AG$3:$AG$27,),0))","v":{"$error":"#N/A"}}]
[null,null,null,null,null,null,null,null,null,null,{"$f":"INDEX(Lists!$AH$3:$AH$27,MATCH(I46&J46,INDEX(Lists!$AF$3:$AF$27&Lists!$AG$3:$AG$27,),0))","v":{"$error":"#N/A"}},null,null,null,{"$f":"INDEX(Lists!$AH$3:$AH$27,MATCH(M46&N46,INDEX(Lists!$AF$3:$AF$27&Lists!$AG$3:$AG$27,),0))","v":{"$error":"#N/A"}}]
[null,null,null,null,null,null,null,null,null,null,{"$f":"INDEX(Lists!$AH$3:$AH$27,MATCH(I47&J47,INDEX(Lists!$AF$3:$AF$27&Lists!$AG$3:$AG$27,),0))","v":{"$error":"#N/A"}},null,null,null,{"$f":"INDEX(Lists!$AH$3:$AH$27,MATCH(M47&N47,INDEX(Lists!$AF$3:$AF$27&Lists!$AG$3:$AG$27,),0))","v":{"$error":"#N/A"}}]
[null,null,null,null,null,null,null,null,null,null,{"$f":"INDEX(Lists!$AH$3:$AH$27,MATCH(I48&J48,INDEX(Lists!$AF$3:$AF$27&Lists!$AG$3:$AG$27,),0))","v":{"$error":"#N/A"}},null,null,null,{"$f":"INDEX(Lists!$AH$3:$AH$27,MATCH(M48&N48,INDEX(Lists!$AF$3:$AF$27&Lists!$AG$3:$AG$27,),0))","v":{"$error":"#N/A"}}]
[null,null,null,null,null,null,null,null,null,null,{"$f":"INDEX(Lists!$AH$3:$AH$27,MATCH(I49&J49,INDEX(Lists!$AF$3:$AF$27&Lists!$AG$3:$AG$27,),0))","v":{"$error":"#N/A"}},null,null,null,{"$f":"INDEX(Lists!$AH$3:$AH$27,MATCH(M49&N49,INDEX(Lists!$AF$3:$AF$27&Lists!$AG$3:$AG$27,),0))","v":{"$error":"#N/A"}}]
[null,null,null,null,null,null,null,null,null,null,{"$f":"INDEX(Lists!$AH$3:$AH$27,MATCH(I50&J50,INDEX(Lists!$AF$3:$AF$27&Lists!$AG$3:$AG$27,),0))","v":{"$error":"#N/A"}},null,null,null,{"$f":"INDEX(Lists!$AH$3:$AH$27,MATCH(M50&N50,INDEX(Lists!$AF$3:$AF$27&Lists!$AG$3:$AG$27,),0))","v":{"$error":"#N/A"}}]
[null,null,null,null,null,null,null,null,null,null,{"$f":"INDEX(Lists!$AH$3:$AH$27,MATCH(I51&J51,INDEX(Lists!$AF$3:$AF$27&Lists!$AG$3:$AG$27,),0))","v":{"$error":"#N/A"}},null,null,null,{"$f":"INDEX(Lists!$AH$3:$AH$27,MATCH(M51&N51,INDEX(Lists!$AF$3:$AF$27&Lists!$AG$3:$AG$27,),0))","v":{"$error":"#N/A"}}]
[null,null,null,null,null,null,null,null,null,null,{"$f":"INDEX(Lists!$AH$3:$AH$27,MATCH(I52&J52,INDEX(Lists!$AF$3:$AF$27&Lists!$AG$3:$AG$27,),0))","v":{"$error":"#N/A"}},null,null,null,{"$f":"INDEX(Lists!$AH$3:$AH$27,MATCH(M52&N52,INDEX(Lists!$AF$3:$AF$27&Lists!$AG$3:$AG$27,),0))","v":{"$error":"#N/A"}}]
[null,null,null,null,null,null,null,null,null,null,{"$f":"INDEX(Lists!$AH$3:$AH$27,MATCH(I53&J53,INDEX(Lists!$AF$3:$AF$27&Lists!$AG$3:$AG$27,),0))","v":{"$error":"#N/A"}},null,null,null,{"$f":"INDEX(Lists!$AH$3:$AH$27,MATCH(M53&N53,INDEX(Lists!$AF$3:$AF$27&Lists!$AG$3:$AG$27,),0))","v":{"$error":"#N/A"}}]
[null,null,null,null,null,null,null,null,null,null,{"$f":"INDEX(Lists!$AH$3:$AH$27,MATCH(I54&J54,INDEX(Lists!$AF$3:$AF$27&Lists!$AG$3:$AG$27,),0))","v":{"$error":"#N/A"}},null,null,null,{"$f":"INDEX(Lists!$AH$3:$AH$27,MATCH(M54&N54,INDEX(Lists!$AF$3:$AF$27&Lists!$AG$3:$AG$27,),0))","v":{"$error":"#N/A"}}]
[null,null,null,null,null,null,null,null,null,null,{"$f":"INDEX(Lists!$AH$3:$AH$27,MATCH(I55&J55,INDEX(Lists!$AF$3:$AF$27&Lists!$AG$3:$AG$27,),0))","v":{"$error":"#N/A"}},null,null,null,{"$f":"INDEX(Lists!$AH$3:$AH$27,MATCH(M55&N55,INDEX(Lists!$AF$3:$AF$27&Lists!$AG$3:$AG$27,),0))","v":{"$error":"#N/A"}}]
[null,null,null,null,null,null,null,null,null,null,{"$f":"INDEX(Lists!$AH$3:$AH$27,MATCH(I56&J56,INDEX(Lists!$AF$3:$AF$27&Lists!$AG$3:$AG$27,),0))","v":{"$error":"#N/A"}},null,null,null,{"$f":"INDEX(Lists!$AH$3:$AH$27,MATCH(M56&N56,INDEX(Lists!$AF$3:$AF$27&Lists!$AG$3:$AG$27,),0))","v":{"$error":"#N/A"}}]
[null,null,null,null,null,null,null,null,null,null,{"$f":"INDEX(Lists!$AH$3:$AH$27,MATCH(I57&J57,INDEX(Lists!$AF$3:$AF$27&Lists!$AG$3:$AG$27,),0))","v":{"$error":"#N/A"}},null,null,null,{"$f":"INDEX(Lists!$AH$3:$AH$27,MATCH(M57&N57,INDEX(Lists!$AF$3:$AF$27&Lists!$AG$3:$AG$27,),0))","v":{"$error":"#N/A"}}]
[null,null,null,null,null,null,null,null,null,null,{"$f":"INDEX(Lists!$AH$3:$AH$27,MATCH(I58&J58,INDEX(Lists!$AF$3:$AF$27&Lists!$AG$3:$AG$27,),0))","v":{"$error":"#N/A"}},null,null,null,{"$f":"INDEX(Lists!$AH$3:$AH$27,MATCH(M58&N58,INDEX(Lists!$AF$3:$AF$27&Lists!$AG$3:$AG$27,),0))","v":{"$error":"#N/A"}}]
[null,null,null,null,null,null,null,null,null,null,{"$f":"INDEX(Lists!$AH$3:$AH$27,MATCH(I59&J59,INDEX(Lists!$AF$3:$AF$27&Lists!$AG$3:$AG$27,),0))","v":{"$error":"#N/A"}},null,null,null,{"$f":"INDEX(Lists!$AH$3:$AH$27,MATCH(M59&N59,INDEX(Lists!$AF$3:$AF$27&Lists!$AG$3:$AG$27,),0))","v":{"$error":"#N/A"}}]
[null,null,null,null,null,null,null,null,null,null,{"$f":"INDEX(Lists!$AH$3:$AH$27,MATCH(I60&J60,INDEX(Lists!$AF$3:$AF$27&Lists!$AG$3:$AG$27,),0))","v":{"$error":"#N/A"}},null,null,null,{"$f":"INDEX(Lists!$AH$3:$AH$27,MATCH(M60&N60,INDEX(Lists!$AF$3:$AF$27&Lists!$AG$3:$AG$27,),0))","v":{"$error":"#N/A"}}]
[null,null,null,null,null,null,null,null,null,null,{"$f":"INDEX(Lists!$AH$3:$AH$27,MATCH(I61&J61,INDEX(Lists!$AF$3:$AF$27&Lists!$AG$3:$AG$27,),0))","v":{"$error":"#N/A"}},null,null,null,{"$f":"INDEX(Lists!$AH$3:$AH$27,MATCH(M61&N61,INDEX(Lists!$AF$3:$AF$27&Lists!$AG$3:$AG$27,),0))","v":{"$error":"#N/A"}}]
[null,null,null,null,null,null,null,null,null,null,{"$f":"INDEX(Lists!$AH$3:$AH$27,MATCH(I62&J62,INDEX(Lists!$AF$3:$AF$27&Lists!$AG$3:$AG$27,),0))","v":{"$error":"#N/A"}},null,null,null,{"$f":"INDEX(Lists!$AH$3:$AH$27,MATCH(M62&N62,INDEX(Lists!$AF$3:$AF$27&Lists!$AG$3:$AG$27,),0))","v":{"$error":"#N/A"}}]
[null,null,null,null,null,null,null,null,null,null,{"$f":"INDEX(Lists!$AH$3:$AH$27,MATCH(I63&J63,INDEX(Lists!$AF$3:$AF$27&Lists!$AG$3:$AG$27,),0))","v":{"$error":"#N/A"}},null,null,null,{"$f":"INDEX(Lists!$AH$3:$AH$27,MATCH(M63&N63,INDEX(Lists!$AF$3:$AF$27&Lists!$AG$3:$AG$27,),0))","v":{"$error":"#N/A"}}]
[null,null,null,null,null,null,null,null,null,null,{"$f":"INDEX(Lists!$AH$3:$AH$27,MATCH(I64&J64,INDEX(Lists!$AF$3:$AF$27&Lists!$AG$3:$AG$27,),0))","v":{"$error":"#N/A"}},null,null,null,{"$f":"INDEX(Lists!$AH$3:$AH$27,MATCH(M64&N64,INDEX(Lists!$AF$3:$AF$27&Lists!$AG$3:$AG$27,),0))","v":{"$error":"#N/A"}}]
[null,null,null,null,null,null,null,null,null,null,{"$f":"INDEX(Lists!$AH$3:$AH$27,MATCH(I65&J65,INDEX(Lists!$AF$3:$AF$27&Lists!$AG$3:$AG$27,),0))","v":{"$error":"#N/A"}},null,null,null,{"$f":"INDEX(Lists!$AH$3:$AH$27,MATCH(M65&N65,INDEX(Lists!$AF$3:$AF$27&Lists!$AG$3:$AG$27,),0))","v":{"$error":"#N/A"}}]
[null,null,null,null,null,null,null,null,null,null,{"$f":"INDEX(Lists!$AH$3:$AH$27,MATCH(I66&J66,INDEX(Lists!$AF$3:$AF$27&Lists!$AG$3:$AG$27,),0))","v":{"$error":"#N/A"}},null,null,null,{"$f":"INDEX(Lists!$AH$3:$AH$27,MATCH(M66&N66,INDEX(Lists!$AF$3:$AF$27&Lists!$AG$3:$AG$27,),0))","v":{"$error":"#N/A"}}]
[null,null,null,null,null,null,null,null,null,null,{"$f":"INDEX(Lists!$AH$3:$AH$27,MATCH(I67&J67,INDEX(Lists!$AF$3:$AF$27&Lists!$AG$3:$AG$27,),0))","v":{"$error":"#N/A"}},null,null,null,{"$f":"INDEX(Lists!$AH$3:$AH$27,MATCH(M67&N67,INDEX(Lists!$AF$3:$AF$27&Lists!$AG$3:$AG$27,),0))","v":{"$error":"#N/A"}}]
[null,null,null,null,null,null,null,null,null,null,{"$f":"INDEX(Lists!$AH$3:$AH$27,MATCH(I68&J68,INDEX(Lists!$AF$3:$AF$27&Lists!$AG$3:$AG$27,),0))","v":{"$error":"#N/A"}},null,null,null,{"$f":"INDEX(Lists!$AH$3:$AH$27,MATCH(M68&N68,INDEX(Lists!$AF$3:$AF$27&Lists!$AG$3:$AG$27,),0))","v":{"$error":"#N/A"}}]
[null,null,null,null,null,null,null,null,null,null,{"$f":"INDEX(Lists!$AH$3:$AH$27,MATCH(I69&J69,INDEX(Lists!$AF$3:$AF$27&Lists!$AG$3:$AG$27,),0))","v":{"$error":"#N/A"}},null,null,null,{"$f":"INDEX(Lists!$AH$3:$AH$27,MATCH(M69&N69,INDEX(Lists!$AF$3:$AF$27&Lists!$AG$3:$AG$27,),0))","v":{"$error":"#N/A"}}]
[null,null,null,null,null,null,null,null,null,null,{"$f":"INDEX(Lists!$AH$3:$AH$27,MATCH(I70&J70,INDEX(Lists!$AF$3:$AF$27&Lists!$AG$3:$AG$27,),0))","v":{"$error":"#N/A"}},null,null,null,{"$f":"INDEX(Lists!$AH$3:$AH$27,MATCH(M70&N70,INDEX(Lists!$AF$3:$AF$27&Lists!$AG$3:$AG$27,),0))","v":{"$error":"#N/A"}}]
[null,null,null,null,null,null,null,null,null,null,{"$f":"INDEX(Lists!$AH$3:$AH$27,MATCH(I71&J71,INDEX(Lists!$AF$3:$AF$27&Lists!$AG$3:$AG$27,),0))","v":{"$error":"#N/A"}},null,null,null,{"$f":"INDEX(Lists!$AH$3:$AH$27,MATCH(M71&N71,INDEX(Lists!$AF$3:$AF$27&Lists!$AG$3:$AG$27,),0))","v":{"$error":"#N/A"}}]
[null,null,null,null,null,null,null,null,null,null,{"$f":"INDEX(Lists!$AH$3:$AH$27,MATCH(I72&J72,INDEX(Lists!$AF$3:$AF$27&Lists!$AG$3:$AG$27,),0))","v":{"$error":"#N/A"}},null,null,null,{"$f":"INDEX(Lists!$AH$3:$AH$27,MATCH(M72&N72,INDEX(Lists!$AF$3:$AF$27&Lists!$AG$3:$AG$27,),0))","v":{"$error":"#N/A"}}]
[null,null,null,null,null,null,null,null,null,null,{"$f":"INDEX(Lists!$AH$3:$AH$27,MATCH(I73&J73,INDEX(Lists!$AF$3:$AF$27&Lists!$AG$3:$AG$27,),0))","v":{"$error":"#N/A"}},null,null,null,{"$f":"INDEX(Lists!$AH$3:$AH$27,MATCH(M73&N73,INDEX(Lists!$AF$3:$AF$27&Lists!$AG$3:$AG$27,),0))","v":{"$error":"#N/A"}}]
[null,null,null,null,null,null,null,null,null,null,{"$f":"INDEX(Lists!$AH$3:$AH$27,MATCH(I74&J74,INDEX(Lists!$AF$3:$AF$27&Lists!$AG$3:$AG$27,),0))","v":{"$error":"#N/A"}},null,null,null,{"$f":"INDEX(Lists!$AH$3:$AH$27,MATCH(M74&N74,INDEX(Lists!$AF$3:$AF$27&Lists!$AG$3:$AG$27,),0))","v":{"$error":"#N/A"}}]
[null,null,null,null,null,null,null,null,null,null,{"$f":"INDEX(Lists!$AH$3:$AH$27,MATCH(I75&J75,INDEX(Lists!$AF$3:$AF$27&Lists!$AG$3:$AG$27,),0))","v":{"$error":"#N/A"}},null,null,null,{"$f":"INDEX(Lists!$AH$3:$AH$27,MATCH(M75&N75,INDEX(Lists!$AF$3:$AF$27&Lists!$AG$3:$AG$27,),0))","v":{"$error":"#N/A"}}]
[null,null,null,null,null,null,null,null,null,null,{"$f":"INDEX(Lists!$AH$3:$AH$27,MATCH(I76&J76,INDEX(Lists!$AF$3:$AF$27&Lists!$AG$3:$AG$27,),0))","v":{"$error":"#N/A"}},null,null,null,{"$f":"INDEX(Lists!$AH$3:$AH$27,MATCH(M76&N76,INDEX(Lists!$AF$3:$AF$27&Lists!$AG$3:$AG$27,),0))","v":{"$error":"#N/A"}}]
[null,null,null,null,null,null,null,null,null,null,{"$f":"INDEX(Lists!$AH$3:$AH$27,MATCH(I77&J77,INDEX(Lists!$AF$3:$AF$27&Lists!$AG$3:$AG$27,),0))","v":{"$error":"#N/A"}},null,null,null,{"$f":"INDEX(Lists!$AH$3:$AH$27,MATCH(M77&N77,INDEX(Lists!$AF$3:$AF$27&Lists!$AG$3:$AG$27,),0))","v":{"$error":"#N/A"}}]
[null,null,null,null,null,null,null,null,null,null,{"$f":"INDEX(Lists!$AH$3:$AH$27,MATCH(I78&J78,INDEX(Lists!$AF$3:$AF$27&Lists!$AG$3:$AG$27,),0))","v":{"$error":"#N/A"}},null,null,null,{"$f":"INDEX(Lists!$AH$3:$AH$27,MATCH(M78&N78,INDEX(Lists!$AF$3:$AF$27&Lists!$AG$3:$AG$27,),0))","v":{"$error":"#N/A"}}]
[null,null,null,null,null,null,null,null,null,null,{"$f":"INDEX(Lists!$AH$3:$AH$27,MATCH(I79&J79,INDEX(Lists!$AF$3:$AF$27&Lists!$AG$3:$AG$27,),0))","v":{"$error":"#N/A"}},null,null,null,{"$f":"INDEX(Lists!$AH$3:$AH$27,MATCH(M79&N79,INDEX(Lists!$AF$3:$AF$27&Lists!$AG$3:$AG$27,),0))","v":{"$error":"#N/A"}}]
[null,null,null,null,null,null,null,null,null,null,{"$f":"INDEX(Lists!$AH$3:$AH$27,MATCH(I80&J80,INDEX(Lists!$AF$3:$AF$27&Lists!$AG$3:$AG$27,),0))","v":{"$error":"#N/A"}},null,null,null,{"$f":"INDEX(Lists!$AH$3:$AH$27,MATCH(M80&N80,INDEX(Lists!$AF$3:$AF$27&Lists!$AG$3:$AG$27,),0))","v":{"$error":"#N/A"}}]
[null,null,null,null,null,null,null,null,null,null,{"$f":"INDEX(Lists!$AH$3:$AH$27,MATCH(I81&J81,INDEX(Lists!$AF$3:$AF$27&Lists!$AG$3:$AG$27,),0))","v":{"$error":"#N/A"}},null,null,null,{"$f":"INDEX(Lists!$AH$3:$AH$27,MATCH(M81&N81,INDEX(Lists!$AF$3:$AF$27&Lists!$AG$3:$AG$27,),0))","v":{"$error":"#N/A"}}]
[null,null,null,null,null,null,null,null,null,null,{"$f":"INDEX(Lists!$AH$3:$AH$27,MATCH(I82&J82,INDEX(Lists!$AF$3:$AF$27&Lists!$AG$3:$AG$27,),0))","v":{"$error":"#N/A"}},null,null,null,{"$f":"INDEX(Lists!$AH$3:$AH$27,MATCH(M82&N82,INDEX(Lists!$AF$3:$AF$27&Lists!$AG$3:$AG$27,),0))","v":{"$error":"#N/A"}}]
[null,null,null,null,null,null,null,null,null,null,{"$f":"INDEX(Lists!$AH$3:$AH$27,MATCH(I83&J83,INDEX(Lists!$AF$3:$AF$27&Lists!$AG$3:$AG$27,),0))","v":{"$error":"#N/A"}},null,null,null,{"$f":"INDEX(Lists!$AH$3:$AH$27,MATCH(M83&N83,INDEX(Lists!$AF$3:$AF$27&Lists!$AG$3:$AG$27,),0))","v":{"$error":"#N/A"}}]
[null,null,null,null,null,null,null,null,null,null,{"$f":"INDEX(Lists!$AH$3:$AH$27,MATCH(I84&J84,INDEX(Lists!$AF$3:$AF$27&Lists!$AG$3:$AG$27,),0))","v":{"$error":"#N/A"}},null,null,null,{"$f":"INDEX(Lists!$AH$3:$AH$27,MATCH(M84&N84,INDEX(Lists!$AF$3:$AF$27&Lists!$AG$3:$AG$27,),0))","v":{"$error":"#N/A"}}]
[null,null,null,null,null,null,null,null,null,null,{"$f":"INDEX(Lists!$AH$3:$AH$27,MATCH(I85&J85,INDEX(Lists!$AF$3:$AF$27&Lists!$AG$3:$AG$27,),0))","v":{"$error":"#N/A"}},null,null,null,{"$f":"INDEX(Lists!$AH$3:$AH$27,MATCH(M85&N85,INDEX(Lists!$AF$3:$AF$27&Lists!$AG$3:$AG$27,),0))","v":{"$error":"#N/A"}}]
[null,null,null,null,null,null,null,null,null,null,{"$f":"INDEX(Lists!$AH$3:$AH$27,MATCH(I86&J86,INDEX(Lists!$AF$3:$AF$27&Lists!$AG$3:$AG$27,),0))","v":{"$error":"#N/A"}},null,null,null,{"$f":"INDEX(Lists!$AH$3:$AH$27,MATCH(M86&N86,INDEX(Lists!$AF$3:$AF$27&Lists!$AG$3:$AG$27,),0))","v":{"$error":"#N/A"}}]
[null,null,null,null,null,null,null,null,null,null,{"$f":"INDEX(Lists!$AH$3:$AH$27,MATCH(I87&J87,INDEX(Lists!$AF$3:$AF$27&Lists!$AG$3:$AG$27,),0))","v":{"$error":"#N/A"}},null,null,null,{"$f":"INDEX(Lists!$AH$3:$AH$27,MATCH(M87&N87,INDEX(Lists!$AF$3:$AF$27&Lists!$AG$3:$AG$27,),0))","v":{"$error":"#N/A"}}]
[null,null,null,null,null,null,null,null,null,null,{"$f":"INDEX(Lists!$AH$3:$AH$27,MATCH(I88&J88,INDEX(Lists!$AF$3:$AF$27&Lists!$AG$3:$AG$27,),0))","v":{"$error":"#N/A"}},null,null,null,{"$f":"INDEX(Lists!$AH$3:$AH$27,MATCH(M88&N88,INDEX(Lists!$AF$3:$AF$27&Lists!$AG$3:$AG$27,),0))","v":{"$error":"#N/A"}}]
[null,null,null,null,null,null,null,null,null,null,{"$f":"INDEX(Lists!$AH$3:$AH$27,MATCH(I89&J89,INDEX(Lists!$AF$3:$AF$27&Lists!$AG$3:$AG$27,),0))","v":{"$error":"#N/A"}},null,null,null,{"$f":"INDEX(Lists!$AH$3:$AH$27,MATCH(M89&N89,INDEX(Lists!$AF$3:$AF$27&Lists!$AG$3:$AG$27,),0))","v":{"$error":"#N/A"}}]
[null,null,null,null,null,null,null,null,null,null,{"$f":"INDEX(Lists!$AH$3:$AH$27,MATCH(I90&J90,INDEX(Lists!$AF$3:$AF$27&Lists!$AG$3:$AG$27,),0))","v":{"$error":"#N/A"}},null,null,null,{"$f":"INDEX(Lists!$AH$3:$AH$27,MATCH(M90&N90,INDEX(Lists!$AF$3:$AF$27&Lists!$AG$3:$AG$27,),0))","v":{"$error":"#N/A"}}]
[null,null,null,null,null,null,null,null,null,null,{"$f":"INDEX(Lists!$AH$3:$AH$27,MATCH(I91&J91,INDEX(Lists!$AF$3:$AF$27&Lists!$AG$3:$AG$27,),0))","v":{"$error":"#N/A"}},null,null,null,{"$f":"INDEX(Lists!$AH$3:$AH$27,MATCH(M91&N91,INDEX(Lists!$AF$3:$AF$27&Lists!$AG$3:$AG$27,),0))","v":{"$error":"#N/A"}}]
[null,null,null,null,null,null,null,null,null,null,{"$f":"INDEX(Lists!$AH$3:$AH$27,MATCH(I92&J92,INDEX(Lists!$AF$3:$AF$27&Lists!$AG$3:$AG$27,),0))","v":{"$error":"#N/A"}},null,null,null,{"$f":"INDEX(Lists!$AH$3:$AH$27,MATCH(M92&N92,INDEX(Lists!$AF$3:$AF$27&Lists!$AG$3:$AG$27,),0))","v":{"$error":"#N/A"}}]
[null,null,null,null,null,null,null,null,null,null,{"$f":"INDEX(Lists!$AH$3:$AH$27,MATCH(I93&J93,INDEX(Lists!$AF$3:$AF$27&Lists!$AG$3:$AG$27,),0))","v":{"$error":"#N/A"}},null,null,null,{"$f":"INDEX(Lists!$AH$3:$AH$27,MATCH(M93&N93,INDEX(Lists!$AF$3:$AF$27&Lists!$AG$3:$AG$27,),0))","v":{"$error":"#N/A"}}]
[null,null,null,null,null,null,null,null,null,null,{"$f":"INDEX(Lists!$AH$3:$AH$27,MATCH(I94&J94,INDEX(Lists!$AF$3:$AF$27&Lists!$AG$3:$AG$27,),0))","v":{"$error":"#N/A"}},null,null,null,{"$f":"INDEX(Lists!$AH$3:$AH$27,MATCH(M94&N94,INDEX(Lists!$AF$3:$AF$27&Lists!$AG$3:$AG$27,),0))","v":{"$error":"#N/A"}}]
[null,null,null,null,null,null,null,null,null,null,{"$f":"INDEX(Lists!$AH$3:$AH$27,MATCH(I95&J95,INDEX(Lists!$AF$3:$AF$27&Lists!$AG$3:$AG$27,),0))","v":{"$error":"#N/A"}},null,null,null,{"$f":"INDEX(Lists!$AH$3:$AH$27,MATCH(M95&N95,INDEX(Lists!$AF$3:$AF$27&Lists!$AG$3:$AG$27,),0))","v":{"$error":"#N/A"}}]
[null,null,null,null,null,null,null,null,null,null,{"$f":"INDEX(Lists!$AH$3:$AH$27,MATCH(I96&J96,INDEX(Lists!$AF$3:$AF$27&Lists!$AG$3:$AG$27,),0))","v":{"$error":"#N/A"}},null,null,null,{"$f":"INDEX(Lists!$AH$3:$AH$27,MATCH(M96&N96,INDEX(Lists!$AF$3:$AF$27&Lists!$AG$3:$AG$27,),0))","v":{"$error":"#N/A"}}]
[null,null,null,null,null,null,null,null,null,null,{"$f":"INDEX(Lists!$AH$3:$AH$27,MATCH(I97&J97,INDEX(Lists!$AF$3:$AF$27&Lists!$AG$3:$AG$27,),0))","v":{"$error":"#N/A"}},null,null,null,{"$f":"INDEX(Lists!$AH$3:$AH$27,MATCH(M97&N97,INDEX(Lists!$AF$3:$AF$27&Lists!$AG$3:$AG$27,),0))","v":{"$error":"#N/A"}}]
[null,null,null,null,null,null,null,null,null,null,{"$f":"INDEX(Lists!$AH$3:$AH$27,MATCH(I98&J98,INDEX(Lists!$AF$3:$AF$27&Lists!$AG$3:$AG$27,),0))","v":{"$error":"#N/A"}},null,null,null,{"$f":"INDEX(Lists!$AH$3:$AH$27,MATCH(M98&N98,INDEX(Lists!$AF$3:$AF$27&Lists!$AG$3:$AG$27,),0))","v":{"$error":"#N/A"}}]
[null,null,null,null,null,null,null,null,null,null,{"$f":"INDEX(Lists!$AH$3:$AH$27,MATCH(I99&J99,INDEX(Lists!$AF$3:$AF$27&Lists!$AG$3:$AG$27,),0))","v":{"$error":"#N/A"}},null,null,null,{"$f":"INDEX(Lists!$AH$3:$AH$27,MATCH(M99&N99,INDEX(Lists!$AF$3:$AF$27&Lists!$AG$3:$AG$27,),0))","v":{"$error":"#N/A"}}]
[null,null,null,null,null,null,null,null,null,null,{"$f":"INDEX(Lists!$AH$3:$AH$27,MATCH(I100&J100,INDEX(Lists!$AF$3:$AF$27&Lists!$AG$3:$AG$27,),0))","v":{"$error":"#N/A"}},null,null,null,{"$f":"INDEX(Lists!$AH$3:$AH$27,MATCH(M100&N100,INDEX(Lists!$AF$3:$AF$27&Lists!$AG$3:$AG$27,),0))","v":{"$error":"#N/A"}}]
[null,null,null,null,null,null,null,null,null,null,{"$f":"INDEX(Lists!$AH$3:$AH$27,MATCH(I101&J101,INDEX(Lists!$AF$3:$AF$27&Lists!$AG$3:$AG$27,),0))","v":{"$error":"#N/A"}},null,null,null,{"$f":"INDEX(Lists!$AH$3:$AH$27,MATCH(M101&N101,INDEX(Lists!$AF$3:$AF$27&Lists!$AG$3:$AG$27,),0))","v":{"$error":"#N/A"}}]
[null,null,null,null,null,null,null,null,null,null,{"$f":"INDEX(Lists!$AH$3:$AH$27,MATCH(I102&J102,INDEX(Lists!$AF$3:$AF$27&Lists!$AG$3:$AG$27,),0))","v":{"$error":"#N/A"}},null,null,null,{"$f":"INDEX(Lists!$AH$3:$AH$27,MATCH(M102&N102,INDEX(Lists!$AF$3:$AF$27&Lists!$AG$3:$AG$27,),0))","v":{"$error":"#N/A"}}]
[null,null,null,null,null,null,null,null,null,null,{"$f":"INDEX(Lists!$AH$3:$AH$27,MATCH(I103&J103,INDEX(Lists!$AF$3:$AF$27&Lists!$AG$3:$AG$27,),0))","v":{"$error":"#N/A"}},null,null,null,{"$f":"INDEX(Lists!$AH$3:$AH$27,MATCH(M103&N103,INDEX(Lists!$AF$3:$AF$27&Lists!$AG$3:$AG$27,),0))","v":{"$error":"#N/A"}}]
[null,null,null,null,null,null,null,null,null,null,{"$f":"INDEX(Lists!$AH$3:$AH$27,MATCH(I104&J104,INDEX(Lists!$AF$3:$AF$27&Lists!$AG$3:$AG$27,),0))","v":{"$error":"#N/A"}},null,null,null,{"$f":"INDEX(Lists!$AH$3:$AH$27,MATCH(M104&N104,INDEX(Lists!$AF$3:$AF$27&Lists!$AG$3:$AG$27,),0))","v":{"$error":"#N/A"}}]
[null,null,null,null,null,null,null,null,null,null,{"$f":"INDEX(Lists!$AH$3:$AH$27,MATCH(I105&J105,INDEX(Lists!$AF$3:$AF$27&Lists!$AG$3:$AG$27,),0))","v":{"$error":"#N/A"}},null,null,null,{"$f":"INDEX(Lists!$AH$3:$AH$27,MATCH(M105&N105,INDEX(Lists!$AF$3:$AF$27&Lists!$AG$3:$AG$27,),0))","v":{"$error":"#N/A"}}]
[null,null,null,null,null,null,null,null,null,null,{"$f":"INDEX(Lists!$AH$3:$AH$27,MATCH(I106&J106,INDEX(Lists!$AF$3:$AF$27&Lists!$AG$3:$AG$27,),0))","v":{"$error":"#N/A"}},null,null,null,{"$f":"INDEX(Lists!$AH$3:$AH$27,MATCH(M106&N106,INDEX(Lists!$AF$3:$AF$27&Lists!$AG$3:$AG$27,),0))","v":{"$error":"#N/A"}}]
[null,null,null,null,null,null,null,null,null,null,{"$f":"INDEX(Lists!$AH$3:$AH$27,MATCH(I107&J107,INDEX(Lists!$AF$3:$AF$27&Lists!$AG$3:$AG$27,),0))","v":{"$error":"#N/A"}},null,null,null,{"$f":"INDEX(Lists!$AH$3:$AH$27,MATCH(M107&N107,INDEX(Lists!$AF$3:$AF$27&Lists!$AG$3:$AG$27,),0))","v":{"$error":"#N/A"}}]
[null,null,null,null,null,null,null,null,null,null,{"$f":"INDEX(Lists!$AH$3:$AH$27,MATCH(I108&J108,INDEX(Lists!$AF$3:$AF$27&Lists!$AG$3:$AG$27,),0))","v":{"$error":"#N/A"}},null,null,null,{"$f":"INDEX(Lists!$AH$3:$AH$27,MATCH(M108&N108,INDEX(Lists!$AF$3:$AF$27&Lists!$AG$3:$AG$27,),0))","v":{"$error":"#N/A"}}]
[null,null,null,null,null,null,null,null,null,null,{"$f":"INDEX(Lists!$AH$3:$AH$27,MATCH(I109&J109,INDEX(Lists!$AF$3:$AF$27&Lists!$AG$3:$AG$27,),0))","v":{"$error":"#N/A"}},null,null,null,{"$f":"INDEX(Lists!$AH$3:$AH$27,MATCH(M109&N109,INDEX(Lists!$AF$3:$AF$27&Lists!$AG$3:$AG$27,),0))","v":{"$error":"#N/A"}}]
[null,null,null,null,null,null,null,null,null,null,{"$f":"INDEX(Lists!$AH$3:$AH$27,MATCH(I110&J110,INDEX(Lists!$AF$3:$AF$27&Lists!$AG$3:$AG$27,),0))","v":{"$error":"#N/A"}},null,null,null,{"$f":"INDEX(Lists!$AH$3:$AH$27,MATCH(M110&N110,INDEX(Lists!$AF$3:$AF$27&Lists!$AG$3:$AG$27,),0))","v":{"$error":"#N/A"}}]
[null,null,null,null,null,null,null,null,null,null,{"$f":"INDEX(Lists!$AH$3:$AH$27,MATCH(I111&J111,INDEX(Lists!$AF$3:$AF$27&Lists!$AG$3:$AG$27,),0))","v":{"$error":"#N/A"}},null,null,null,{"$f":"INDEX(Lists!$AH$3:$AH$27,MATCH(M111&N111,INDEX(Lists!$AF$3:$AF$27&Lists!$AG$3:$AG$27,),0))","v":{"$error":"#N/A"}}]
[null,null,null,null,null,null,null,null,null,null,{"$f":"INDEX(Lists!$AH$3:$AH$27,MATCH(I112&J112,INDEX(Lists!$AF$3:$AF$27&Lists!$AG$3:$AG$27,),0))","v":{"$error":"#N/A"}},null,null,null,{"$f":"INDEX(Lists!$AH$3:$AH$27,MATCH(M112&N112,INDEX(Lists!$AF$3:$AF$27&Lists!$AG$3:$AG$27,),0))","v":{"$error":"#N/A"}}]
[null,null,null,null,null,null,null,null,null,null,{"$f":"INDEX(Lists!$AH$3:$AH$27,MATCH(I113&J113,INDEX(Lists!$AF$3:$AF$27&Lists!$AG$3:$AG$27,),0))","v":{"$error":"#N/A"}},null,null,null,{"$f":"INDEX(Lists!$AH$3:$AH$27,MATCH(M113&N113,INDEX(Lists!$AF$3:$AF$27&Lists!$AG$3:$AG$27,),0))","v":{"$error":"#N/A"}}]
[null,null,null,null,null,null,null,null,null,null,{"$f":"INDEX(Lists!$AH$3:$AH$27,MATCH(I114&J114,INDEX(Lists!$AF$3:$AF$27&Lists!$AG$3:$AG$27,),0))","v":{"$error":"#N/A"}},null,null,null,{"$f":"INDEX(Lists!$AH$3:$AH$27,MATCH(M114&N114,INDEX(Lists!$AF$3:$AF$27&Lists!$AG$3:$AG$27,),0))","v":{"$error":"#N/A"}}]
[null,null,null,null,null,null,null,null,null,null,{"$f":"INDEX(Lists!$AH$3:$AH$27,MATCH(I115&J115,INDEX(Lists!$AF$3:$AF$27&Lists!$AG$3:$AG$27,),0))","v":{"$error":"#N/A"}},null,null,null,{"$f":"INDEX(Lists!$AH$3:$AH$27,MATCH(M115&N115,INDEX(Lists!$AF$3:$AF$27&Lists!$AG$3:$AG$27,),0))","v":{"$error":"#N/A"}}]
[null,null,null,null,null,null,null,null,null,null,{"$f":"INDEX(Lists!$AH$3:$AH$27,MATCH(I116&J116,INDEX(Lists!$AF$3:$AF$27&Lists!$AG$3:$AG$27,),0))","v":{"$error":"#N/A"}},null,null,null,{"$f":"INDEX(Lists!$AH$3:$AH$27,MATCH(M116&N116,INDEX(Lists!$AF$3:$AF$27&Lists!$AG$3:$AG$27,),0))","v":{"$error":"#N/A"}}]
[null,null,null,null,null,null,null,null,null,null,{"$f":"INDEX(Lists!$AH$3:$AH$27,MATCH(I117&J117,INDEX(Lists!$AF$3:$AF$27&Lists!$AG$3:$AG$27,),0))","v":{"$error":"#N/A"}},null,null,null,{"$f":"INDEX(Lists!$AH$3:$AH$27,MATCH(M117&N117,INDEX(Lists!$AF$3:$AF$27&Lists!$AG$3:$AG$27,),0))","v":{"$error":"#N/A"}}]
[null,null,null,null,null,null,null,null,null,null,{"$f":"INDEX(Lists!$AH$3:$AH$27,MATCH(I118&J118,INDEX(Lists!$AF$3:$AF$27&Lists!$AG$3:$AG$27,),0))","v":{"$error":"#N/A"}},null,null,null,{"$f":"INDEX(Lists!$AH$3:$AH$27,MATCH(M118&N118,INDEX(Lists!$AF$3:$AF$27&Lists!$AG$3:$AG$27,),0))","v":{"$error":"#N/A"}}]
[null,null,null,null,null,null,null,null,null,null,{"$f":"INDEX(Lists!$AH$3:$AH$27,MATCH(I119&J119,INDEX(Lists!$AF$3:$AF$27&Lists!$AG$3:$AG$27,),0))","v":{"$error":"#N/A"}},null,null,null,{"$f":"INDEX(Lists!$AH$3:$AH$27,MATCH(M119&N119,INDEX(Lists!$AF$3:$AF$27&Lists!$AG$3:$AG$27,),0))","v":{"$error":"#N/A"}}]
[null,null,null,null,null,null,null,null,null,null,{"$f":"INDEX(Lists!$AH$3:$AH$27,MATCH(I120&J120,INDEX(Lists!$AF$3:$AF$27&Lists!$AG$3:$AG$27,),0))","v":{"$error":"#N/A"}},null,null,null,{"$f":"INDEX(Lists!$AH$3:$AH$27,MATCH(M120&N120,INDEX(Lists!$AF$3:$AF$27&Lists!$AG$3:$AG$27,),0))","v":{"$error":"#N/A"}}]
[null,null,null,null,null,null,null,null,null,null,{"$f":"INDEX(Lists!$AH$3:$AH$27,MATCH(I121&J121,INDEX(Lists!$AF$3:$AF$27&Lists!$AG$3:$AG$27,),0))","v":{"$error":"#N/A"}},null,null,null,{"$f":"INDEX(Lists!$AH$3:$AH$27,MATCH(M121&N121,INDEX(Lists!$AF$3:$AF$27&Lists!$AG$3:$AG$27,),0))","v":{"$error":"#N/A"}}]
[null,null,null,null,null,null,null,null,null,null,{"$f":"INDEX(Lists!$AH$3:$AH$27,MATCH(I122&J122,INDEX(Lists!$AF$3:$AF$27&Lists!$AG$3:$AG$27,),0))","v":{"$error":"#N/A"}},null,null,null,{"$f":"INDEX(Lists!$AH$3:$AH$27,MATCH(M122&N122,INDEX(Lists!$AF$3:$AF$27&Lists!$AG$3:$AG$27,),0))","v":{"$error":"#N/A"}}]
[null,null,null,null,null,null,null,null,null,null,{"$f":"INDEX(Lists!$AH$3:$AH$27,MATCH(I123&J123,INDEX(Lists!$AF$3:$AF$27&Lists!$AG$3:$AG$27,),0))","v":{"$error":"#N/A"}},null,null,null,{"$f":"INDEX(Lists!$AH$3:$AH$27,MATCH(M123&N123,INDEX(Lists!$AF$3:$AF$27&Lists!$AG$3:$AG$27,),0))","v":{"$error":"#N/A"}}]
[null,null,null,null,null,null,null,null,null,null,{"$f":"INDEX(Lists!$AH$3:$AH$27,MATCH(I124&J124,INDEX(Lists!$AF$3:$AF$27&Lists!$AG$3:$AG$27,),0))","v":{"$error":"#N/A"}},null,null,null,{"$f":"INDEX(Lists!$AH$3:$AH$27,MATCH(M124&N124,INDEX(Lists!$AF$3:$AF$27&Lists!$AG$3:$AG$27,),0))","v":{"$error":"#N/A"}}]
[null,null,null,null,null,null,null,null,null,null,{"$f":"INDEX(Lists!$AH$3:$AH$27,MATCH(I125&J125,INDEX(Lists!$AF$3:$AF$27&Lists!$AG$3:$AG$27,),0))","v":{"$error":"#N/A"}},null,null,null,{"$f":"INDEX(Lists!$AH$3:$AH$27,MATCH(M125&N125,INDEX(Lists!$AF$3:$AF$27&Lists!$AG$3:$AG$27,),0))","v":{"$error":"#N/A"}}]
[null,null,null,null,null,null,null,null,null,null,{"$f":"INDEX(Lists!$AH$3:$AH$27,MATCH(I126&J126,INDEX(Lists!$AF$3:$AF$27&Lists!$AG$3:$AG$27,),0))","v":{"$error":"#N/A"}},null,null,null,{"$f":"INDEX(Lists!$AH$3:$AH$27,MATCH(M126&N126,INDEX(Lists!$AF$3:$AF$27&Lists!$AG$3:$AG$27,),0))","v":{"$error":"#N/A"}}]
[null,null,null,null,null,null,null,null,null,null,{"$f":"INDEX(Lists!$AH$3:$AH$27,MATCH(I127&J127,INDEX(Lists!$AF$3:$AF$27&Lists!$AG$3:$AG$27,),0))","v":{"$error":"#N/A"}},null,null,null,{"$f":"INDEX(Lists!$AH$3:$AH$27,MATCH(M127&N127,INDEX(Lists!$AF$3:$AF$27&Lists!$AG$3:$AG$27,),0))","v":{"$error":"#N/A"}}]
[null,null,null,null,null,null,null,null,null,null,{"$f":"INDEX(Lists!$AH$3:$AH$27,MATCH(I128&J128,INDEX(Lists!$AF$3:$AF$27&Lists!$AG$3:$AG$27,),0))","v":{"$error":"#N/A"}},null,null,null,{"$f":"INDEX(Lists!$AH$3:$AH$27,MATCH(M128&N128,INDEX(Lists!$AF$3:$AF$27&Lists!$AG$3:$AG$27,),0))","v":{"$error":"#N/A"}}]
[null,null,null,null,null,null,null,null,null,null,{"$f":"INDEX(Lists!$AH$3:$AH$27,MATCH(I129&J129,INDEX(Lists!$AF$3:$AF$27&Lists!$AG$3:$AG$27,),0))","v":{"$error":"#N/A"}},null,null,null,{"$f":"INDEX(Lists!$AH$3:$AH$27,MATCH(M129&N129,INDEX(Lists!$AF$3:$AF$27&Lists!$AG$3:$AG$27,),0))","v":{"$error":"#N/A"}}]
[null,null,null,null,null,null,null,null,null,null,{"$f":"INDEX(Lists!$AH$3:$AH$27,MATCH(I130&J130,INDEX(Lists!$AF$3:$AF$27&Lists!$AG$3:$AG$27,),0))","v":{"$error":"#N/A"}},null,null,null,{"$f":"INDEX(Lists!$AH$3:$AH$27,MATCH(M130&N130,INDEX(Lists!$AF$3:$AF$27&Lists!$AG$3:$AG$27,),0))","v":{"$error":"#N/A"}}]
[null,null,null,null,null,null,null,null,null,null,{"$f":"INDEX(Lists!$AH$3:$AH$27,MATCH(I131&J131,INDEX(Lists!$AF$3:$AF$27&Lists!$AG$3:$AG$27,),0))","v":{"$error":"#N/A"}},null,null,null,{"$f":"INDEX(Lists!$AH$3:$AH$27,MATCH(M131&N131,INDEX(Lists!$AF$3:$AF$27&Lists!$AG$3:$AG$27,),0))","v":{"$error":"#N/A"}}]
["PLT 037",null,null,null,null,null,null,null,null,null,{"$f":"INDEX(Lists!$AH$3:$AH$27,MATCH(I132&J132,INDEX(Lists!$AF$3:$AF$27&Lists!$AG$3:$AG$27,),0))","v":{"$error":"#N/A"}},null,null,null,{"$f":"INDEX(Lists!$AH$3:$AH$27,MATCH(M132&N132,INDEX(Lists!$AF$3:$AF$27&Lists!$AG$3:$AG$27,),0))","v":{"$error":"#N/A"}}]
["PLT 038",null,null,null,null,null,null,null,null,null,{"$f":"INDEX(Lists!$AH$3:$AH$27,MATCH(I133&J133,INDEX(Lists!$AF$3:$AF$27&Lists!$AG$3:$AG$27,),0))","v":{"$error":"#N/A"}},null,null,null,{"$f":"INDEX(Lists!$AH$3:$AH$27,MATCH(M133&N133,INDEX(Lists!$AF$3:$AF$27&Lists!$AG$3:$AG$27,),0))","v":{"$error":"#N/A"}}]
["PLT 039",null,null,null,null,null,null,null,null,null,{"$f":"INDEX(Lists!$AH$3:$AH$27,MATCH(I134&J134,INDEX(Lists!$AF$3:$AF$27&Lists!$AG$3:$AG$27,),0))","v":{"$error":"#N/A"}},null,null,null,{"$f":"INDEX(Lists!$AH$3:$AH$27,MATCH(M134&N134,INDEX(Lists!$AF$3:$AF$27&Lists!$AG$3:$AG$27,),0))","v":{"$error":"#N/A"}}]
[null,null,null,null,null,null,null,null,null,null,{"$f":"INDEX(Lists!$AH$3:$AH$27,MATCH(I135&J135,INDEX(Lists!$AF$3:$AF$27&Lists!$AG$3:$AG$27,),0))","v":{"$error":"#N/A"}},null,null,null,{"$f":"INDEX(Lists!$AH$3:$AH$27,MATCH(M135&N135,INDEX(Lists!$AF$3:$AF$27&Lists!$AG$3:$AG$27,),0))","v":{"$error":"#N/A"}}]
[null,null,null,null,null,null,null,null,null,null,{"$f":"INDEX(Lists!$AH$3:$AH$27,MATCH(I136&J136,INDEX(Lists!$AF$3:$AF$27&Lists!$AG$3:$AG$27,),0))","v":{"$error":"#N/A"}},null,null,null,{"$f":"INDEX(Lists!$AH$3:$AH$27,MATCH(M136&N136,INDEX(Lists!$AF$3:$AF$27&Lists!$AG$3:$AG$27,),0))","v":{"$error":"#N/A"}},"2013-01-31"]

{"sheet":"Risk Assessment","index":4,"n_rows":0,"n_cols":0,"rows_kept":0,"cut":false,"hidden":false,"merged":[]}

{"sheet":"Classification Definitions","index":5,"n_rows":27,"n_cols":2,"rows_kept":27,"cut":false,"hidden":false,"merged":[]}
[null,"Reporting should not be discouraged - entries must be classified correctly and all actions followed to respond to the reported issue"]
[]
[null,"Hazard = something that has potential to cause harm or illness (imminent threat) - cannot be fully resolved with simple action of person(s) who identified it"]
[]
[null,"Incident = accident or event where there was the potentail for someone to be injured"]
[]
[null,"Incident with Injury = accident or event where injury has occurred"]
[]
[null,"Incident External = accident or event where there was no liability only response/assistance provided"]
[]
[null,"General Report = when a report about an event or observation is made but there is no material risk to safety e.g. Low risk (likelihood and consequence)"]
[]
[null,"Maintenance = when a report about assets/plant/equipment is made using a WHS Document but no immenent risk to safety e.g. Low risk (likelihood and consequence)"]
[]
[null,"System Compliance =  when a report about an event or observation when other reporting systems and/or processes have not been followed and there is no material risk to safety"]
[]
[null,"Provide feedback to the person raising issues and ensure that Safety Reps, Supervisors and Staff Involved are consulted and communicated with."]
[]
[null,"The following stakeholders MUST be notified of certain events:"]
[]
[null,"Health and Safety Reps - all entries made in the Event Log (help determine and communicate classification of the issue)"]
[]
[null,"Return To Work Coordinator - All injuries likely to result in a claim"]
[]
[null,"Senior Management Group - All Notifiable Incidents and Dangerous Occurrences"]
[]
[null,"Claim - any medical treated injury (WorkCover or not) because all injuries of this type are potential future claims."]

{"sheet":"WHS Event Log","index":6,"n_rows":511,"n_cols":29,"rows_kept":511,"cut":false,"hidden":false,"merged":[[0,2,0,6]]}
[null,null,"INCIDENT DATA FROM REPORT"]
["Reference","Date Reported","Day","Date","Month","Shift","Report By","Report Type","Identification Method","Cause","Register Reference","Person(s) Involved","Description","Immediate Actions Taken","Risk Rating","Injury Sustained","Nature","Injured Persons","Claim","Claim Status","Date Controlled","Action Taken","Principal Control","Cost","Risk Rating","Action Time","Status","Notifiable Event","Investigation Status"]
[2016001,null,null,null,null,null,null,null,null,null,null,null,null,null,null,null,null,null,null,null,null,null,null,null,null,{"$f":"DAYS360(B3-1,U3)","v":{"$error":"#NUM!"}}]
[{"$f":"SUM(A3+1)","v":2016002},null,null,null,null,null,null,null,null,null,null,null,null,null,null,null,null,null,null,null,null,null,null,null,null,{"$error":"#NUM!"}]
[2016003,null,null,null,null,null,null,null,null,null,null,null,null,null,null,null,null,null,null,null,null,null,null,null,null,{"$error":"#NUM!"}]
[2016004,null,null,null,null,null,null,null,null,null,null,null,null,null,null,null,null,null,null,null,null,null,null,null,null,{"$error":"#NUM!"}]
[2016005,null,null,null,null,null,null,null,null,null,null,null,null,null,null,null,null,null,null,null,null,null,null,null,null,{"$error":"#NUM!"}]
[2016006,null,null,null,null,null,null,null,null,null,null,null,null,null,null,null,null,null,null,null,null,null,null,null,null,{"$error":"#NUM!"}]
[2016007,null,null,null,null,null,null,null,null,null,null,null,null,null,null,null,null,null,null,null,null,null,null,null,null,{"$error":"#NUM!"}]
[2016008,null,null,null,null,null,null,null,null,null,null,null,null,null,null,null,null,null,null,null,null,null,null,null,null,{"$error":"#NUM!"}]
[2016009,null,null,null,null,null,null,null,null,null,null,null,null,null,null,null,null,null,null,null,null,null,null,null,null,{"$error":"#NUM!"}]
[2016010,null,null,null,null,null,null,null,null,null,null,null,null,null,null,null,null,null,null,null,null,null,null,null,null,{"$error":"#NUM!"}]
[2016011,null,null,null,null,null,null,null,null,null,null,null,null,null,null,null,null,null,null,null,null,null,null,null,null,{"$error":"#NUM!"}]
[2016012,null,null,null,null,null,null,null,null,null,null,null,null,null,null,null,null,null,null,null,null,null,null,null,null,{"$error":"#NUM!"}]
[2016013,null,null,null,null,null,null,null,null,null,null,null,null,null,null,null,null,null,null,null,null,null,null,null,null,{"$error":"#NUM!"}]
[{"$f":"SUM(A15+1)","v":2016014},null,null,null,null,null,null,null,null,null,null,null,null,null,null,null,null,null,null,null,null,null,null,null,null,{"$error":"#NUM!"}]
[2016015,null,null,null,null,null,null,null,null,null,null,null,null,null,null,null,null,null,null,null,null,null,null,null,null,{"$error":"#NUM!"}]
[2016016,null,null,null,null,null,null,null,null,null,null,null,null,null,null,null,null,null,null,null,null,null,null,null,null,{"$error":"#NUM!"}]
[2016017,null,null,null,null,null,null,null,null,null,null,null,null,null,null,null,null,null,null,null,null,null,null,null,null,{"$error":"#NUM!"}]
[2016018,null,null,null,null,null,null,null,null,null,null,null,null,null,null,null,null,null,null,null,null,null,null,null,null,{"$error":"#NUM!"}]
[2016019,null,null,null,null,null,null,null,null,null,null,null,null,null,null,null,null,null,null,null,null,null,null,null,null,{"$error":"#NUM!"}]
[2016020,null,null,null,null,null,null,null,null,null,null,null,null,null,null,null,null,null,null,null,null,null,null,null,null,{"$error":"#NUM!"}]
[2016021,null,null,null,null,null,null,null,null,null,null,null,null,null,null,null,null,null,null,null,null,null,null,null,null,{"$error":"#NUM!"}]
[2016022,null,null,null,null,null,null,null,null,null,null,null,null,null,null,null,null,null,null,null,null,null,null,null,null,{"$error":"#NUM!"}]
[2016023,null,null,null,null,null,null,null,null,null,null,null,null,null,null,null,null,null,null,null,null,null,null,null,null,{"$error":"#NUM!"}]
[2016024,null,null,null,null,null,null,null,null,null,null,null,null,null,null,null,null,null,null,null,null,null,null,null,null,{"$f":"DAYS360(B26-1,U26)","v":{"$error":"#NUM!"}}]
[2016025,null,null,null,null,null,null,null,null,null,null,null,null,null,null,null,null,null,null,null,null,null,null,null,null,{"$error":"#NUM!"}]
[2016026,null,null,null,null,null,null,null,null,null,null,null,null,null,null,null,null,null,null,null,null,null,null,null,null,{"$error":"#NUM!"}]
[2016027,null,null,null,null,null,null,null,null,null,null,null,null,null,null,null,null,null,null,null,null,null,null,null,null,{"$error":"#NUM!"}]
[2016028,null,null,null,null,null,null,null,null,null,null,null,null,null,null,null,null,null,null,null,null,null,null,null,null,{"$error":"#NUM!"}]
[2016029,null,null,null,null,null,null,null,null,null,null,null,null,null,null,null,null,null,null,null,null,null,null,null,null,{"$error":"#NUM!"}]
[2016030,null,null,null,null,null,null,null,null,null,null,null,null,null,null,null,null,null,null,null,null,null,null,null,null,{"$error":"#NUM!"}]
[2016031,null,null,null,null,null,null,null,null,null,null,null,null,null,null,null,null,null,null,null,null,null,null,null,null,{"$error":"#NUM!"}]
[2016032,null,null,null,null,null,null,null,null,null,null,null,null,null,null,null,null,null,null,null,null,null,null,null,null,{"$error":"#NUM!"}]
[2016033,null,null,null,null,null,null,null,null,null,null,null,null,null,null,null,null,null,null,null,null,null,null,null,null,{"$error":"#NUM!"}]
[2016034,null,null,null,null,null,null,null,null,null,null,null,null,null,null,null,null,null,null,null,null,null,null,null,null,{"$error":"#NUM!"}]
[2016035,null,null,null,null,null,null,null,null,null,null,null,null,null,null,null,null,null,null,null,null,null,null,null,null,{"$error":"#NUM!"}]
[2016036,null,null,null,null,null,null,null,null,null,null,null,null,null,null,null,null,null,null,null,null,null,null,null,null,{"$error":"#NUM!"}]
[2016037,null,null,null,null,null,null,null,null,null,null,null,null,null,null,null,null,null,null,null,null,null,null,null,null,{"$error":"#NUM!"}]
[2016038,null,null,null,null,null,null,null,null,null,null,null,null,null,null,null,null,null,null,null,null,null,null,null,null,{"$error":"#NUM!"}]
[2016039,null,null,null,null,null,null,null,null,null,null,null,null,null,null,null,null,null,null,null,null,null,null,null,null,{"$error":"#NUM!"}]
[2016040,null,null,null,null,null,null,null,null,null,null,null,null,null,null,null,null,null,null,null,null,null,null,null,null,{"$error":"#NUM!"}]
[2016041,null,null,null,null,null,null,null,null,null,null,null,null,null,null,null,null,null,null,null,null,null,null,null,null,{"$error":"#NUM!"}]
[2016042,null,null,null,null,null,null,null,null,null,null,null,null,null,null,null,null,null,null,null,null,null,null,null,null,{"$error":"#NUM!"}]
[2016043,null,null,null,null,null,null,null,null,null,null,null,null,null,null,null,null,null,null,null,null,null,null,null,null,{"$error":"#NUM!"}]
[2016044,null,null,null,null,null,null,null,null,null,null,null,null,null,null,null,null,null,null,null,null,null,null,null,null,{"$error":"#NUM!"}]
[2016045,null,null,null,null,null,null,null,null,null,null,null,null,null,null,null,null,null,null,null,null,null,null,null,null,{"$error":"#NUM!"}]
[2016046,null,null,null,null,null,null,null,null,null,null,null,null,null,null,null,null,null,null,null,null,null,null,null,null,{"$error":"#NUM!"}]
[2016047,null,null,null,null,null,null,null,null,null,null,null,null,null,null,null,null,null,null,null,null,null,null,null,null,{"$error":"#NUM!"}]
[2016048,null,null,null,null,null,null,null,null,null,null,null,null,null,null,null,null,null,null,null,null,null,null,null,null,{"$error":"#NUM!"}]
[2016049,null,null,null,null,null,null,null,null,null,null,null,null,null,null,null,null,null,null,null,null,null,null,null,null,{"$error":"#NUM!"}]
[2016050,null,null,null,null,null,null,null,null,null,null,null,null,null,null,null,null,null,null,null,null,null,null,null,null,{"$error":"#NUM!"}]
[2016051,null,null,null,null,null,null,null,null,null,null,null,null,null,null,null,null,null,null,null,null,null,null,null,null,{"$error":"#NUM!"}]
[2016052,null,null,null,null,null,null,null,null,null,null,null,null,null,null,null,null,null,null,null,null,null,null,null,null,{"$error":"#NUM!"}]
[2016053,null,null,null,null,null,null,null,null,null,null,null,null,null,null,null,null,null,null,null,null,null,null,null,null,{"$error":"#NUM!"}]
[2016054,null,null,null,null,null,null,null,null,null,null,null,null,null,null,null,null,null,null,null,null,null,null,null,null,{"$error":"#NUM!"}]
[2016055,null,null,null,null,null,null,null,null,null,null,null,null,null,null,null,null,null,null,null,null,null,null,null,null,{"$error":"#NUM!"}]
[2016056,null,null,null,null,null,null,null,null,null,null,null,null,null,null,null,null,null,null,null,null,null,null,null,null,{"$error":"#NUM!"}]
[2016057,null,null,null,null,null,null,null,null,null,null,null,null,null,null,null,null,null,null,null,null,null,null,null,null,{"$error":"#NUM!"}]
[2016058,null,null,null,null,null,null,null,null,null,null,null,null,null,null,null,null,null,null,null,null,null,null,null,null,{"$error":"#NUM!"}]
[2016059,null,null,null,null,null,null,null,null,null,null,null,null,null,null,null,null,null,null,null,null,null,null,null,null,{"$error":"#NUM!"}]
[2016060,null,null,null,null,null,null,null,null,null,null,null,null,null,null,null,null,null,null,null,null,null,null,null,null,{"$error":"#NUM!"}]
[2016061,null,null,null,null,null,null,null,null,null,null,null,null,null,null,null,null,null,null,null,null,null,null,null,null,{"$error":"#NUM!"}]
[2016062,null,null,null,null,null,null,null,null,null,null,null,null,null,null,null,null,null,null,null,null,null,null,null,null,{"$error":"#NUM!"}]
[2016063,null,null,null,null,null,null,null,null,null,null,null,null,null,null,null,null,null,null,null,null,null,null,null,null,{"$error":"#NUM!"}]
[2016064,null,null,null,null,null,null,null,null,null,null,null,null,null,null,null,null,null,null,null,null,null,null,null,null,{"$error":"#NUM!"}]
[2016065,null,null,null,null,null,null,null,null,null,null,null,null,null,null,null,null,null,null,null,null,null,null,null,null,{"$f":"DAYS360(B67-1,U67)","v":{"$error":"#NUM!"}}]
[{"$f":"SUM(A67+1)","v":2016066},null,null,null,null,null,null,null,null,null,null,null,null,null,null,null,null,null,null,null,null,null,null,null,null,{"$error":"#NUM!"}]
[2016067,null,null,null,null,null,null,null,null,null,null,null,null,null,null,null,null,null,null,null,null,null,null,null,null,{"$error":"#NUM!"}]
[2016068,null,null,null,null,null,null,null,null,null,null,null,null,null,null,null,null,null,null,null,null,null,null,null,null,{"$error":"#NUM!"}]
[2016069,null,null,null,null,null,null,null,null,null,null,null,null,null,null,null,null,null,null,null,null,null,null,null,null,{"$error":"#NUM!"}]
[2016070,null,null,null,null,null,null,null,null,null,null,null,null,null,null,null,null,null,null,null,null,null,null,null,null,{"$error":"#NUM!"}]
[2016071,null,null,null,null,null,null,null,null,null,null,null,null,null,null,null,null,null,null,null,null,null,null,null,null,{"$error":"#NUM!"}]
[2016072,null,null,null,null,null,null,null,null,null,null,null,null,null,null,null,null,null,null,null,null,null,null,null,null,{"$error":"#NUM!"}]
[2016073,null,null,null,null,null,null,null,null,null,null,null,null,null,null,null,null,null,null,null,null,null,null,null,null,{"$error":"#NUM!"}]
[2016074,null,null,null,null,null,null,null,null,null,null,null,null,null,null,null,null,null,null,null,null,null,null,null,null,{"$error":"#NUM!"}]
[2016075,null,null,null,null,null,null,null,null,null,null,null,null,null,null,null,null,null,null,null,null,null,null,null,null,{"$error":"#NUM!"}]
[2016076,null,null,null,null,null,null,null,null,null,null,null,null,null,null,null,null,null,null,null,null,null,null,null,null,{"$error":"#NUM!"}]
[2016077,null,null,null,null,null,null,null,null,null,null,null,null,null,null,null,null,null,null,null,null,null,null,null,null,{"$error":"#NUM!"}]
[2016078,null,null,null,null,null,null,null,null,null,null,null,null,null,null,null,null,null,null,null,null,null,null,null,null,{"$error":"#NUM!"}]
[2016079,null,null,null,null,null,null,null,null,null,null,null,null,null,null,null,null,null,null,null,null,null,null,null,null,{"$error":"#NUM!"}]
[2016080,null,null,null,null,null,null,null,null,null,null,null,null,null,null,null,null,null,null,null,null,null,null,null,null,{"$error":"#NUM!"}]
[2016081,null,null,null,null,null,null,null,null,null,null,null,null,null,null,null,null,null,null,null,null,null,null,null,null,{"$error":"#NUM!"}]
[2016082,null,null,null,null,null,null,null,null,null,null,null,null,null,null,null,null,null,null,null,null,null,null,null,null,{"$error":"#NUM!"}]
[2016083,null,null,null,null,null,null,null,null,null,null,null,null,null,null,null,null,null,null,null,null,null,null,null,null,{"$error":"#NUM!"}]
[2016084,null,null,null,null,null,null,null,null,null,null,null,null,null,null,null,null,null,null,null,null,null,null,null,null,{"$error":"#NUM!"}]
[2016085,null,null,null,null,null,null,null,null,null,null,null,null,null,null,null,null,null,null,null,null,null,null,null,null,{"$error":"#NUM!"}]
[2016086,null,null,null,null,null,null,null,null,null,null,null,null,null,null,null,null,null,null,null,null,null,null,null,null,{"$error":"#NUM!"}]
[2016087,null,null,null,null,null,null,null,null,null,null,null,null,null,null,null,null,null,null,null,null,null,null,null,null,{"$error":"#NUM!"}]
[2016088,null,null,null,null,null,null,null,null,null,null,null,null,null,null,null,null,null,null,null,null,null,null,null,null,{"$error":"#NUM!"}]
[2016089,null,null,null,null,null,null,null,null,null,null,null,null,null,null,null,null,null,null,null,null,null,null,null,null,{"$error":"#NUM!"}]
[2016090,null,null,null,null,null,null,null,null,null,null,null,null,null,null,null,null,null,null,null,null,null,null,null,null,{"$error":"#NUM!"}]
[2016091,null,null,null,null,null,null,null,null,null,null,null,null,null,null,null,null,null,null,null,null,null,null,null,null,{"$error":"#NUM!"}]
[{"$f":"SUM(A93+1)","v":2016092},null,null,null,null,null,null,null,null,null,null,null,null,null,null,null,null,null,null,null,null,null,null,null,null,{"$error":"#NUM!"}]
[2016093,null,null,null,null,null,null,null,null,null,null,null,null,null,null,null,null,null,null,null,null,null,null,null,null,{"$error":"#NUM!"}]
[2016094,null,null,null,null,null,null,null,null,null,null,null,null,null,null,null,null,null,null,null,null,null,null,null,null,{"$error":"#NUM!"}]
[2016095,null,null,null,null,null,null,null,null,null,null,null,null,null,null,null,null,null,null,null,null,null,null,null,null,{"$error":"#NUM!"}]
[2016096,null,null,null,null,null,null,null,null,null,null,null,null,null,null,null,null,null,null,null,null,null,null,null,null,{"$error":"#NUM!"}]
[2016097,null,null,null,null,null,null,null,null,null,null,null,null,null,null,null,null,null,null,null,null,null,null,null,null,{"$error":"#NUM!"}]
[2016098,null,null,null,null,null,null,null,null,null,null,null,null,null,null,null,null,null,null,null,null,null,null,null,null,{"$error":"#NUM!"}]
[2016099,null,null,null,null,null,null,null,null,null,null,null,null,null,null,null,null,null,null,null,null,null,null,null,null,{"$error":"#NUM!"}]
[2016100,null,null,null,null,null,null,null,null,null,null,null,null,null,null,null,null,null,null,null,null,null,null,null,null,{"$error":"#NUM!"}]
[2016101,null,null,null,null,null,null,null,null,null,null,null,null,null,null,null,null,null,null,null,null,null,null,null,null,{"$error":"#NUM!"}]
[2016102,null,null,null,null,null,null,null,null,null,null,null,null,null,null,null,null,null,null,null,null,null,null,null,null,{"$error":"#NUM!"}]
[2016103,null,null,null,null,null,null,null,null,null,null,null,null,null,null,null,null,null,null,null,null,null,null,null,null,{"$error":"#NUM!"}]
[2016104,null,null,null,null,null,null,null,null,null,null,null,null,null,null,null,null,null,null,null,null,null,null,null,null,{"$error":"#NUM!"}]
[2016105,null,null,null,null,null,null,null,null,null,null,null,null,null,null,null,null,null,null,null,null,null,null,null,null,{"$error":"#NUM!"}]
[2016106,null,null,null,null,null,null,null,null,null,null,null,null,null,null,null,null,null,null,null,null,null,null,null,null,{"$error":"#NUM!"}]
[2016107,null,null,null,null,null,null,null,null,null,null,null,null,null,null,null,null,null,null,null,null,null,null,null,null,{"$error":"#NUM!"}]
[2016108,null,null,null,null,null,null,null,null,null,null,null,null,null,null,null,null,null,null,null,null,null,null,null,null,{"$error":"#NUM!"}]
[2016109,null,null,null,null,null,null,null,null,null,null,null,null,null,null,null,null,null,null,null,null,null,null,null,null,{"$error":"#NUM!"}]
[2016110,null,null,null,null,null,null,null,null,null,null,null,null,null,null,null,null,null,null,null,null,null,null,null,null,{"$error":"#NUM!"}]
[2016111,null,null,null,null,null,null,null,null,null,null,null,null,null,null,null,null,null,null,null,null,null,null,null,null,{"$error":"#NUM!"}]
[2016112,null,null,null,null,null,null,null,null,null,null,null,null,null,null,null,null,null,null,null,null,null,null,null,null,{"$error":"#NUM!"}]
[2016113,null,null,null,null,null,null,null,null,null,null,null,null,null,null,null,null,null,null,null,null,null,null,null,null,{"$error":"#NUM!"}]
[2016114,null,null,null,null,null,null,null,null,null,null,null,null,null,null,null,null,null,null,null,null,null,null,null,null,{"$error":"#NUM!"}]
[2016115,null,null,null,null,null,null,null,null,null,null,null,null,null,null,null,null,null,null,null,null,null,null,null,null,{"$error":"#NUM!"}]
[2016116,null,null,null,null,null,null,null,null,null,null,null,null,null,null,null,null,null,null,null,null,null,null,null,null,{"$error":"#NUM!"}]
[2016117,null,null,null,null,null,null,null,null,null,null,null,null,null,null,null,null,null,null,null,null,null,null,null,null,{"$error":"#NUM!"}]
[2016118,null,null,null,null,null,null,null,null,null,null,null,null,null,null,null,null,null,null,null,null,null,null,null,null,{"$error":"#NUM!"}]
[2016119,null,null,null,null,null,null,null,null,null,null,null,null,null,null,null,null,null,null,null,null,null,null,null,null,{"$error":"#NUM!"}]
[2016120,null,null,null,null,null,null,null,null,null,null,null,null,null,null,null,null,null,null,null,null,null,null,null,null,{"$error":"#NUM!"}]
[2016121,null,null,null,null,null,null,null,null,null,null,null,null,null,null,null,null,null,null,null,null,null,null,null,null,{"$error":"#NUM!"}]
[2016122,null,null,null,null,null,null,null,null,null,null,null,null,null,null,null,null,null,null,null,null,null,null,null,null,{"$error":"#NUM!"}]
[2016123,null,null,null,null,null,null,null,null,null,null,null,null,null,null,null,null,null,null,null,null,null,null,null,null,{"$error":"#NUM!"}]
[2016124,null,null,null,null,null,null,null,null,null,null,null,null,null,null,null,null,null,null,null,null,null,null,null,null,{"$error":"#NUM!"}]
[2016125,null,null,null,null,null,null,null,null,null,null,null,null,null,null,null,null,null,null,null,null,null,null,null,null,{"$error":"#NUM!"}]
[2016126,null,null,null,null,null,null,null,null,null,null,null,null,null,null,null,null,null,null,null,null,null,null,null,null,{"$error":"#NUM!"}]
[2016127,null,null,null,null,null,null,null,null,null,null,null,null,null,null,null,null,null,null,null,null,null,null,null,null,{"$error":"#NUM!"}]
[2016128,null,null,null,null,null,null,null,null,null,null,null,null,null,null,null,null,null,null,null,null,null,null,null,null,{"$error":"#NUM!"}]
[2016129,null,null,null,null,null,null,null,null,null,null,null,null,null,null,null,null,null,null,null,null,null,null,null,null,{"$f":"DAYS360(B131-1,U131)","v":{"$error":"#NUM!"}}]
[{"$f":"SUM(A131+1)","v":2016130},null,null,null,null,null,null,null,null,null,null,null,null,null,null,null,null,null,null,null,null,null,null,null,null,{"$error":"#NUM!"}]
[2016131,null,null,null,null,null,null,null,null,null,null,null,null,null,null,null,null,null,null,null,null,null,null,null,null,{"$error":"#NUM!"}]
[2016132,null,null,null,null,null,null,null,null,null,null,null,null,null,null,null,null,null,null,null,null,null,null,null,null,{"$error":"#NUM!"}]
[2016133,null,null,null,null,null,null,null,null,null,null,null,null,null,null,null,null,null,null,null,null,null,null,null,null,{"$error":"#NUM!"}]
[2016134,null,null,null,null,null,null,null,null,null,null,null,null,null,null,null,null,null,null,null,null,null,null,null,null,{"$error":"#NUM!"}]
[2016135,null,null,null,null,null,null,null,null,null,null,null,null,null,null,null,null,null,null,null,null,null,null,null,null,{"$error":"#NUM!"}]
[2016136,null,null,null,null,null,null,null,null,null,null,null,null,null,null,null,null,null,null,null,null,null,null,null,null,{"$error":"#NUM!"}]
[2016137,null,null,null,null,null,null,null,null,null,null,null,null,null,null,null,null,null,null,null,null,null,null,null,null,{"$error":"#NUM!"}]
[2016138,null,null,null,null,null,null,null,null,null,null,null,null,null,null,null,null,null,null,null,null,null,null,null,null,{"$error":"#NUM!"}]
[2016139,null,null,null,null,null,null,null,null,null,null,null,null,null,null,null,null,null,null,null,null,null,null,null,null,{"$error":"#NUM!"}]
[2016140,null,null,null,null,null,null,null,null,null,null,null,null,null,null,null,null,null,null,null,null,null,null,null,null,{"$error":"#NUM!"}]
[2016141,null,null,null,null,null,null,null,null,null,null,null,null,null,null,null,null,null,null,null,null,null,null,null,null,{"$error":"#NUM!"}]
[{"$f":"SUM(A143+1)","v":2016142},null,null,null,null,null,null,null,null,null,null,null,null,null,null,null,null,null,null,null,null,null,null,null,null,{"$error":"#NUM!"}]
[2016143,null,null,null,null,null,null,null,null,null,null,null,null,null,null,null,null,null,null,null,null,null,null,null,null,{"$error":"#NUM!"}]
[2016144,null,null,null,null,null,null,null,null,null,null,null,null,null,null,null,null,null,null,null,null,null,null,null,null,{"$error":"#NUM!"}]
[2016145,null,null,null,null,null,null,null,null,null,null,null,null,null,null,null,null,null,null,null,null,null,null,null,null,{"$error":"#NUM!"}]
[2016146,null,null,null,null,null,null,null,null,null,null,null,null,null,null,null,null,null,null,null,null,null,null,null,null,{"$error":"#NUM!"}]
[2016147,null,null,null,null,null,null,null,null,null,null,null,null,null,null,null,null,null,null,null,null,null,null,null,null,{"$error":"#NUM!"}]
[2016148,null,null,null,null,null,null,null,null,null,null,null,null,null,null,null,null,null,null,null,null,null,null,null,null,{"$error":"#NUM!"}]
[2016149,null,null,null,null,null,null,null,null,null,null,null,null,null,null,null,null,null,null,null,null,null,null,null,null,{"$error":"#NUM!"}]
[2016150,null,null,null,null,null,null,null,null,null,null,null,null,null,null,null,null,null,null,null,null,null,null,null,null,{"$error":"#NUM!"}]
[2016151,null,null,null,null,null,null,null,null,null,null,null,null,null,null,null,null,null,null,null,null,null,null,null,null,{"$error":"#NUM!"}]
[2016152,null,null,null,null,null,null,null,null,null,null,null,null,null,null,null,null,null,null,null,null,null,null,null,null,{"$error":"#NUM!"}]
[2016153,null,null,null,null,null,null,null,null,null,null,null,null,null,null,null,null,null,null,null,null,null,null,null,null,{"$error":"#NUM!"}]
[2016154,null,null,null,null,null,null,null,null,null,null,null,null,null,null,null,null,null,null,null,null,null,null,null,null,{"$error":"#NUM!"}]
[{"$f":"SUM(A156+1)","v":2016155},null,null,null,null,null,null,null,null,null,null,null,null,null,null,null,null,null,null,null,null,null,null,null,null,{"$error":"#NUM!"}]
[2016156,null,null,null,null,null,null,null,null,null,null,null,null,null,null,null,null,null,null,null,null,null,null,null,null,{"$error":"#NUM!"}]
[2016157,null,null,null,null,null,null,null,null,null,null,null,null,null,null,null,null,null,null,null,null,null,null,null,null,{"$error":"#NUM!"}]
[2016158,null,null,null,null,null,null,null,null,null,null,null,null,null,null,null,null,null,null,null,null,null,null,null,null,{"$error":"#NUM!"}]
[2016159,null,null,null,null,null,null,null,null,null,null,null,null,null,null,null,null,null,null,null,null,null,null,null,null,{"$error":"#NUM!"}]
[2016160,null,null,null,null,null,null,null,null,null,null,null,null,null,null,null,null,null,null,null,null,null,null,null,null,{"$error":"#NUM!"}]
[2016161,null,null,null,null,null,null,null,null,null,null,null,null,null,null,null,null,null,null,null,null,null,null,null,null,{"$error":"#NUM!"}]
[2016162,null,null,null,null,null,null,null,null,null,null,null,null,null,null,null,null,null,null,null,null,null,null,null,null,{"$error":"#NUM!"}]
[2016163,null,null,null,null,null,null,null,null,null,null,null,null,null,null,null,null,null,null,null,null,null,null,null,null,{"$error":"#NUM!"}]
[2016164,null,null,null,null,null,null,null,null,null,null,null,null,null,null,null,null,null,null,null,null,null,null,null,null,{"$error":"#NUM!"}]
[2016165,null,null,null,null,null,null,null,null,null,null,null,null,null,null,null,null,null,null,null,null,null,null,null,null,{"$error":"#NUM!"}]
[2016166,null,null,null,null,null,null,null,null,null,null,null,null,null,null,null,null,null,null,null,null,null,null,null,null,{"$error":"#NUM!"}]
[2016167,null,null,null,null,null,null,null,null,null,null,null,null,null,null,null,null,null,null,null,null,null,null,null,null,{"$error":"#NUM!"}]
[2016168,null,null,null,null,null,null,null,null,null,null,null,null,null,null,null,null,null,null,null,null,null,null,null,null,{"$error":"#NUM!"}]
[2016169,null,null,null,null,null,null,null,null,null,null,null,null,null,null,null,null,null,null,null,null,null,null,null,null,{"$error":"#NUM!"}]
[2016170,null,null,null,null,null,null,null,null,null,null,null,null,null,null,null,null,null,null,null,null,null,null,null,null,{"$error":"#NUM!"}]
[2016171,null,null,null,null,null,null,null,null,null,null,null,null,null,null,null,null,null,null,null,null,null,null,null,null,{"$error":"#NUM!"}]
[2016172,null,null,null,null,null,null,null,null,null,null,null,null,null,null,null,null,null,null,null,null,null,null,null,null,{"$error":"#NUM!"}]
[2016173,null,null,null,null,null,null,null,null,null,null,null,null,null,null,null,null,null,null,null,null,null,null,null,null,{"$error":"#NUM!"}]
[2016174,null,null,null,null,null,null,null,null,null,null,null,null,null,null,null,null,null,null,null,null,null,null,null,null,{"$error":"#NUM!"}]
[2016175,null,null,null,null,null,null,null,null,null,null,null,null,null,null,null,null,null,null,null,null,null,null,null,null,{"$error":"#NUM!"}]
[2016176,null,null,null,null,null,null,null,null,null,null,null,null,null,null,null,null,null,null,null,null,null,null,null,null,{"$error":"#NUM!"}]
[2016177,null,null,null,null,null,null,null,null,null,null,null,null,null,null,null,null,null,null,null,null,null,null,null,null,{"$error":"#NUM!"}]
[2016178,null,null,null,null,null,null,null,null,null,null,null,null,null,null,null,null,null,null,null,null,null,null,null,null,{"$error":"#NUM!"}]
[2016179,null,null,null,null,null,null,null,null,null,null,null,null,null,null,null,null,null,null,null,null,null,null,null,null,{"$error":"#NUM!"}]
[2016180,null,null,null,null,null,null,null,null,null,null,null,null,null,null,null,null,null,null,null,null,null,null,null,null,{"$error":"#NUM!"}]
[2016181,null,null,null,null,null,null,null,null,null,null,null,null,null,null,null,null,null,null,null,null,null,null,null,null,{"$error":"#NUM!"}]
[2016182,null,null,null,null,null,null,null,null,null,null,null,null,null,null,null,null,null,null,null,null,null,null,null,null,{"$error":"#NUM!"}]
[2016183,null,null,null,null,null,null,null,null,null,null,null,null,null,null,null,null,null,null,null,null,null,null,null,null,{"$error":"#NUM!"}]
[2016184,null,null,null,null,null,null,null,null,null,null,null,null,null,null,null,null,null,null,null,null,null,null,null,null,{"$error":"#NUM!"}]
[2016185,null,null,null,null,null,null,null,null,null,null,null,null,null,null,null,null,null,null,null,null,null,null,null,null,{"$error":"#NUM!"}]
[2016186,null,null,null,null,null,null,null,null,null,null,null,null,null,null,null,null,null,null,null,null,null,null,null,null,{"$error":"#NUM!"}]
[2016187,null,null,null,null,null,null,null,null,null,null,null,null,null,null,null,null,null,null,null,null,null,null,null,null,{"$f":"DAYS360(B189-1,U189)","v":{"$error":"#NUM!"}}]
[2016188,null,null,null,null,null,null,null,null,null,null,null,null,null,null,null,null,null,null,null,null,null,null,null,null,{"$error":"#NUM!"}]
[2016189,null,null,null,null,null,null,null,null,null,null,null,null,null,null,null,null,null,null,null,null,null,null,null,null,{"$error":"#NUM!"}]
[2016190,null,null,null,null,null,null,null,null,null,null,null,null,null,null,null,null,null,null,null,null,null,null,null,null,{"$error":"#NUM!"}]
[2016191,null,null,null,null,null,null,null,null,null,null,null,null,null,null,null,null,null,null,null,null,null,null,null,null,{"$error":"#NUM!"}]
[2016192,null,null,null,null,null,null,null,null,null,null,null,null,null,null,null,null,null,null,null,null,null,null,null,null,{"$error":"#NUM!"}]
[2016193,null,null,null,null,null,null,null,null,null,null,null,null,null,null,null,null,null,null,null,null,null,null,null,null,{"$f":"DAYS360(B195-1,U195)","v":{"$error":"#NUM!"}}]
[2016194,null,null,null,null,null,null,null,null,null,null,null,null,null,null,null,null,null,null,null,null,null,null,null,null,{"$error":"#NUM!"}]
[{"$f":"SUM(A196+1)","v":2016195},null,null,null,null,null,null,null,null,null,null,null,null,null,null,null,null,null,null,null,null,null,null,null,null,{"$error":"#NUM!"}]
[2016196,null,null,null,null,null,null,null,null,null,null,null,null,null,null,null,null,null,null,null,null,null,null,null,null,{"$error":"#NUM!"}]
[2016197,null,null,null,null,null,null,null,null,null,null,null,null,null,null,null,null,null,null,null,null,null,null,null,null,{"$error":"#NUM!"}]
[2016198,null,null,null,null,null,null,null,null,null,null,null,null,null,null,null,null,null,null,null,null,null,null,null,null,{"$error":"#NUM!"}]
[2016199,null,null,null,null,null,null,null,null,null,null,null,null,null,null,null,null,null,null,null,null,null,null,null,null,{"$error":"#NUM!"}]
[2016200,null,null,null,null,null,null,null,null,null,null,null,null,null,null,null,null,null,null,null,null,null,null,null,null,{"$error":"#NUM!"}]
[2016201,null,null,null,null,null,null,null,null,null,null,null,null,null,null,null,null,null,null,null,null,null,null,null,null,{"$error":"#NUM!"}]
[2016202,null,null,null,null,null,null,null,null,null,null,null,null,null,null,null,null,null,null,null,null,null,null,null,null,{"$error":"#NUM!"}]
[2016203,null,null,null,null,null,null,null,null,null,null,null,null,null,null,null,null,null,null,null,null,null,null,null,null,{"$error":"#NUM!"}]
[2016204,null,null,null,null,null,null,null,null,null,null,null,null,null,null,null,null,null,null,null,null,null,null,null,null,{"$error":"#NUM!"}]
[2016205,null,null,null,null,null,null,null,null,null,null,null,null,null,null,null,null,null,null,null,null,null,null,null,null,{"$error":"#NUM!"}]
[2016206,null,null,null,null,null,null,null,null,null,null,null,null,null,null,null,null,null,null,null,null,null,null,null,null,{"$error":"#NUM!"}]
[2016207,null,null,null,null,null,null,null,null,null,null,null,null,null,null,null,null,null,null,null,null,null,null,null,null,{"$error":"#NUM!"}]
[2016208,null,null,null,null,null,null,null,null,null,null,null,null,null,null,null,null,null,null,null,null,null,null,null,null,{"$error":"#NUM!"}]
[2016209,null,null,null,null,null,null,null,null,null,null,null,null,null,null,null,null,null,null,null,null,null,null,null,null,{"$error":"#NUM!"}]
[2016210,null,null,null,null,null,null,null,null,null,null,null,null,null,null,null,null,null,null,null,null,null,null,null,null,{"$error":"#NUM!"}]
[2016211,null,null,null,null,null,null,null,null,null,null,null,null,null,null,null,null,null,null,null,null,null,null,null,null,{"$error":"#NUM!"}]
[2016212,null,null,null,null,null,null,null,null,null,null,null,null,null,null,null,null,null,null,null,null,null,null,null,null,{"$error":"#NUM!"}]
[2016213,null,null,null,null,null,null,null,null,null,null,null,null,null,null,null,null,null,null,null,null,null,null,null,null,{"$error":"#NUM!"}]
[2016214,null,null,null,null,null,null,null,null,null,null,null,null,null,null,null,null,null,null,null,null,null,null,null,null,{"$error":"#NUM!"}]
[2016215,null,null,null,null,null,null,null,null,null,null,null,null,null,null,null,null,null,null,null,null,null,null,null,null,{"$error":"#NUM!"}]
[2016216,null,null,null,null,null,null,null,null,null,null,null,null,null,null,null,null,null,null,null,null,null,null,null,null,{"$error":"#NUM!"}]
[2016217,null,null,null,null,null,null,null,null,null,null,null,null,null,null,null,null,null,null,null,null,null,null,null,null,{"$error":"#NUM!"}]
[2016218,null,null,null,null,null,null,null,null,null,null,null,null,null,null,null,null,null,null,null,null,null,null,null,null,{"$error":"#NUM!"}]
[2016219,null,null,null,null,null,null,null,null,null,null,null,null,null,null,null,null,null,null,null,null,null,null,null,null,{"$error":"#NUM!"}]
[2016220,null,null,null,null,null,null,null,null,null,null,null,null,null,null,null,null,null,null,null,null,null,null,null,null,{"$error":"#NUM!"}]
[2016221,null,null,null,null,null,null,null,null,null,null,null,null,null,null,null,null,null,null,null,null,null,null,null,null,{"$error":"#NUM!"}]
[2016222,null,null,null,null,null,null,null,null,null,null,null,null,null,null,null,null,null,null,null,null,null,null,null,null,{"$error":"#NUM!"}]
[2016223,null,null,null,null,null,null,null,null,null,null,null,null,null,null,null,null,null,null,null,null,null,null,null,null,{"$error":"#NUM!"}]
[2016224,null,null,null,null,null,null,null,null,null,null,null,null,null,null,null,null,null,null,null,null,null,null,null,null,{"$error":"#NUM!"}]
[2016225,null,null,null,null,null,null,null,null,null,null,null,null,null,null,null,null,null,null,null,null,null,null,null,null,{"$error":"#NUM!"}]
[2016226,null,null,null,null,null,null,null,null,null,null,null,null,null,null,null,null,null,null,null,null,null,null,null,null,{"$error":"#NUM!"}]
[2016227,null,null,null,null,null,null,null,null,null,null,null,null,null,null,null,null,null,null,null,null,null,null,null,null,{"$error":"#NUM!"}]
[2016228,null,null,null,null,null,null,null,null,null,null,null,null,null,null,null,null,null,null,null,null,null,null,null,null,{"$error":"#NUM!"}]
[2016229,null,null,null,null,null,null,null,null,null,null,null,null,null,null,null,null,null,null,null,null,null,null,null,null,{"$error":"#NUM!"}]
[2016230,null,null,null,null,null,null,null,null,null,null,null,null,null,null,null,null,null,null,null,null,null,null,null,null,{"$error":"#NUM!"}]
[2016231,null,null,null,null,null,null,null,null,null,null,null,null,null,null,null,null,null,null,null,null,null,null,null,null,{"$error":"#NUM!"}]
[2016232,null,null,null,null,null,null,null,null,null,null,null,null,null,null,null,null,null,null,null,null,null,null,null,null,{"$error":"#NUM!"}]
[2016233,null,null,null,null,null,null,null,null,null,null,null,null,null,null,null,null,null,null,null,null,null,null,null,null,{"$error":"#NUM!"}]
[2016234,null,null,null,null,null,null,null,null,null,null,null,null,null,null,null,null,null,null,null,null,null,null,null,null,{"$error":"#NUM!"}]
[2016235,null,null,null,null,null,null,null,null,null,null,null,null,null,null,null,null,null,null,null,null,null,null,null,null,{"$error":"#NUM!"}]
[2016236,null,null,null,null,null,null,null,null,null,null,null,null,null,null,null,null,null,null,null,null,null,null,null,null,{"$error":"#NUM!"}]
[2016237,null,null,null,null,null,null,null,null,null,null,null,null,null,null,null,null,null,null,null,null,null,null,null,null,{"$error":"#NUM!"}]
[2016238,null,null,null,null,null,null,null,null,null,null,null,null,null,null,null,null,null,null,null,null,null,null,null,null,{"$error":"#NUM!"}]
[2016239,null,null,null,null,null,null,null,null,null,null,null,null,null,null,null,null,null,null,null,null,null,null,null,null,{"$error":"#NUM!"}]
[2016240,null,null,null,null,null,null,null,null,null,null,null,null,null,null,null,null,null,null,null,null,null,null,null,null,{"$error":"#NUM!"}]
[2016241,null,null,null,null,null,null,null,null,null,null,null,null,null,null,null,null,null,null,null,null,null,null,null,null,{"$error":"#NUM!"}]
[2016242,null,null,null,null,null,null,null,null,null,null,null,null,null,null,null,null,null,null,null,null,null,null,null,null,{"$error":"#NUM!"}]
[2016243,null,null,null,null,null,null,null,null,null,null,null,null,null,null,null,null,null,null,null,null,null,null,null,null,{"$error":"#NUM!"}]
[2016244,null,null,null,null,null,null,null,null,null,null,null,null,null,null,null,null,null,null,null,null,null,null,null,null,{"$error":"#NUM!"}]
[2016245,null,null,null,null,null,null,null,null,null,null,null,null,null,null,null,null,null,null,null,null,null,null,null,null,{"$error":"#NUM!"}]
[2016246,null,null,null,null,null,null,null,null,null,null,null,null,null,null,null,null,null,null,null,null,null,null,null,null,{"$error":"#NUM!"}]
[2016247,null,null,null,null,null,null,null,null,null,null,null,null,null,null,null,null,null,null,null,null,null,null,null,null,{"$error":"#NUM!"}]
[2016248,null,null,null,null,null,null,null,null,null,null,null,null,null,null,null,null,null,null,null,null,null,null,null,null,{"$error":"#NUM!"}]
[2016249,null,null,null,null,null,null,null,null,null,null,null,null,null,null,null,null,null,null,null,null,null,null,null,null,{"$error":"#NUM!"}]
[2016250,null,null,null,null,null,null,null,null,null,null,null,null,null,null,null,null,null,null,null,null,null,null,null,null,{"$error":"#NUM!"}]
[2016251,null,null,null,null,null,null,null,null,null,null,null,null,null,null,null,null,null,null,null,null,null,null,null,null,{"$error":"#NUM!"}]
[2016252,null,null,null,null,null,null,null,null,null,null,null,null,null,null,null,null,null,null,null,null,null,null,null,null,{"$error":"#NUM!"}]
[2016253,null,null,null,null,null,null,null,null,null,null,null,null,null,null,null,null,null,null,null,null,null,null,null,null,{"$error":"#NUM!"}]
[2016254,null,null,null,null,null,null,null,null,null,null,null,null,null,null,null,null,null,null,null,null,null,null,null,null,{"$error":"#NUM!"}]
[2016255,null,null,null,null,null,null,null,null,null,null,null,null,null,null,null,null,null,null,null,null,null,null,null,null,{"$error":"#NUM!"}]
[2016256,null,null,null,null,null,null,null,null,null,null,null,null,null,null,null,null,null,null,null,null,null,null,null,null,{"$error":"#NUM!"}]
[2016257,null,null,null,null,null,null,null,null,null,null,null,null,null,null,null,null,null,null,null,null,null,null,null,null,{"$f":"DAYS360(B259-1,U259)","v":{"$error":"#NUM!"}}]
[2016258,null,null,null,null,null,null,null,null,null,null,null,null,null,null,null,null,null,null,null,null,null,null,null,null,{"$error":"#NUM!"}]
[{"$f":"SUM(A260+1)","v":2016259},null,null,null,null,null,null,null,null,null,null,null,null,null,null,null,null,null,null,null,null,null,null,null,null,{"$error":"#NUM!"}]
[2016260,null,null,null,null,null,null,null,null,null,null,null,null,null,null,null,null,null,null,null,null,null,null,null,null,{"$error":"#NUM!"}]
[2016261,null,null,null,null,null,null,null,null,null,null,null,null,null,null,null,null,null,null,null,null,null,null,null,null,{"$error":"#NUM!"}]
[2016262,null,null,null,null,null,null,null,null,null,null,null,null,null,null,null,null,null,null,null,null,null,null,null,null,{"$error":"#NUM!"}]
[2016263,null,null,null,null,null,null,null,null,null,null,null,null,null,null,null,null,null,null,null,null,null,null,null,null,{"$error":"#NUM!"}]
[2016264,null,null,null,null,null,null,null,null,null,null,null,null,null,null,null,null,null,null,null,null,null,null,null,null,{"$error":"#NUM!"}]
[2016265,null,null,null,null,null,null,null,null,null,null,null,null,null,null,null,null,null,null,null,null,null,null,null,null,{"$error":"#NUM!"}]
[2016266,null,null,null,null,null,null,null,null,null,null,null,null,null,null,null,null,null,null,null,null,null,null,null,null,{"$error":"#NUM!"}]
[2016267,null,null,null,null,null,null,null,null,null,null,null,null,null,null,null,null,null,null,null,null,null,null,null,null,{"$error":"#NUM!"}]
[2016268,null,null,null,null,null,null,null,null,null,null,null,null,null,null,null,null,null,null,null,null,null,null,null,null,{"$error":"#NUM!"}]
[2016269,null,null,null,null,null,null,null,null,null,null,null,null,null,null,null,null,null,null,null,null,null,null,null,null,{"$error":"#NUM!"}]
[2016270,null,null,null,null,null,null,null,null,null,null,null,null,null,null,null,null,null,null,null,null,null,null,null,null,{"$error":"#NUM!"}]
[2016271,null,null,null,null,null,null,null,null,null,null,null,null,null,null,null,null,null,null,null,null,null,null,null,null,{"$error":"#NUM!"}]
[2016272,null,null,null,null,null,null,null,null,null,null,null,null,null,null,null,null,null,null,null,null,null,null,null,null,{"$error":"#NUM!"}]
[2016273,null,null,null,null,null,null,null,null,null,null,null,null,null,null,null,null,null,null,null,null,null,null,null,null,{"$error":"#NUM!"}]
[2016274,null,null,null,null,null,null,null,null,null,null,null,null,null,null,null,null,null,null,null,null,null,null,null,null,{"$error":"#NUM!"}]
[2016275,null,null,null,null,null,null,null,null,null,null,null,null,null,null,null,null,null,null,null,null,null,null,null,null,{"$error":"#NUM!"}]
[2016276,null,null,null,null,null,null,null,null,null,null,null,null,null,null,null,null,null,null,null,null,null,null,null,null,{"$error":"#NUM!"}]
[2016277,null,null,null,null,null,null,null,null,null,null,null,null,null,null,null,null,null,null,null,null,null,null,null,null,{"$error":"#NUM!"}]
[2016278,null,null,null,null,null,null,null,null,null,null,null,null,null,null,null,null,null,null,null,null,null,null,null,null,{"$error":"#NUM!"}]
[2016279,null,null,null,null,null,null,null,null,null,null,null,null,null,null,null,null,null,null,null,null,null,null,null,null,{"$error":"#NUM!"}]
[2016280,null,null,null,null,null,null,null,null,null,null,null,null,null,null,null,null,null,null,null,null,null,null,null,null,{"$error":"#NUM!"}]
[2016281,null,null,null,null,null,null,null,null,null,null,null,null,null,null,null,null,null,null,null,null,null,null,null,null,{"$error":"#NUM!"}]
[2016282,null,null,null,null,null,null,null,null,null,null,null,null,null,null,null,null,null,null,null,null,null,null,null,null,{"$error":"#NUM!"}]
[2016283,null,null,null,null,null,null,null,null,null,null,null,null,null,null,null,null,null,null,null,null,null,null,null,null,{"$error":"#NUM!"}]
[2016284,null,null,null,null,null,null,null,null,null,null,null,null,null,null,null,null,null,null,null,null,null,null,null,null,{"$error":"#NUM!"}]
[2016285,null,null,null,null,null,null,null,null,null,null,null,null,null,null,null,null,null,null,null,null,null,null,null,null,{"$error":"#NUM!"}]
[2016286,null,null,null,null,null,null,null,null,null,null,null,null,null,null,null,null,null,null,null,null,null,null,null,null,{"$error":"#NUM!"}]
[2016287,null,null,null,null,null,null,null,null,null,null,null,null,null,null,null,null,null,null,null,null,null,null,null,null,{"$error":"#NUM!"}]
[2016288,null,null,null,null,null,null,null,null,null,null,null,null,null,null,null,null,null,null,null,null,null,null,null,null,{"$error":"#NUM!"}]
[2016289,null,null,null,null,null,null,null,null,null,null,null,null,null,null,null,null,null,null,null,null,null,null,null,null,{"$error":"#NUM!"}]
[2016290,null,null,null,null,null,null,null,null,null,null,null,null,null,null,null,null,null,null,null,null,null,null,null,null,{"$error":"#NUM!"}]
[2016291,null,null,null,null,null,null,null,null,null,null,null,null,null,null,null,null,null,null,null,null,null,null,null,null,{"$error":"#NUM!"}]
[2016292,null,null,null,null,null,null,null,null,null,null,null,null,null,null,null,null,null,null,null,null,null,null,null,null,{"$error":"#NUM!"}]
[2016293,null,null,null,null,null,null,null,null,null,null,null,null,null,null,null,null,null,null,null,null,null,null,null,null,{"$error":"#NUM!"}]
[2016294,null,null,null,null,null,null,null,null,null,null,null,null,null,null,null,null,null,null,null,null,null,null,null,null,{"$error":"#NUM!"}]
[2016295,null,null,null,null,null,null,null,null,null,null,null,null,null,null,null,null,null,null,null,null,null,null,null,null,{"$error":"#NUM!"}]
[2016296,null,null,null,null,null,null,null,null,null,null,null,null,null,null,null,null,null,null,null,null,null,null,null,null,{"$error":"#NUM!"}]
[2016297,null,null,null,null,null,null,null,null,null,null,null,null,null,null,null,null,null,null,null,null,null,null,null,null,{"$error":"#NUM!"}]
[2016298,null,null,null,null,null,null,null,null,null,null,null,null,null,null,null,null,null,null,null,null,null,null,null,null,{"$error":"#NUM!"}]
[2016299,null,null,null,null,null,null,null,null,null,null,null,null,null,null,null,null,null,null,null,null,null,null,null,null,{"$error":"#NUM!"}]
[2016300,null,null,null,null,null,null,null,null,null,null,null,null,null,null,null,null,null,null,null,null,null,null,null,null,{"$error":"#NUM!"}]
[2016301,null,null,null,null,null,null,null,null,null,null,null,null,null,null,null,null,null,null,null,null,null,null,null,null,{"$error":"#NUM!"}]
[2016302,null,null,null,null,null,null,null,null,null,null,null,null,null,null,null,null,null,null,null,null,null,null,null,null,{"$error":"#NUM!"}]
[2016303,null,null,null,null,null,null,null,null,null,null,null,null,null,null,null,null,null,null,null,null,null,null,null,null,{"$error":"#NUM!"}]
[2016304,null,null,null,null,null,null,null,null,null,null,null,null,null,null,null,null,null,null,null,null,null,null,null,null,{"$error":"#NUM!"}]
[2016305,null,null,null,null,null,null,null,null,null,null,null,null,null,null,null,null,null,null,null,null,null,null,null,null,{"$error":"#NUM!"}]
[2016306,null,null,null,null,null,null,null,null,null,null,null,null,null,null,null,null,null,null,null,null,null,null,null,null,{"$error":"#NUM!"}]
[2016307,null,null,null,null,null,null,null,null,null,null,null,null,null,null,null,null,null,null,null,null,null,null,null,null,{"$error":"#NUM!"}]
[2016308,null,null,null,null,null,null,null,null,null,null,null,null,null,null,null,null,null,null,null,null,null,null,null,null,{"$error":"#NUM!"}]
[2016309,null,null,null,null,null,null,null,null,null,null,null,null,null,null,null,null,null,null,null,null,null,null,null,null,{"$error":"#NUM!"}]
[2016310,null,null,null,null,null,null,null,null,null,null,null,null,null,null,null,null,null,null,null,null,null,null,null,null,{"$error":"#NUM!"}]
[2016311,null,null,null,null,null,null,null,null,null,null,null,null,null,null,null,null,null,null,null,null,null,null,null,null,{"$error":"#NUM!"}]
[2016312,null,null,null,null,null,null,null,null,null,null,null,null,null,null,null,null,null,null,null,null,null,null,null,null,{"$error":"#NUM!"}]
[2016313,null,null,null,null,null,null,null,null,null,null,null,null,null,null,null,null,null,null,null,null,null,null,null,null,{"$error":"#NUM!"}]
[2016314,null,null,null,null,null,null,null,null,null,null,null,null,null,null,null,null,null,null,null,null,null,null,null,null,{"$error":"#NUM!"}]
[2016315,null,null,null,null,null,null,null,null,null,null,null,null,null,null,null,null,null,null,null,null,null,null,null,null,{"$error":"#NUM!"}]
[2016316,null,null,null,null,null,null,null,null,null,null,null,null,null,null,null,null,null,null,null,null,null,null,null,null,{"$error":"#NUM!"}]
[2016317,null,null,null,null,null,null,null,null,null,null,null,null,null,null,null,null,null,null,null,null,null,null,null,null,{"$error":"#NUM!"}]
[2016318,null,null,null,null,null,null,null,null,null,null,null,null,null,null,null,null,null,null,null,null,null,null,null,null,{"$error":"#NUM!"}]
[2016319,null,null,null,null,null,null,null,null,null,null,null,null,null,null,null,null,null,null,null,null,null,null,null,null,{"$error":"#NUM!"}]
[2016320,null,null,null,null,null,null,null,null,null,null,null,null,null,null,null,null,null,null,null,null,null,null,null,null,{"$error":"#NUM!"}]
[2016321,null,null,null,null,null,null,null,null,null,null,null,null,null,null,null,null,null,null,null,null,null,null,null,null,{"$f":"DAYS360(B323-1,U323)","v":{"$error":"#NUM!"}}]
[2016322,null,null,null,null,null,null,null,null,null,null,null,null,null,null,null,null,null,null,null,null,null,null,null,null,{"$error":"#NUM!"}]
[{"$f":"SUM(A324+1)","v":2016323},null,null,null,null,null,null,null,null,null,null,null,null,null,null,null,null,null,null,null,null,null,null,null,null,{"$error":"#NUM!"}]
[2016324,null,null,null,null,null,null,null,null,null,null,null,null,null,null,null,null,null,null,null,null,null,null,null,null,{"$error":"#NUM!"}]
[2016325,null,null,null,null,null,null,null,null,null,null,null,null,null,null,null,null,null,null,null,null,null,null,null,null,{"$error":"#NUM!"}]
[2016326,null,null,null,null,null,null,null,null,null,null,null,null,null,null,null,null,null,null,null,null,null,null,null,null,{"$error":"#NUM!"}]
[2016327,null,null,null,null,null,null,null,null,null,null,null,null,null,null,null,null,null,null,null,null,null,null,null,null,{"$error":"#NUM!"}]
[2016328,null,null,null,null,null,null,null,null,null,null,null,null,null,null,null,null,null,null,null,null,null,null,null,null,{"$error":"#NUM!"}]
[2016329,null,null,null,null,null,null,null,null,null,null,null,null,null,null,null,null,null,null,null,null,null,null,null,null,{"$error":"#NUM!"}]
[2016330,null,null,null,null,null,null,null,null,null,null,null,null,null,null,null,null,null,null,null,null,null,null,null,null,{"$error":"#NUM!"}]
[2016331,null,null,null,null,null,null,null,null,null,null,null,null,null,null,null,null,null,null,null,null,null,null,null,null,{"$error":"#NUM!"}]
[2016332,null,null,null,null,null,null,null,null,null,null,null,null,null,null,null,null,null,null,null,null,null,null,null,null,{"$error":"#NUM!"}]
[2016333,null,null,null,null,null,null,null,null,null,null,null,null,null,null,null,null,null,null,null,null,null,null,null,null,{"$error":"#NUM!"}]
[2016334,null,null,null,null,null,null,null,null,null,null,null,null,null,null,null,null,null,null,null,null,null,null,null,null,{"$error":"#NUM!"}]
[2016335,null,null,null,null,null,null,null,null,null,null,null,null,null,null,null,null,null,null,null,null,null,null,null,null,{"$error":"#NUM!"}]
[2016336,null,null,null,null,null,null,null,null,null,null,null,null,null,null,null,null,null,null,null,null,null,null,null,null,{"$error":"#NUM!"}]
[2016337,null,null,null,null,null,null,null,null,null,null,null,null,null,null,null,null,null,null,null,null,null,null,null,null,{"$error":"#NUM!"}]
[2016338,null,null,null,null,null,null,null,null,null,null,null,null,null,null,null,null,null,null,null,null,null,null,null,null,{"$error":"#NUM!"}]
[2016339,null,null,null,null,null,null,null,null,null,null,null,null,null,null,null,null,null,null,null,null,null,null,null,null,{"$error":"#NUM!"}]
[2016340,null,null,null,null,null,null,null,null,null,null,null,null,null,null,null,null,null,null,null,null,null,null,null,null,{"$error":"#NUM!"}]
[2016341,null,null,null,null,null,null,null,null,null,null,null,null,null,null,null,null,null,null,null,null,null,null,null,null,{"$error":"#NUM!"}]
[2016342,null,null,null,null,null,null,null,null,null,null,null,null,null,null,null,null,null,null,null,null,null,null,null,null,{"$error":"#NUM!"}]
[2016343,null,null,null,null,null,null,null,null,null,null,null,null,null,null,null,null,null,null,null,null,null,null,null,null,{"$error":"#NUM!"}]
[2016344,null,null,null,null,null,null,null,null,null,null,null,null,null,null,null,null,null,null,null,null,null,null,null,null,{"$error":"#NUM!"}]
[2016345,null,null,null,null,null,null,null,null,null,null,null,null,null,null,null,null,null,null,null,null,null,null,null,null,{"$error":"#NUM!"}]
[2016346,null,null,null,null,null,null,null,null,null,null,null,null,null,null,null,null,null,null,null,null,null,null,null,null,{"$error":"#NUM!"}]
[2016347,null,null,null,null,null,null,null,null,null,null,null,null,null,null,null,null,null,null,null,null,null,null,null,null,{"$error":"#NUM!"}]
[2016348,null,null,null,null,null,null,null,null,null,null,null,null,null,null,null,null,null,null,null,null,null,null,null,null,{"$error":"#NUM!"}]
[2016349,null,null,null,null,null,null,null,null,null,null,null,null,null,null,null,null,null,null,null,null,null,null,null,null,{"$error":"#NUM!"}]
[2016350,null,null,null,null,null,null,null,null,null,null,null,null,null,null,null,null,null,null,null,null,null,null,null,null,{"$error":"#NUM!"}]
[2016351,null,null,null,null,null,null,null,null,null,null,null,null,null,null,null,null,null,null,null,null,null,null,null,null,{"$error":"#NUM!"}]
[2016352,null,null,null,null,null,null,null,null,null,null,null,null,null,null,null,null,null,null,null,null,null,null,null,null,{"$error":"#NUM!"}]
[2016353,null,null,null,null,null,null,null,null,null,null,null,null,null,null,null,null,null,null,null,null,null,null,null,null,{"$error":"#NUM!"}]
[2016354,null,null,null,null,null,null,null,null,null,null,null,null,null,null,null,null,null,null,null,null,null,null,null,null,{"$error":"#NUM!"}]
[2016355,null,null,null,null,null,null,null,null,null,null,null,null,null,null,null,null,null,null,null,null,null,null,null,null,{"$error":"#NUM!"}]
[2016356,null,null,null,null,null,null,null,null,null,null,null,null,null,null,null,null,null,null,null,null,null,null,null,null,{"$error":"#NUM!"}]
[2016357,null,null,null,null,null,null,null,null,null,null,null,null,null,null,null,null,null,null,null,null,null,null,null,null,{"$error":"#NUM!"}]
[2016358,null,null,null,null,null,null,null,null,null,null,null,null,null,null,null,null,null,null,null,null,null,null,null,null,{"$error":"#NUM!"}]
[2016359,null,null,null,null,null,null,null,null,null,null,null,null,null,null,null,null,null,null,null,null,null,null,null,null,{"$error":"#NUM!"}]
[2016360,null,null,null,null,null,null,null,null,null,null,null,null,null,null,null,null,null,null,null,null,null,null,null,null,{"$error":"#NUM!"}]
[2016361,null,null,null,null,null,null,null,null,null,null,null,null,null,null,null,null,null,null,null,null,null,null,null,null,{"$error":"#NUM!"}]
[2016362,null,null,null,null,null,null,null,null,null,null,null,null,null,null,null,null,null,null,null,null,null,null,null,null,{"$error":"#NUM!"}]
[2016363,null,null,null,null,null,null,null,null,null,null,null,null,null,null,null,null,null,null,null,null,null,null,null,null,{"$error":"#NUM!"}]
[2016364,null,null,null,null,null,null,null,null,null,null,null,null,null,null,null,null,null,null,null,null,null,null,null,null,{"$error":"#NUM!"}]
[2016365,null,null,null,null,null,null,null,null,null,null,null,null,null,null,null,null,null,null,null,null,null,null,null,null,{"$error":"#NUM!"}]
[2016366,null,null,null,null,null,null,null,null,null,null,null,null,null,null,null,null,null,null,null,null,null,null,null,null,{"$error":"#NUM!"}]
[2016367,null,null,null,null,null,null,null,null,null,null,null,null,null,null,null,null,null,null,null,null,null,null,null,null,{"$error":"#NUM!"}]
[2016368,null,null,null,null,null,null,null,null,null,null,null,null,null,null,null,null,null,null,null,null,null,null,null,null,{"$error":"#NUM!"}]
[2016369,null,null,null,null,null,null,null,null,null,null,null,null,null,null,null,null,null,null,null,null,null,null,null,null,{"$error":"#NUM!"}]
[2016370,null,null,null,null,null,null,null,null,null,null,null,null,null,null,null,null,null,null,null,null,null,null,null,null,{"$error":"#NUM!"}]
[2016371,null,null,null,null,null,null,null,null,null,null,null,null,null,null,null,null,null,null,null,null,null,null,null,null,{"$error":"#NUM!"}]
[2016372,null,null,null,null,null,null,null,null,null,null,null,null,null,null,null,null,null,null,null,null,null,null,null,null,{"$error":"#NUM!"}]
[2016373,null,null,null,null,null,null,null,null,null,null,null,null,null,null,null,null,null,null,null,null,null,null,null,null,{"$error":"#NUM!"}]
[2016374,null,null,null,null,null,null,null,null,null,null,null,null,null,null,null,null,null,null,null,null,null,null,null,null,{"$error":"#NUM!"}]
[2016375,null,null,null,null,null,null,null,null,null,null,null,null,null,null,null,null,null,null,null,null,null,null,null,null,{"$error":"#NUM!"}]
[2016376,null,null,null,null,null,null,null,null,null,null,null,null,null,null,null,null,null,null,null,null,null,null,null,null,{"$error":"#NUM!"}]
[2016377,null,null,null,null,null,null,null,null,null,null,null,null,null,null,null,null,null,null,null,null,null,null,null,null,{"$error":"#NUM!"}]
[2016378,null,null,null,null,null,null,null,null,null,null,null,null,null,null,null,null,null,null,null,null,null,null,null,null,{"$error":"#NUM!"}]
[2016379,null,null,null,null,null,null,null,null,null,null,null,null,null,null,null,null,null,null,null,null,null,null,null,null,{"$error":"#NUM!"}]
[2016380,null,null,null,null,null,null,null,null,null,null,null,null,null,null,null,null,null,null,null,null,null,null,null,null,{"$error":"#NUM!"}]
[2016381,null,null,null,null,null,null,null,null,null,null,null,null,null,null,null,null,null,null,null,null,null,null,null,null,{"$error":"#NUM!"}]
[2016382,null,null,null,null,null,null,null,null,null,null,null,null,null,null,null,null,null,null,null,null,null,null,null,null,{"$error":"#NUM!"}]
[2016383,null,null,null,null,null,null,null,null,null,null,null,null,null,null,null,null,null,null,null,null,null,null,null,null,{"$error":"#NUM!"}]
[2016384,null,null,null,null,null,null,null,null,null,null,null,null,null,null,null,null,null,null,null,null,null,null,null,null,{"$error":"#NUM!"}]
[2016385,null,null,null,null,null,null,null,null,null,null,null,null,null,null,null,null,null,null,null,null,null,null,null,null,{"$f":"DAYS360(B387-1,U387)","v":{"$error":"#NUM!"}}]
[2016386,null,null,null,null,null,null,null,null,null,null,null,null,null,null,null,null,null,null,null,null,null,null,null,null,{"$error":"#NUM!"}]
[{"$f":"SUM(A388+1)","v":2016387},null,null,null,null,null,null,null,null,null,null,null,null,null,null,null,null,null,null,null,null,null,null,null,null,{"$error":"#NUM!"}]
[2016388,null,null,null,null,null,null,null,null,null,null,null,null,null,null,null,null,null,null,null,null,null,null,null,null,{"$error":"#NUM!"}]
[2016389,null,null,null,null,null,null,null,null,null,null,null,null,null,null,null,null,null,null,null,null,null,null,null,null,{"$error":"#NUM!"}]
[2016390,null,null,null,null,null,null,null,null,null,null,null,null,null,null,null,null,null,null,null,null,null,null,null,null,{"$error":"#NUM!"}]
[2016391,null,null,null,null,null,null,null,null,null,null,null,null,null,null,null,null,null,null,null,null,null,null,null,null,{"$error":"#NUM!"}]
[2016392,null,null,null,null,null,null,null,null,null,null,null,null,null,null,null,null,null,null,null,null,null,null,null,null,{"$error":"#NUM!"}]
[2016393,null,null,null,null,null,null,null,null,null,null,null,null,null,null,null,null,null,null,null,null,null,null,null,null,{"$error":"#NUM!"}]
[2016394,null,null,null,null,null,null,null,null,null,null,null,null,null,null,null,null,null,null,null,null,null,null,null,null,{"$error":"#NUM!"}]
[2016395,null,null,null,null,null,null,null,null,null,null,null,null,null,null,null,null,null,null,null,null,null,null,null,null,{"$error":"#NUM!"}]
[2016396,null,null,null,null,null,null,null,null,null,null,null,null,null,null,null,null,null,null,null,null,null,null,null,null,{"$error":"#NUM!"}]
[2016397,null,null,null,null,null,null,null,null,null,null,null,null,null,null,null,null,null,null,null,null,null,null,null,null,{"$error":"#NUM!"}]
[2016398,null,null,null,null,null,null,null,null,null,null,null,null,null,null,null,null,null,null,null,null,null,null,null,null,{"$error":"#NUM!"}]
[2016399,null,null,null,null,null,null,null,null,null,null,null,null,null,null,null,null,null,null,null,null,null,null,null,null,{"$error":"#NUM!"}]
[2016400,null,null,null,null,null,null,null,null,null,null,null,null,null,null,null,null,null,null,null,null,null,null,null,null,{"$error":"#NUM!"}]
[2016401,null,null,null,null,null,null,null,null,null,null,null,null,null,null,null,null,null,null,null,null,null,null,null,null,{"$error":"#NUM!"}]
[2016402,null,null,null,null,null,null,null,null,null,null,null,null,null,null,null,null,null,null,null,null,null,null,null,null,{"$error":"#NUM!"}]
[2016403,null,null,null,null,null,null,null,null,null,null,null,null,null,null,null,null,null,null,null,null,null,null,null,null,{"$error":"#NUM!"}]
[2016404,null,null,null,null,null,null,null,null,null,null,null,null,null,null,null,null,null,null,null,null,null,null,null,null,{"$error":"#NUM!"}]
[2016405,null,null,null,null,null,null,null,null,null,null,null,null,null,null,null,null,null,null,null,null,null,null,null,null,{"$error":"#NUM!"}]
[2016406,null,null,null,null,null,null,null,null,null,null,null,null,null,null,null,null,null,null,null,null,null,null,null,null,{"$error":"#NUM!"}]
[2016407,null,null,null,null,null,null,null,null,null,null,null,null,null,null,null,null,null,null,null,null,null,null,null,null,{"$error":"#NUM!"}]
[2016408,null,null,null,null,null,null,null,null,null,null,null,null,null,null,null,null,null,null,null,null,null,null,null,null,{"$error":"#NUM!"}]
[2016409,null,null,null,null,null,null,null,null,null,null,null,null,null,null,null,null,null,null,null,null,null,null,null,null,{"$error":"#NUM!"}]
[2016410,null,null,null,null,null,null,null,null,null,null,null,null,null,null,null,null,null,null,null,null,null,null,null,null,{"$error":"#NUM!"}]
[2016411,null,null,null,null,null,null,null,null,null,null,null,null,null,null,null,null,null,null,null,null,null,null,null,null,{"$error":"#NUM!"}]
[2016412,null,null,null,null,null,null,null,null,null,null,null,null,null,null,null,null,null,null,null,null,null,null,null,null,{"$error":"#NUM!"}]
[2016413,null,null,null,null,null,null,null,null,null,null,null,null,null,null,null,null,null,null,null,null,null,null,null,null,{"$error":"#NUM!"}]
[2016414,null,null,null,null,null,null,null,null,null,null,null,null,null,null,null,null,null,null,null,null,null,null,null,null,{"$error":"#NUM!"}]
[2016415,null,null,null,null,null,null,null,null,null,null,null,null,null,null,null,null,null,null,null,null,null,null,null,null,{"$error":"#NUM!"}]
[2016416,null,null,null,null,null,null,null,null,null,null,null,null,null,null,null,null,null,null,null,null,null,null,null,null,{"$error":"#NUM!"}]
[2016417,null,null,null,null,null,null,null,null,null,null,null,null,null,null,null,null,null,null,null,null,null,null,null,null,{"$error":"#NUM!"}]
[2016418,null,null,null,null,null,null,null,null,null,null,null,null,null,null,null,null,null,null,null,null,null,null,null,null,{"$error":"#NUM!"}]
[2016419,null,null,null,null,null,null,null,null,null,null,null,null,null,null,null,null,null,null,null,null,null,null,null,null,{"$error":"#NUM!"}]
[2016420,null,null,null,null,null,null,null,null,null,null,null,null,null,null,null,null,null,null,null,null,null,null,null,null,{"$error":"#NUM!"}]
[2016421,null,null,null,null,null,null,null,null,null,null,null,null,null,null,null,null,null,null,null,null,null,null,null,null,{"$error":"#NUM!"}]
[2016422,null,null,null,null,null,null,null,null,null,null,null,null,null,null,null,null,null,null,null,null,null,null,null,null,{"$error":"#NUM!"}]
[2016423,null,null,null,null,null,null,null,null,null,null,null,null,null,null,null,null,null,null,null,null,null,null,null,null,{"$error":"#NUM!"}]
[2016424,null,null,null,null,null,null,null,null,null,null,null,null,null,null,null,null,null,null,null,null,null,null,null,null,{"$error":"#NUM!"}]
[2016425,null,null,null,null,null,null,null,null,null,null,null,null,null,null,null,null,null,null,null,null,null,null,null,null,{"$error":"#NUM!"}]
[2016426,null,null,null,null,null,null,null,null,null,null,null,null,null,null,null,null,null,null,null,null,null,null,null,null,{"$error":"#NUM!"}]
[2016427,null,null,null,null,null,null,null,null,null,null,null,null,null,null,null,null,null,null,null,null,null,null,null,null,{"$error":"#NUM!"}]
[2016428,null,null,null,null,null,null,null,null,null,null,null,null,null,null,null,null,null,null,null,null,null,null,null,null,{"$error":"#NUM!"}]
[2016429,null,null,null,null,null,null,null,null,null,null,null,null,null,null,null,null,null,null,null,null,null,null,null,null,{"$error":"#NUM!"}]
[2016430,null,null,null,null,null,null,null,null,null,null,null,null,null,null,null,null,null,null,null,null,null,null,null,null,{"$error":"#NUM!"}]
[2016431,null,null,null,null,null,null,null,null,null,null,null,null,null,null,null,null,null,null,null,null,null,null,null,null,{"$error":"#NUM!"}]
[2016432,null,null,null,null,null,null,null,null,null,null,null,null,null,null,null,null,null,null,null,null,null,null,null,null,{"$error":"#NUM!"}]
[2016433,null,null,null,null,null,null,null,null,null,null,null,null,null,null,null,null,null,null,null,null,null,null,null,null,{"$error":"#NUM!"}]
[2016434,null,null,null,null,null,null,null,null,null,null,null,null,null,null,null,null,null,null,null,null,null,null,null,null,{"$error":"#NUM!"}]
[2016435,null,null,null,null,null,null,null,null,null,null,null,null,null,null,null,null,null,null,null,null,null,null,null,null,{"$error":"#NUM!"}]
[2016436,null,null,null,null,null,null,null,null,null,null,null,null,null,null,null,null,null,null,null,null,null,null,null,null,{"$error":"#NUM!"}]
[2016437,null,null,null,null,null,null,null,null,null,null,null,null,null,null,null,null,null,null,null,null,null,null,null,null,{"$error":"#NUM!"}]
[2016438,null,null,null,null,null,null,null,null,null,null,null,null,null,null,null,null,null,null,null,null,null,null,null,null,{"$error":"#NUM!"}]
[2016439,null,null,null,null,null,null,null,null,null,null,null,null,null,null,null,null,null,null,null,null,null,null,null,null,{"$error":"#NUM!"}]
[2016440,null,null,null,null,null,null,null,null,null,null,null,null,null,null,null,null,null,null,null,null,null,null,null,null,{"$error":"#NUM!"}]
[2016441,null,null,null,null,null,null,null,null,null,null,null,null,null,null,null,null,null,null,null,null,null,null,null,null,{"$error":"#NUM!"}]
[2016442,null,null,null,null,null,null,null,null,null,null,null,null,null,null,null,null,null,null,null,null,null,null,null,null,{"$error":"#NUM!"}]
[2016443,null,null,null,null,null,null,null,null,null,null,null,null,null,null,null,null,null,null,null,null,null,null,null,null,{"$error":"#NUM!"}]
[2016444,null,null,null,null,null,null,null,null,null,null,null,null,null,null,null,null,null,null,null,null,null,null,null,null,{"$error":"#NUM!"}]
[2016445,null,null,null,null,null,null,null,null,null,null,null,null,null,null,null,null,null,null,null,null,null,null,null,null,{"$error":"#NUM!"}]
[2016446,null,null,null,null,null,null,null,null,null,null,null,null,null,null,null,null,null,null,null,null,null,null,null,null,{"$error":"#NUM!"}]
[2016447,null,null,null,null,null,null,null,null,null,null,null,null,null,null,null,null,null,null,null,null,null,null,null,null,{"$error":"#NUM!"}]
[2016448,null,null,null,null,null,null,null,null,null,null,null,null,null,null,null,null,null,null,null,null,null,null,null,null,{"$error":"#NUM!"}]
[2016449,null,null,null,null,null,null,null,null,null,null,null,null,null,null,null,null,null,null,null,null,null,null,null,null,{"$f":"DAYS360(B451-1,U451)","v":{"$error":"#NUM!"}}]
[2016450,null,null,null,null,null,null,null,null,null,null,null,null,null,null,null,null,null,null,null,null,null,null,null,null,{"$error":"#NUM!"}]
[{"$f":"SUM(A452+1)","v":2016451},null,null,null,null,null,null,null,null,null,null,null,null,null,null,null,null,null,null,null,null,null,null,null,null,{"$error":"#NUM!"}]
[2016452,null,null,null,null,null,null,null,null,null,null,null,null,null,null,null,null,null,null,null,null,null,null,null,null,{"$error":"#NUM!"}]
[2016453,null,null,null,null,null,null,null,null,null,null,null,null,null,null,null,null,null,null,null,null,null,null,null,null,{"$error":"#NUM!"}]
[2016454,null,null,null,null,null,null,null,null,null,null,null,null,null,null,null,null,null,null,null,null,null,null,null,null,{"$error":"#NUM!"}]
[2016455,null,null,null,null,null,null,null,null,null,null,null,null,null,null,null,null,null,null,null,null,null,null,null,null,{"$error":"#NUM!"}]
[2016456,null,null,null,null,null,null,null,null,null,null,null,null,null,null,null,null,null,null,null,null,null,null,null,null,{"$error":"#NUM!"}]
[2016457,null,null,null,null,null,null,null,null,null,null,null,null,null,null,null,null,null,null,null,null,null,null,null,null,{"$error":"#NUM!"}]
[2016458,null,null,null,null,null,null,null,null,null,null,null,null,null,null,null,null,null,null,null,null,null,null,null,null,{"$error":"#NUM!"}]
[2016459,null,null,null,null,null,null,null,null,null,null,null,null,null,null,null,null,null,null,null,null,null,null,null,null,{"$error":"#NUM!"}]
[2016460,null,null,null,null,null,null,null,null,null,null,null,null,null,null,null,null,null,null,null,null,null,null,null,null,{"$error":"#NUM!"}]
[2016461,null,null,null,null,null,null,null,null,null,null,null,null,null,null,null,null,null,null,null,null,null,null,null,null,{"$error":"#NUM!"}]
[2016462,null,null,null,null,null,null,null,null,null,null,null,null,null,null,null,null,null,null,null,null,null,null,null,null,{"$error":"#NUM!"}]
[2016463,null,null,null,null,null,null,null,null,null,null,null,null,null,null,null,null,null,null,null,null,null,null,null,null,{"$error":"#NUM!"}]
[2016464,null,null,null,null,null,null,null,null,null,null,null,null,null,null,null,null,null,null,null,null,null,null,null,null,{"$error":"#NUM!"}]
[2016465,null,null,null,null,null,null,null,null,null,null,null,null,null,null,null,null,null,null,null,null,null,null,null,null,{"$error":"#NUM!"}]
[2016466,null,null,null,null,null,null,null,null,null,null,null,null,null,null,null,null,null,null,null,null,null,null,null,null,{"$error":"#NUM!"}]
[2016467,null,null,null,null,null,null,null,null,null,null,null,null,null,null,null,null,null,null,null,null,null,null,null,null,{"$error":"#NUM!"}]
[2016468,null,null,null,null,null,null,null,null,null,null,null,null,null,null,null,null,null,null,null,null,null,null,null,null,{"$error":"#NUM!"}]
[2016469,null,null,null,null,null,null,null,null,null,null,null,null,null,null,null,null,null,null,null,null,null,null,null,null,{"$error":"#NUM!"}]
[2016470,null,null,null,null,null,null,null,null,null,null,null,null,null,null,null,null,null,null,null,null,null,null,null,null,{"$error":"#NUM!"}]
[2016471,null,null,null,null,null,null,null,null,null,null,null,null,null,null,null,null,null,null,null,null,null,null,null,null,{"$error":"#NUM!"}]
[2016472,null,null,null,null,null,null,null,null,null,null,null,null,null,null,null,null,null,null,null,null,null,null,null,null,{"$error":"#NUM!"}]
[2016473,null,null,null,null,null,null,null,null,null,null,null,null,null,null,null,null,null,null,null,null,null,null,null,null,{"$error":"#NUM!"}]
[2016474,null,null,null,null,null,null,null,null,null,null,null,null,null,null,null,null,null,null,null,null,null,null,null,null,{"$error":"#NUM!"}]
[2016475,null,null,null,null,null,null,null,null,null,null,null,null,null,null,null,null,null,null,null,null,null,null,null,null,{"$error":"#NUM!"}]
[2016476,null,null,null,null,null,null,null,null,null,null,null,null,null,null,null,null,null,null,null,null,null,null,null,null,{"$error":"#NUM!"}]
[2016477,null,null,null,null,null,null,null,null,null,null,null,null,null,null,null,null,null,null,null,null,null,null,null,null,{"$error":"#NUM!"}]
[2016478,null,null,null,null,null,null,null,null,null,null,null,null,null,null,null,null,null,null,null,null,null,null,null,null,{"$error":"#NUM!"}]
[2016479,null,null,null,null,null,null,null,null,null,null,null,null,null,null,null,null,null,null,null,null,null,null,null,null,{"$error":"#NUM!"}]
[2016480,null,null,null,null,null,null,null,null,null,null,null,null,null,null,null,null,null,null,null,null,null,null,null,null,{"$error":"#NUM!"}]
[2016481,null,null,null,null,null,null,null,null,null,null,null,null,null,null,null,null,null,null,null,null,null,null,null,null,{"$error":"#NUM!"}]
[2016482,null,null,null,null,null,null,null,null,null,null,null,null,null,null,null,null,null,null,null,null,null,null,null,null,{"$error":"#NUM!"}]
[2016483,null,null,null,null,null,null,null,null,null,null,null,null,null,null,null,null,null,null,null,null,null,null,null,null,{"$error":"#NUM!"}]
[2016484,null,null,null,null,null,null,null,null,null,null,null,null,null,null,null,null,null,null,null,null,null,null,null,null,{"$error":"#NUM!"}]
[2016485,null,null,null,null,null,null,null,null,null,null,null,null,null,null,null,null,null,null,null,null,null,null,null,null,{"$error":"#NUM!"}]
[2016486,null,null,null,null,null,null,null,null,null,null,null,null,null,null,null,null,null,null,null,null,null,null,null,null,{"$error":"#NUM!"}]
[2016487,null,null,null,null,null,null,null,null,null,null,null,null,null,null,null,null,null,null,null,null,null,null,null,null,{"$error":"#NUM!"}]
[2016488,null,null,null,null,null,null,null,null,null,null,null,null,null,null,null,null,null,null,null,null,null,null,null,null,{"$error":"#NUM!"}]
[2016489,null,null,null,null,null,null,null,null,null,null,null,null,null,null,null,null,null,null,null,null,null,null,null,null,{"$error":"#NUM!"}]
[2016490,null,null,null,null,null,null,null,null,null,null,null,null,null,null,null,null,null,null,null,null,null,null,null,null,{"$error":"#NUM!"}]
[2016491,null,null,null,null,null,null,null,null,null,null,null,null,null,null,null,null,null,null,null,null,null,null,null,null,{"$error":"#NUM!"}]
[2016492,null,null,null,null,null,null,null,null,null,null,null,null,null,null,null,null,null,null,null,null,null,null,null,null,{"$error":"#NUM!"}]
[2016493,null,null,null,null,null,null,null,null,null,null,null,null,null,null,null,null,null,null,null,null,null,null,null,null,{"$error":"#NUM!"}]
[2016494,null,null,null,null,null,null,null,null,null,null,null,null,null,null,null,null,null,null,null,null,null,null,null,null,{"$error":"#NUM!"}]
[2016495,null,null,null,null,null,null,null,null,null,null,null,null,null,null,null,null,null,null,null,null,null,null,null,null,{"$error":"#NUM!"}]
[2016496,null,null,null,null,null,null,null,null,null,null,null,null,null,null,null,null,null,null,null,null,null,null,null,null,{"$error":"#NUM!"}]
[2016497,null,null,null,null,null,null,null,null,null,null,null,null,null,null,null,null,null,null,null,null,null,null,null,null,{"$error":"#NUM!"}]
[2016498,null,null,null,null,null,null,null,null,null,null,null,null,null,null,null,null,null,null,null,null,null,null,null,null,{"$error":"#NUM!"}]
[2016499,null,null,null,null,null,null,null,null,null,null,null,null,null,null,null,null,null,null,null,null,null,null,null,null,{"$error":"#NUM!"}]
[2016500,null,null,null,null,null,null,null,null,null,null,null,null,null,null,null,null,null,null,null,null,null,null,null,null,{"$error":"#NUM!"}]
[]
["Total",null,null,null,null,null,null,null,null,null,null,null,null,null,null,null,null,null,"Claims","Total Open",null,null,null,"Total Cost",null,null,"Actioned","Modifiable","Investigations Open"]
[{"$f":"COUNTA($D$3:$D$502)","v":0},null,null,null,null,null,null,null,null,null,null,null,null,null,null,null,null,null,{"$f":"COUNTIF($S$3:$S$502,Lists!$E$3)","v":0},{"$f":"COUNTIF($T$3:$T$502,Lists!$K$3)","v":0},null,null,null,{"$f":"SUM(X3:X502)","v":0},null,null,{"$f":"COUNTIF($AA$3:$AA$502,\"Closed\")","v":0},{"$f":"COUNTIF(AB3:AB502,\"Yes\")","v":0},{"$f":"COUNTIF($AC$3:$AC$502,Lists!$K$3)","v":0}]
[null,null,null,null,null,null,null,null,null,null,null,null,null,null,null,null,null,null,null,null,null,null,null,null,"30+ Days Open","30+ Days","Outstanding"]
[null,null,null,null,null,null,null,null,null,null,null,null,null,null,null,null,null,null,null,null,null,null,null,null,{"$f":"COUNTIFS($Z$3:$Z$502,\">30\",$AA$3:$AA$502,\"Open\")","v":0},{"$f":"COUNTIF(Z3:Z502,\">30\")","v":0},{"$f":"SUM($A$505-$AA$505)","v":0}]
[null,null,null,null,null,null,null,null,null,null,null,null,null,null,null,null,null,null,null,null,null,null,null,null,{"$f":"COUNTIFS($Z$3:$Z$502,\">30\",$O$3:$O$502,\"LOW\")","v":0},"Low",{"$f":"COUNTIFS($Z$3:$Z$502,\">30\",$Y$3:$Y$502,\"LOW\")","v":0}]
[null,null,null,null,null,null,null,null,null,null,null,null,null,null,null,null,null,null,null,null,null,null,null,null,{"$f":"COUNTIFS($Z$3:$Z$502,\">30\",$O$3:$O$502,\"Moderate\")","v":0},"Moderate",{"$f":"COUNTIFS($Z$3:$Z$502,\">30\",$Y$3:$Y$502,\"Moderate\")","v":0}]
[null,null,null,null,null,null,null,null,null,null,null,null,null,null,null,null,null,null,null,null,null,null,null,null,{"$f":"COUNTIFS($Z$3:$Z$502,\">30\",$O$3:$O$502,\"High\")","v":0},"High",{"$f":"COUNTIFS($Z$3:$Z$502,\">30\",$Y$3:$Y$502,\"High\")","v":0}]
[null,null,null,null,null,null,null,null,null,null,null,null,null,null,null,null,null,null,null,null,null,null,null,null,{"$f":"COUNTIFS($Z$3:$Z$502,\">30\",$O$3:$O$502,\"Extreme\")","v":0},"Extreme",{"$f":"COUNTIFS($Z$3:$Z$502,\">30\",$Y$3:$Y$502,\"Extreme\")","v":0}]

{"sheet":"Risk Matrix","index":7,"n_rows":10,"n_cols":8,"rows_kept":10,"cut":false,"hidden":true,"merged":[[7,1,8,2]]}
[]
[null,"Likelihood - probability"]
[null,"Almost Certain",5,"Moderate","High","Extreme","Extreme","Extreme"]
[null,"Likely",4,"Moderate","High","High","Extreme","Extreme"]
[null,"Possible",3,"Low","Moderate","High","High","Extreme"]
[null,"Unlikely",2,"Low","Low","Moderate","High","High"]
[null,"Rare",1,"Low","Low","Low","Moderate","Moderate"]
[null,null,null,1,2,3,4,5]
[null,null,null,"Insignificant","Minor","Medium","Major","Catastrophic"]
[null,null,null,null,null,"Consequence - possible outcome"]

{"sheet":"Likelihood_Consequence Model","index":8,"n_rows":14,"n_cols":3,"rows_kept":14,"cut":false,"hidden":true,"merged":[]}
[]
[null,"Likelihood Rating","Guidance"]
[null,"Almost Certain","Expected to occur - greater than 80% probability - is unlikely to be predicted or prevented, or avoided."]
[null,"Likely","Will probably occur in most cases - 60-79% probability - may show signs of occuring but may not be predicted."]
[null,"Possible","Might occur sometime(s) - 40-59% probability - is likely to be identified prior to occuring and/or be predictable."]
[null,"Unlikely","Could occur at some point - 20-39% probability - often predicatble."]
[null,"Rare","May occur by exception - 0-19% probability - almost always predictable."]
[]
[null,"Consequence Rating","Guidance"]
[null,"Catastrophic","Worst possible outcome - Death(s) - total/significant damage/loss - long term or permanent effect with no or limited ability to recover - comprehensive failure of systems or ability to achieve goals/objectives/fufil responsibilities."]
[null,"Major","Substantial impact - Permanent Disfigurement/Disability - signifcant/large damage/loss - medium to long term effect with limited ability to recover - large scale failure of systems or ability to achieve/satisfy multiple goals/objectives or responsibilities."]
[null,"Medium","Limited impact - Temporary loss of capacity - moderate damage/loss - short to medium term effect/interruption to service(s) with ability to recover - limited failure of systems or ability to achieve/satisfy some goals/objectives or responsibilities."]
[null,"Minor","Isolated impact - External medical intervention required - some damage/loss or inconvenience to service(s) - fast recovery continuity not compromised - no systems failure - potential delays in-ability to achieve/satisfy low level goals/objectives or responsibilities."]
[null,"Insignificant","Little or no effect experienced - First aid or superficial injury - little to no loss/damage or interruption to service(s) - capacity not impacted - minor process error/fault with no system impact - achievement of goals/objectives and responsibilities not affected."]

{"sheet":"Management Report","index":9,"n_rows":164,"n_cols":13,"rows_kept":164,"cut":false,"hidden":false,"merged":[[163,3,163,8],[46,0,46,12],[14,0,14,12],[123,0,123,12]]}
[null,null,"HAZARD KPI AREA",null,null,null,"Hazards YTD","Closed","Open"]
["Refer to RISK ASSESSMENT CRITERIA pg 5",null,"Extreme Risks",null,null,null,{"$f":"StagingTables!$O$90","v":0},{"$f":"StagingTables!$G$98","v":0},{"$f":"SUM(G2-H2)","v":0}]
[]
[null,null,"High Risks",null,null,null,{"$f":"StagingTables!$O$88","v":0},{"$f":"StagingTables!$G$97","v":0},{"$f":"SUM(G4-H4)","v":0}]
[]
[null,null,"Moderate Risks",null,null,null,{"$f":"StagingTables!$O$86","v":0},{"$f":"StagingTables!$G$96","v":0},{"$f":"SUM(G6-H6)","v":0}]
[]
[null,null,"Low Risks",null,null,null,{"$f":"StagingTables!$O$84","v":0},{"$f":"StagingTables!$G$95","v":0},{"$f":"SUM(G8-H8)","v":0}]
[]
[null,"January","February","March","April","May","June","July","August","September","October","November","December"]
["Low Risk Hazards",{"$f":"StagingTables!C84","v":0},{"$f":"StagingTables!D84","v":0},{"$f":"StagingTables!E84","v":0},{"$f":"StagingTables!F84","v":0},{"$f":"StagingTables!G84","v":0},{"$f":"StagingTables!H84","v":0},{"$f":"StagingTables!I84","v":0},{"$f":"StagingTables!J84","v":0},{"$f":"StagingTables!K84","v":0},{"$f":"StagingTables!L84","v":0},{"$f":"StagingTables!M84","v":0},{"$f":"StagingTables!N84","v":0}]
["Moderate Risk Hazards",{"$f":"StagingTables!C86","v":0},{"$f":"StagingTables!D86","v":0},{"$f":"StagingTables!E86","v":0},{"$f":"StagingTables!F86","v":0},{"$f":"StagingTables!G86","v":0},{"$f":"StagingTables!H86","v":0},{"$f":"StagingTables!I86","v":0},{"$f":"StagingTables!J86","v":0},{"$f":"StagingTables!K86","v":0},{"$f":"StagingTables!L86","v":0},{"$f":"StagingTables!M86","v":0},{"$f":"StagingTables!N86","v":0}]
["High Risk Hazards",{"$f":"StagingTables!C88","v":0},{"$f":"StagingTables!D88","v":0},{"$f":"StagingTables!E88","v":0},{"$f":"StagingTables!F88","v":0},{"$f":"StagingTables!G88","v":0},{"$f":"StagingTables!H88","v":0},{"$f":"StagingTables!I88","v":0},{"$f":"StagingTables!J88","v":0},{"$f":"StagingTables!K88","v":0},{"$f":"StagingTables!L88","v":0},{"$f":"StagingTables!M88","v":0},{"$f":"StagingTables!N88","v":0}]
["Extreme Risk Hazards",{"$f":"StagingTables!C90","v":0},{"$f":"StagingTables!D90","v":0},{"$f":"StagingTables!E90","v":0},{"$f":"StagingTables!F90","v":0},{"$f":"StagingTables!G90","v":0},{"$f":"StagingTables!H90","v":0},{"$f":"StagingTables!I90","v":0},{"$f":"StagingTables!J90","v":0},{"$f":"StagingTables!K90","v":0},{"$f":"StagingTables!L90","v":0},{"$f":"StagingTables!M90","v":0},{"$f":"StagingTables!N90","v":0}]
["The desired result is for the lowest possible level of risk to be associated with Hazards therefore analysis must be undertaken to improve effectiveness of controls."]
[]
[]
[]
[]
[]
[]
[]
[]
[]
[]
[]
[]
[]
[]
[]
[]
[]
[]
[]
[]
[]
[]
[]
[]
[null,null,null,null,"Plant Related",{"$f":"SUM('Site Report '!B28:B30)","v":0},null,"Plant Use",{"$f":"'Site Report '!B30","v":0}]
[]
[]
["Type","January","February","March","April","May","June","July","August","September","October","November","December"]
["Hazard Report",{"$f":"StagingTables!C$4","v":0},{"$f":"StagingTables!D$4","v":0},{"$f":"StagingTables!E$4","v":0},{"$f":"StagingTables!F$4","v":0},{"$f":"StagingTables!G$4","v":0},{"$f":"StagingTables!H$4","v":0},{"$f":"StagingTables!I$4","v":0},{"$f":"StagingTables!J$4","v":0},{"$f":"StagingTables!K$4","v":0},{"$f":"StagingTables!L$4","v":0},{"$f":"StagingTables!M$4","v":0},{"$f":"StagingTables!N$4","v":0}]
["Incident Report",{"$f":"StagingTables!C$52","v":0},{"$f":"StagingTables!D$52","v":0},{"$f":"StagingTables!E$52","v":0},{"$f":"StagingTables!F$52","v":0},{"$f":"StagingTables!G$52","v":0},{"$f":"StagingTables!H$52","v":0},{"$f":"StagingTables!I$52","v":0},{"$f":"StagingTables!J$52","v":0},{"$f":"StagingTables!K$52","v":0},{"$f":"StagingTables!L$52","v":0},{"$f":"StagingTables!M$52","v":0},{"$f":"StagingTables!N$52","v":0}]
[]
["The aim of effective safe systems of work is to proactively identify riask to safety as Hazards prior to an event (incident) and then to monitor trend in Hazards identified (effectiveness of controls)."]
[]
[]
[]
[]
[]
[]
[]
[]
[]
[]
[]
[]
[]
[]
[]
[]
[]
[]
[]
[]
[]
[]
[]
[]
[]
[]
[]
[]
[]
[]
[]
[null,null,null,null,"Hazards Raised YTD",{"$f":"'Info Tables'!O4","v":0},null,"Incidents YTD",{"$f":"'Info Tables'!O52","v":0}]
[]
[]
[null,null,"KPI AREA",null,"Fiscal Year Target",null,"YTD",null,"Month  @ Annualised",null,"Varience"]
["Event caused by a Hazard =",null,"Incidents",null,90,null,{"$f":"'Site Report '!G3","v":0},{"$f":"+VLOOKUP(Lists!$V$3,Lists!$S$3:$T$14,2)","v":2},{"$f":"SUM(G83/H83)*12","v":0},null,{"$f":"SUM(I83-E83)","v":-90}]
[]
["Incident Outcome resulting in aid =",null,"Injuries",null,20,null,{"$f":"'Site Report '!G5","v":0},{"$f":"+VLOOKUP(Lists!$V$3,Lists!$S$3:$T$14,2)","v":2},{"$f":"SUM(G85/H85)*12","v":0},null,{"$f":"SUM(I85-E85)","v":-20}]
[]
["Cost incurred in relation to aid provided =",null,"Claims (medical intevention)",null,6,null,{"$f":"'Site Report '!G7","v":0},{"$f":"+VLOOKUP(Lists!$V$3,Lists!$S$3:$T$14,2)","v":2},{"$f":"SUM(G87/H87)*12","v":0},null,{"$f":"SUM(I87-E87)","v":-6}]
[]
["Injuries related to physical activities = ",null," -Manual Handling",null,3,null,{"$f":"'Site Report '!G9","v":0},{"$f":"+VLOOKUP(Lists!$V$3,Lists!$S$3:$T$14,2)","v":2},{"$f":"SUM(G89/H89)*12","v":0},null,{"$f":"SUM(I89-E89)","v":-3}]
[]
[null,"January","February","March","April","May","June","July","August","September","October","November","December"]
["Hazard Reports",{"$f":"StagingTables!C$4","v":0},{"$f":"StagingTables!D$4","v":0},{"$f":"StagingTables!E$4","v":0},{"$f":"StagingTables!F$4","v":0},{"$f":"StagingTables!G$4","v":0},{"$f":"StagingTables!H$4","v":0},{"$f":"StagingTables!I$4","v":0},{"$f":"StagingTables!J$4","v":0},{"$f":"StagingTables!K$4","v":0},{"$f":"StagingTables!L$4","v":0},{"$f":"StagingTables!M$4","v":0},{"$f":"StagingTables!N$4","v":0}]
["Incidents",{"$f":"StagingTables!C$52","v":0},{"$f":"StagingTables!D$52","v":0},{"$f":"StagingTables!E$52","v":0},{"$f":"StagingTables!F$52","v":0},{"$f":"StagingTables!G$52","v":0},{"$f":"StagingTables!H$52","v":0},{"$f":"StagingTables!I$52","v":0},{"$f":"StagingTables!J$52","v":0},{"$f":"StagingTables!K$52","v":0},{"$f":"StagingTables!L$52","v":0},{"$f":"StagingTables!M$52","v":0},{"$f":"StagingTables!N$52","v":0}]
["Injuries",{"$f":"StagingTables!C$79","v":0},{"$f":"StagingTables!D$79","v":0},{"$f":"StagingTables!E$79","v":0},{"$f":"StagingTables!F$79","v":0},{"$f":"StagingTables!G$79","v":0},{"$f":"StagingTables!H$79","v":0},{"$f":"StagingTables!I$79","v":0},{"$f":"StagingTables!J$79","v":0},{"$f":"StagingTables!K$79","v":0},{"$f":"StagingTables!L$79","v":0},{"$f":"StagingTables!M$79","v":0},{"$f":"StagingTables!N$79","v":0}]
["Claims",{"$f":"StagingTables!C$80","v":0},{"$f":"StagingTables!D$80","v":0},{"$f":"StagingTables!E$80","v":0},{"$f":"StagingTables!F$80","v":0},{"$f":"StagingTables!G$80","v":0},{"$f":"StagingTables!H$80","v":0},{"$f":"StagingTables!I$80","v":0},{"$f":"StagingTables!J$80","v":0},{"$f":"StagingTables!K$80","v":0},{"$f":"StagingTables!L$80","v":0},{"$f":"StagingTables!M$80","v":0},{"$f":"StagingTables!N$80","v":0}]
["Notifiable Events",{"$f":"StagingTables!C$176","v":0},{"$f":"StagingTables!D$176","v":0},{"$f":"StagingTables!E$176","v":0},{"$f":"StagingTables!F$176","v":0},{"$f":"StagingTables!G$176","v":0},{"$f":"StagingTables!H$176","v":0},{"$f":"StagingTables!I$176","v":0},{"$f":"StagingTables!J$176","v":0},{"$f":"StagingTables!K$176","v":0},{"$f":"StagingTables!L$176","v":0},{"$f":"StagingTables!M$176","v":0},{"$f":"StagingTables!N$176","v":0}]
[]
[]
[]
[]
[]
[]
[]
[]
[]
[]
[]
[]
[]
[]
[]
[]
[]
[]
[]
[]
[]
[]
[]
[]
[]
[]
[]
["The objective of a Safety Management System is to ensure that the controls that are applied to Hazards that minimise Moderate, High and Extreme Risk and return a biase towards Low Risk Levels."]
[]
[]
[]
[]
[]
[]
[]
[]
[]
[]
[]
[]
[]
[]
[]
[]
[]
[]
[]
[]
[]
[]
[]
[]
[]
[]
[]
[]
[]
[]
[]
[]
[]
[]
[]
[]
[]
[]
[]
[null,null,null,"RISK ASSESSMENT CRITERIA"]

{"sheet":"Site Report ","index":10,"n_rows":86,"n_cols":13,"rows_kept":86,"cut":false,"hidden":false,"merged":[[31,2,59,2],[19,2,24,2],[25,2,26,2],[0,1,0,8],[18,1,18,3],[27,2,30,2]]}
[null,null,null,null,null,null,null,null,null,{"$f":"TODAY()","v":"2016-02-03"}]
[null,"INCIDENT KPI AREA",null,null,"Fiscal Year Target",null,"YTD",null,"Month  @ Annualised",null,"Varience"]
[null,"Incidents",null,null,90,null,{"$f":"B61","v":0},{"$f":"+VLOOKUP(Lists!$V$3,Lists!$S$3:$T$14,2)","v":2},{"$f":"SUM(G3/H3)*12","v":0},null,{"$f":"SUM(I3-E3)","v":-90}]
[]
[null,"Injuries",null,null,20,null,{"$f":"B86","v":0},{"$f":"+VLOOKUP(Lists!$V$3,Lists!$S$3:$T$14,2)","v":2},{"$f":"SUM(G5/H5)*12","v":0},null,{"$f":"SUM(I5-E5)","v":-20}]
[]
[null,"Claims (medical intervention)",null,null,6,null,{"$f":"D61","v":0},{"$f":"+VLOOKUP(Lists!$V$3,Lists!$S$3:$T$14,2)","v":2},{"$f":"SUM(G7/H7)*12","v":0},null,{"$f":"SUM(I7-E7)","v":-6}]
[]
[null," -Manual Handling",null,null,3,null,{"$f":"SUM(C20:C25)","v":0},{"$f":"+VLOOKUP(Lists!$V$3,Lists!$S$3:$T$14,2)","v":2},{"$f":"SUM(G9/H9)*12","v":0},null,{"$f":"SUM(I9-E9)","v":-3}]
[]
[null,"January","February","March","April","May","June","July","August","September","October","November","December"]
["Hazard Reports",{"$f":"StagingTables!C$4","v":0},{"$f":"StagingTables!D$4","v":0},{"$f":"StagingTables!E$4","v":0},{"$f":"StagingTables!F$4","v":0},{"$f":"StagingTables!G$4","v":0},{"$f":"StagingTables!H$4","v":0},{"$f":"StagingTables!I$4","v":0},{"$f":"StagingTables!J$4","v":0},{"$f":"StagingTables!K$4","v":0},{"$f":"StagingTables!L$4","v":0},{"$f":"StagingTables!M$4","v":0},{"$f":"StagingTables!N$4","v":0}]
["Incidents",{"$f":"StagingTables!C$52","v":0},{"$f":"StagingTables!D$52","v":0},{"$f":"StagingTables!E$52","v":0},{"$f":"StagingTables!F$52","v":0},{"$f":"StagingTables!G$52","v":0},{"$f":"StagingTables!H$52","v":0},{"$f":"StagingTables!I$52","v":0},{"$f":"StagingTables!J$52","v":0},{"$f":"StagingTables!K$52","v":0},{"$f":"StagingTables!L$52","v":0},{"$f":"StagingTables!M$52","v":0},{"$f":"StagingTables!N$52","v":0}]
["Injuries",{"$f":"StagingTables!C$79","v":0},{"$f":"StagingTables!D$79","v":0},{"$f":"StagingTables!E$79","v":0},{"$f":"StagingTables!F$79","v":0},{"$f":"StagingTables!G$79","v":0},{"$f":"StagingTables!H$79","v":0},{"$f":"StagingTables!I$79","v":0},{"$f":"StagingTables!J$79","v":0},{"$f":"StagingTables!K$79","v":0},{"$f":"StagingTables!L$79","v":0},{"$f":"StagingTables!M$79","v":0},{"$f":"StagingTables!N$79","v":0}]
["Claims",{"$f":"StagingTables!C$80","v":0},{"$f":"StagingTables!D$80","v":0},{"$f":"StagingTables!E$80","v":0},{"$f":"StagingTables!F$80","v":0},{"$f":"StagingTables!G$80","v":0},{"$f":"StagingTables!H$80","v":0},{"$f":"StagingTables!I$80","v":0},{"$f":"StagingTables!J$80","v":0},{"$f":"StagingTables!K$80","v":0},{"$f":"StagingTables!L$80","v":0},{"$f":"StagingTables!M$80","v":0},{"$f":"StagingTables!N$80","v":0}]
["Notifiable Events",{"$f":"StagingTables!C$176","v":0},{"$f":"StagingTables!D$176","v":0},{"$f":"StagingTables!E$176","v":0},{"$f":"StagingTables!F$176","v":0},{"$f":"StagingTables!G$176","v":0},{"$f":"StagingTables!H$176","v":0},{"$f":"StagingTables!I$176","v":0},{"$f":"StagingTables!J$176","v":0},{"$f":"StagingTables!K$176","v":0},{"$f":"StagingTables!L$176","v":0},{"$f":"StagingTables!M$176","v":0},{"$f":"StagingTables!N$176","v":0}]
[]
["Incident or Hazard Type","Total","Sub Total","Claim"]
["Hazard Report or Other",{"$f":"'Info Tables'!O10","v":0}]
["Manual Handling Lift General",{"$f":"StagingTables!O11","v":0},{"$f":"SUM(B20:B25)","v":0},{"$f":"StagingTables!Q11","v":0}]
["Manual Handling Push/Pull General",{"$f":"StagingTables!O12","v":0},null,{"$f":"StagingTables!Q12","v":0}]
["Manual Handling Plant Entry",{"$f":"StagingTables!O13","v":0},null,{"$f":"StagingTables!Q13","v":0}]
["Manual Handling Plant Exit",{"$f":"StagingTables!O14","v":0},null,{"$f":"StagingTables!Q14","v":0}]
["Manual Handling Plant Operation",{"$f":"StagingTables!O15","v":0},null,{"$f":"StagingTables!Q15","v":0}]
["Manual Handling Posture",{"$f":"StagingTables!O16","v":0},null,{"$f":"StagingTables!Q16","v":0}]
["Second Party Physical",{"$f":"StagingTables!O17","v":0},{"$f":"SUM(B26:B27)","v":0},{"$f":"StagingTables!Q17","v":0}]
["Second Party Other",{"$f":"StagingTables!O18","v":0},null,{"$f":"StagingTables!Q18","v":0}]
["Plant Design",{"$f":"StagingTables!O19","v":0},{"$f":"SUM(B28:B30)","v":0},{"$f":"StagingTables!Q19","v":0}]
["Plant/Equipment Failure",{"$f":"StagingTables!O20","v":0},null,{"$f":"StagingTables!Q20","v":0}]
["Plant/Equipment Use",{"$f":"StagingTables!O21","v":0},null,{"$f":"StagingTables!Q21","v":0}]
["Plant Inspection - N/A",0,null,0]
["Chemical",{"$f":"StagingTables!O23","v":0},{"$f":"SUM(B32:B60)","v":0},{"$f":"StagingTables!Q23","v":0}]
["Electrical",{"$f":"StagingTables!O24","v":0},null,{"$f":"StagingTables!Q24","v":0}]
["Environment",{"$f":"StagingTables!O25","v":0},null,{"$f":"StagingTables!Q25","v":0}]
["External - No Control",{"$f":"StagingTables!O26","v":0},null,{"$f":"StagingTables!Q26","v":0}]
["Failure to Report - N/A",{"$f":"StagingTables!O27","v":0},null,{"$f":"StagingTables!Q27","v":0}]
["Fall - Object",{"$f":"StagingTables!O28","v":0},null,{"$f":"StagingTables!Q28","v":0}]
["Fall from Height - Person",{"$f":"StagingTables!O29","v":0},null,{"$f":"StagingTables!Q29","v":0}]
["Fatigue-Human",{"$f":"StagingTables!O30","v":0},null,{"$f":"StagingTables!Q30","v":0}]
["Furniture",{"$f":"StagingTables!O31","v":0},null,{"$f":"StagingTables!Q31","v":0}]
["Hazardous Condition",{"$f":"StagingTables!O32","v":0},null,{"$f":"StagingTables!Q32","v":0}]
["Hazardous Substance",{"$f":"StagingTables!O33","v":0},null,{"$f":"StagingTables!Q33","v":0}]
["Hot Object",{"$f":"StagingTables!O34","v":0},null,{"$f":"StagingTables!Q34","v":0}]
["Infrastructure",{"$f":"StagingTables!O35","v":0},null,{"$f":"StagingTables!Q35","v":0}]
["Maintenance Issue",{"$f":"StagingTables!O36","v":0},null,{"$f":"StagingTables!Q36","v":0}]
["Medical",{"$f":"StagingTables!O37","v":0},null,{"$f":"StagingTables!Q37","v":0}]
["Negligence - N/A",{"$f":"StagingTables!O38","v":0},null,{"$f":"StagingTables!Q38","v":0}]
["Operator Error",{"$f":"StagingTables!O39","v":0},null,{"$f":"StagingTables!Q39","v":0}]
["Pest/Animal",{"$f":"StagingTables!O40","v":0},null,{"$f":"StagingTables!Q40","v":0}]
["Process",{"$f":"StagingTables!O41","v":0},null,{"$f":"StagingTables!Q41","v":0}]
["Sharps",{"$f":"StagingTables!O42","v":0},null,{"$f":"StagingTables!Q42","v":0}]
["Slip",{"$f":"StagingTables!O43","v":0},null,{"$f":"StagingTables!Q43","v":0}]
["Strain",{"$f":"StagingTables!O44","v":0},null,{"$f":"StagingTables!Q44","v":0}]
["Stress",{"$f":"StagingTables!O45","v":0},null,{"$f":"StagingTables!Q45","v":0}]
["Supervision",{"$f":"StagingTables!O46","v":0},null,{"$f":"StagingTables!Q46","v":0}]
["Surface Condition",{"$f":"StagingTables!O47","v":0},null,{"$f":"StagingTables!Q47","v":0}]
["Training",{"$f":"StagingTables!O48","v":0},null,{"$f":"StagingTables!Q48","v":0}]
["Trip",{"$f":"StagingTables!O49","v":0},null,{"$f":"StagingTables!Q49","v":0}]
["Weather",{"$f":"StagingTables!O50","v":0},null,{"$f":"StagingTables!Q50","v":0}]
["Other",{"$f":"StagingTables!O51","v":0},null,{"$f":"StagingTables!Q51","v":0}]
[" Total Incidents, Area of Risk, Claims",{"$f":"SUM(B20:B60)-B19","v":0},{"$f":"SUM(C20:C60)","v":0},{"$f":"SUM(D20:D60)","v":0}]
[]
["Outcome Type","Total","Claim","Open"]
["Amputation",{"$f":"'Info Tables'!O62","v":0},{"$f":"'Info Tables'!P62","v":0},{"$f":"'Info Tables'!Q62","v":0}]
["Burns",{"$f":"'Info Tables'!O63","v":0},{"$f":"'Info Tables'!P63","v":0},{"$f":"'Info Tables'!Q63","v":0}]
["Contusion/ crushing",{"$f":"'Info Tables'!O64","v":0},{"$f":"'Info Tables'!P64","v":0},{"$f":"'Info Tables'!Q64","v":0}]
["Dermatitis/Eczema",{"$f":"'Info Tables'!O65","v":0},{"$f":"'Info Tables'!P65","v":0},{"$f":"'Info Tables'!Q65","v":0}]
["Diorder of the Eye",{"$f":"'Info Tables'!O66","v":0},{"$f":"'Info Tables'!P66","v":0},{"$f":"'Info Tables'!Q66","v":0}]
["Dislocation",{"$f":"'Info Tables'!O67","v":0},{"$f":"'Info Tables'!P67","v":0},{"$f":"'Info Tables'!Q67","v":0}]
["Electric Shock",{"$f":"'Info Tables'!O68","v":0},{"$f":"'Info Tables'!P68","v":0},{"$f":"'Info Tables'!Q68","v":0}]
["Fatality",{"$f":"'Info Tables'!O69","v":0},{"$f":"'Info Tables'!P69","v":0},{"$f":"'Info Tables'!Q69","v":0}]
["Foreign Body ",{"$f":"'Info Tables'!O70","v":0},{"$f":"'Info Tables'!P70","v":0},{"$f":"'Info Tables'!Q70","v":0}]
["Fracture",{"$f":"'Info Tables'!O71","v":0},{"$f":"'Info Tables'!P71","v":0},{"$f":"'Info Tables'!Q71","v":0}]
["Hernia",{"$f":"'Info Tables'!O72","v":0},{"$f":"'Info Tables'!P72","v":0},{"$f":"'Info Tables'!Q72","v":0}]
["Lacerations",{"$f":"'Info Tables'!O73","v":0},{"$f":"'Info Tables'!P73","v":0},{"$f":"'Info Tables'!Q73","v":0}]
["Mental Disorder",{"$f":"'Info Tables'!O74","v":0},{"$f":"'Info Tables'!P74","v":0},{"$f":"'Info Tables'!Q74","v":0}]
["Multiple Injury",{"$f":"'Info Tables'!O75","v":0},{"$f":"'Info Tables'!P75","v":0},{"$f":"'Info Tables'!Q75","v":0}]
["Open Wound",{"$f":"'Info Tables'!O76","v":0},{"$f":"'Info Tables'!P76","v":0},{"$f":"'Info Tables'!Q76","v":0}]
["Poisoning/Toxic Effects",{"$f":"'Info Tables'!O76","v":0},{"$f":"'Info Tables'!P76","v":0},{"$f":"'Info Tables'!Q76","v":0}]
["Puncture wound",{"$f":"'Info Tables'!O77","v":0},{"$f":"'Info Tables'!P77","v":0},{"$f":"'Info Tables'!Q77","v":0}]
["Respiratory Condition",{"$f":"'Info Tables'!O78","v":0},{"$f":"'Info Tables'!P78","v":0},{"$f":"'Info Tables'!Q78","v":0}]
["Sprains, Strains",{"$f":"'Info Tables'!O79","v":0},{"$f":"'Info Tables'!P79","v":0},{"$f":"'Info Tables'!Q79","v":0}]
["Superficial Injury",{"$f":"'Info Tables'!O80","v":0},{"$f":"'Info Tables'!P80","v":0},{"$f":"'Info Tables'!Q80","v":0}]
["Unspecified",{"$f":"'Info Tables'!O81","v":0},{"$f":"'Info Tables'!P81","v":0},{"$f":"'Info Tables'!Q81","v":0}]
["Other",{"$f":"'Info Tables'!O82","v":0},{"$f":"'Info Tables'!P82","v":0},{"$f":"'Info Tables'!Q82","v":0}]
["Totals",{"$f":"SUM(B64:B85)","v":0},{"$f":"SUM(C64:C85)","v":0},{"$f":"SUM(D64:D85)","v":0}]

{"sheet":"StagingTables","index":11,"n_rows":192,"n_cols":17,"rows_kept":192,"cut":false,"hidden":true,"merged":[[10,15,15,15],[16,15,17,15],[18,15,21,15],[22,15,50,15],[2,15,8,15]]}
[]
[null,"Incident Type","January","February","March","April","May","June","July","August","September","October","November","December","Total","Sub Total","Claim"]
[null,"General",{"$f":"COUNTIFS('WHS Event Log'!$E$3:$E$502,C$2,'WHS Event Log'!$H$3:$H$502,StagingTables!$B3)","v":0},{"$f":"COUNTIFS('WHS Event Log'!$E$3:$E$502,D$2,'WHS Event Log'!$H$3:$H$502,StagingTables!$B3)","v":0},{"$f":"COUNTIFS('WHS Event Log'!$E$3:$E$502,E$2,'WHS Event Log'!$H$3:$H$502,StagingTables!$B3)","v":0},{"$f":"COUNTIFS('WHS Event Log'!$E$3:$E$502,F$2,'WHS Event Log'!$H$3:$H$502,StagingTables!$B3)","v":0},{"$f":"COUNTIFS('WHS Event Log'!$E$3:$E$502,G$2,'WHS Event Log'!$H$3:$H$502,StagingTables!$B3)","v":0},{"$f":"COUNTIFS('WHS Event Log'!$E$3:$E$502,H$2,'WHS Event Log'!$H$3:$H$502,StagingTables!$B3)","v":0},{"$f":"COUNTIFS('WHS Event Log'!$E$3:$E$502,I$2,'WHS Event Log'!$H$3:$H$502,StagingTables!$B3)","v":0},{"$f":"COUNTIFS('WHS Event Log'!$E$3:$E$502,J$2,'WHS Event Log'!$H$3:$H$502,StagingTables!$B3)","v":0},{"$f":"COUNTIFS('WHS Event Log'!$E$3:$E$502,K$2,'WHS Event Log'!$H$3:$H$502,StagingTables!$B3)","v":0},{"$f":"COUNTIFS('WHS Event Log'!$E$3:$E$502,L$2,'WHS Event Log'!$H$3:$H$502,StagingTables!$B3)","v":0},{"$f":"COUNTIFS('WHS Event Log'!$E$3:$E$502,M$2,'WHS Event Log'!$H$3:$H$502,StagingTables!$B3)","v":0},{"$f":"COUNTIFS('WHS Event Log'!$E$3:$E$502,N$2,'WHS Event Log'!$H$3:$H$502,StagingTables!$B3)","v":0},{"$f":"SUM(C3:N3)","v":0},{"$f":"SUM(O8:O9)","v":0},"N/A"]
[null,"Hazard Report",{"$f":"COUNTIFS('WHS Event Log'!$E$3:$E$502,C$2,'WHS Event Log'!$H$3:$H$502,StagingTables!$B4)","v":0},{"$f":"COUNTIFS('WHS Event Log'!$E$3:$E$502,D$2,'WHS Event Log'!$H$3:$H$502,StagingTables!$B4)","v":0},{"$f":"COUNTIFS('WHS Event Log'!$E$3:$E$502,E$2,'WHS Event Log'!$H$3:$H$502,StagingTables!$B4)","v":0},{"$f":"COUNTIFS('WHS Event Log'!$E$3:$E$502,F$2,'WHS Event Log'!$H$3:$H$502,StagingTables!$B4)","v":0},{"$f":"COUNTIFS('WHS Event Log'!$E$3:$E$502,G$2,'WHS Event Log'!$H$3:$H$502,StagingTables!$B4)","v":0},{"$f":"COUNTIFS('WHS Event Log'!$E$3:$E$502,H$2,'WHS Event Log'!$H$3:$H$502,StagingTables!$B4)","v":0},{"$f":"COUNTIFS('WHS Event Log'!$E$3:$E$502,I$2,'WHS Event Log'!$H$3:$H$502,StagingTables!$B4)","v":0},{"$f":"COUNTIFS('WHS Event Log'!$E$3:$E$502,J$2,'WHS Event Log'!$H$3:$H$502,StagingTables!$B4)","v":0},{"$f":"COUNTIFS('WHS Event Log'!$E$3:$E$502,K$2,'WHS Event Log'!$H$3:$H$502,StagingTables!$B4)","v":0},{"$f":"COUNTIFS('WHS Event Log'!$E$3:$E$502,L$2,'WHS Event Log'!$H$3:$H$502,StagingTables!$B4)","v":0},{"$f":"COUNTIFS('WHS Event Log'!$E$3:$E$502,M$2,'WHS Event Log'!$H$3:$H$502,StagingTables!$B4)","v":0},{"$f":"COUNTIFS('WHS Event Log'!$E$3:$E$502,N$2,'WHS Event Log'!$H$3:$H$502,StagingTables!$B4)","v":0},{"$f":"SUM(C4:N4)","v":0},null,"N/A"]
[null,"Maintenance",{"$f":"COUNTIFS('WHS Event Log'!$E$3:$E$502,C$2,'WHS Event Log'!$H$3:$H$502,StagingTables!$B5)","v":0},{"$f":"COUNTIFS('WHS Event Log'!$E$3:$E$502,D$2,'WHS Event Log'!$H$3:$H$502,StagingTables!$B5)","v":0},{"$f":"COUNTIFS('WHS Event Log'!$E$3:$E$502,E$2,'WHS Event Log'!$H$3:$H$502,StagingTables!$B5)","v":0},{"$f":"COUNTIFS('WHS Event Log'!$E$3:$E$502,F$2,'WHS Event Log'!$H$3:$H$502,StagingTables!$B5)","v":0},{"$f":"COUNTIFS('WHS Event Log'!$E$3:$E$502,G$2,'WHS Event Log'!$H$3:$H$502,StagingTables!$B5)","v":0},{"$f":"COUNTIFS('WHS Event Log'!$E$3:$E$502,H$2,'WHS Event Log'!$H$3:$H$502,StagingTables!$B5)","v":0},{"$f":"COUNTIFS('WHS Event Log'!$E$3:$E$502,I$2,'WHS Event Log'!$H$3:$H$502,StagingTables!$B5)","v":0},{"$f":"COUNTIFS('WHS Event Log'!$E$3:$E$502,J$2,'WHS Event Log'!$H$3:$H$502,StagingTables!$B5)","v":0},{"$f":"COUNTIFS('WHS Event Log'!$E$3:$E$502,K$2,'WHS Event Log'!$H$3:$H$502,StagingTables!$B5)","v":0},{"$f":"COUNTIFS('WHS Event Log'!$E$3:$E$502,L$2,'WHS Event Log'!$H$3:$H$502,StagingTables!$B5)","v":0},{"$f":"COUNTIFS('WHS Event Log'!$E$3:$E$502,M$2,'WHS Event Log'!$H$3:$H$502,StagingTables!$B5)","v":0},{"$f":"COUNTIFS('WHS Event Log'!$E$3:$E$502,N$2,'WHS Event Log'!$H$3:$H$502,StagingTables!$B5)","v":0},{"$f":"SUM(C5:N5)","v":0},null,"N/A"]
[null,"System Compliance",{"$f":"COUNTIFS('WHS Event Log'!$E$3:$E$502,C$2,'WHS Event Log'!$H$3:$H$502,StagingTables!$B6)","v":0},{"$f":"COUNTIFS('WHS Event Log'!$E$3:$E$502,D$2,'WHS Event Log'!$H$3:$H$502,StagingTables!$B6)","v":0},{"$f":"COUNTIFS('WHS Event Log'!$E$3:$E$502,E$2,'WHS Event Log'!$H$3:$H$502,StagingTables!$B6)","v":0},{"$f":"COUNTIFS('WHS Event Log'!$E$3:$E$502,F$2,'WHS Event Log'!$H$3:$H$502,StagingTables!$B6)","v":0},{"$f":"COUNTIFS('WHS Event Log'!$E$3:$E$502,G$2,'WHS Event Log'!$H$3:$H$502,StagingTables!$B6)","v":0},{"$f":"COUNTIFS('WHS Event Log'!$E$3:$E$502,H$2,'WHS Event Log'!$H$3:$H$502,StagingTables!$B6)","v":0},{"$f":"COUNTIFS('WHS Event Log'!$E$3:$E$502,I$2,'WHS Event Log'!$H$3:$H$502,StagingTables!$B6)","v":0},{"$f":"COUNTIFS('WHS Event Log'!$E$3:$E$502,J$2,'WHS Event Log'!$H$3:$H$502,StagingTables!$B6)","v":0},{"$f":"COUNTIFS('WHS Event Log'!$E$3:$E$502,K$2,'WHS Event Log'!$H$3:$H$502,StagingTables!$B6)","v":0},{"$f":"COUNTIFS('WHS Event Log'!$E$3:$E$502,L$2,'WHS Event Log'!$H$3:$H$502,StagingTables!$B6)","v":0},{"$f":"COUNTIFS('WHS Event Log'!$E$3:$E$502,M$2,'WHS Event Log'!$H$3:$H$502,StagingTables!$B6)","v":0},{"$f":"COUNTIFS('WHS Event Log'!$E$3:$E$502,N$2,'WHS Event Log'!$H$3:$H$502,StagingTables!$B6)","v":0},0,null,"N/A"]
[null,"Incident External",{"$f":"COUNTIFS('WHS Event Log'!$E$3:$E$502,C$2,'WHS Event Log'!$H$3:$H$502,StagingTables!$B7)","v":0},{"$f":"COUNTIFS('WHS Event Log'!$E$3:$E$502,D$2,'WHS Event Log'!$H$3:$H$502,StagingTables!$B7)","v":0},{"$f":"COUNTIFS('WHS Event Log'!$E$3:$E$502,E$2,'WHS Event Log'!$H$3:$H$502,StagingTables!$B7)","v":0},{"$f":"COUNTIFS('WHS Event Log'!$E$3:$E$502,F$2,'WHS Event Log'!$H$3:$H$502,StagingTables!$B7)","v":0},{"$f":"COUNTIFS('WHS Event Log'!$E$3:$E$502,G$2,'WHS Event Log'!$H$3:$H$502,StagingTables!$B7)","v":0},{"$f":"COUNTIFS('WHS Event Log'!$E$3:$E$502,H$2,'WHS Event Log'!$H$3:$H$502,StagingTables!$B7)","v":0},{"$f":"COUNTIFS('WHS Event Log'!$E$3:$E$502,I$2,'WHS Event Log'!$H$3:$H$502,StagingTables!$B7)","v":0},{"$f":"COUNTIFS('WHS Event Log'!$E$3:$E$502,J$2,'WHS Event Log'!$H$3:$H$502,StagingTables!$B7)","v":0},{"$f":"COUNTIFS('WHS Event Log'!$E$3:$E$502,K$2,'WHS Event Log'!$H$3:$H$502,StagingTables!$B7)","v":0},{"$f":"COUNTIFS('WHS Event Log'!$E$3:$E$502,L$2,'WHS Event Log'!$H$3:$H$502,StagingTables!$B7)","v":0},{"$f":"COUNTIFS('WHS Event Log'!$E$3:$E$502,M$2,'WHS Event Log'!$H$3:$H$502,StagingTables!$B7)","v":0},{"$f":"COUNTIFS('WHS Event Log'!$E$3:$E$502,N$2,'WHS Event Log'!$H$3:$H$502,StagingTables!$B7)","v":0},0,null,"N/A"]
[null,"Incident",{"$f":"COUNTIFS('WHS Event Log'!$E$3:$E$502,C$2,'WHS Event Log'!$H$3:$H$502,StagingTables!$B8)","v":0},{"$f":"COUNTIFS('WHS Event Log'!$E$3:$E$502,D$2,'WHS Event Log'!$H$3:$H$502,StagingTables!$B8)","v":0},{"$f":"COUNTIFS('WHS Event Log'!$E$3:$E$502,E$2,'WHS Event Log'!$H$3:$H$502,StagingTables!$B8)","v":0},{"$f":"COUNTIFS('WHS Event Log'!$E$3:$E$502,F$2,'WHS Event Log'!$H$3:$H$502,StagingTables!$B8)","v":0},{"$f":"COUNTIFS('WHS Event Log'!$E$3:$E$502,G$2,'WHS Event Log'!$H$3:$H$502,StagingTables!$B8)","v":0},{"$f":"COUNTIFS('WHS Event Log'!$E$3:$E$502,H$2,'WHS Event Log'!$H$3:$H$502,StagingTables!$B8)","v":0},{"$f":"COUNTIFS('WHS Event Log'!$E$3:$E$502,I$2,'WHS Event Log'!$H$3:$H$502,StagingTables!$B8)","v":0},{"$f":"COUNTIFS('WHS Event Log'!$E$3:$E$502,J$2,'WHS Event Log'!$H$3:$H$502,StagingTables!$B8)","v":0},{"$f":"COUNTIFS('WHS Event Log'!$E$3:$E$502,K$2,'WHS Event Log'!$H$3:$H$502,StagingTables!$B8)","v":0},{"$f":"COUNTIFS('WHS Event Log'!$E$3:$E$502,L$2,'WHS Event Log'!$H$3:$H$502,StagingTables!$B8)","v":0},{"$f":"COUNTIFS('WHS Event Log'!$E$3:$E$502,M$2,'WHS Event Log'!$H$3:$H$502,StagingTables!$B8)","v":0},{"$f":"COUNTIFS('WHS Event Log'!$E$3:$E$502,N$2,'WHS Event Log'!$H$3:$H$502,StagingTables!$B8)","v":0},0,null,"N/A"]
[null,"Incident with Injury(s)",{"$f":"COUNTIFS('WHS Event Log'!$E$3:$E$502,C$2,'WHS Event Log'!$H$3:$H$502,StagingTables!$B9)","v":0},{"$f":"COUNTIFS('WHS Event Log'!$E$3:$E$502,D$2,'WHS Event Log'!$H$3:$H$502,StagingTables!$B9)","v":0},{"$f":"COUNTIFS('WHS Event Log'!$E$3:$E$502,E$2,'WHS Event Log'!$H$3:$H$502,StagingTables!$B9)","v":0},{"$f":"COUNTIFS('WHS Event Log'!$E$3:$E$502,F$2,'WHS Event Log'!$H$3:$H$502,StagingTables!$B9)","v":0},{"$f":"COUNTIFS('WHS Event Log'!$E$3:$E$502,G$2,'WHS Event Log'!$H$3:$H$502,StagingTables!$B9)","v":0},{"$f":"COUNTIFS('WHS Event Log'!$E$3:$E$502,H$2,'WHS Event Log'!$H$3:$H$502,StagingTables!$B9)","v":0},{"$f":"COUNTIFS('WHS Event Log'!$E$3:$E$502,I$2,'WHS Event Log'!$H$3:$H$502,StagingTables!$B9)","v":0},{"$f":"COUNTIFS('WHS Event Log'!$E$3:$E$502,J$2,'WHS Event Log'!$H$3:$H$502,StagingTables!$B9)","v":0},{"$f":"COUNTIFS('WHS Event Log'!$E$3:$E$502,K$2,'WHS Event Log'!$H$3:$H$502,StagingTables!$B9)","v":0},{"$f":"COUNTIFS('WHS Event Log'!$E$3:$E$502,L$2,'WHS Event Log'!$H$3:$H$502,StagingTables!$B9)","v":0},{"$f":"COUNTIFS('WHS Event Log'!$E$3:$E$502,M$2,'WHS Event Log'!$H$3:$H$502,StagingTables!$B9)","v":0},{"$f":"COUNTIFS('WHS Event Log'!$E$3:$E$502,N$2,'WHS Event Log'!$H$3:$H$502,StagingTables!$B9)","v":0},0,null,"N/A"]
[null," Other Total",{"$f":"SUM(C3:C7)","v":0},{"$f":"SUM(D3:D7)","v":0},{"$f":"SUM(E3:E7)","v":0},0,0,0,0,0,0,0,0,0,0]
[null,"Manual Handling Lift General",{"$f":"COUNTIFS('WHS Event Log'!$E$3:$E$502,C$2,'WHS Event Log'!$J$3:$J$502,StagingTables!$B11)","v":0},{"$f":"COUNTIFS('WHS Event Log'!$E$3:$E$502,D$2,'WHS Event Log'!$J$3:$J$502,StagingTables!$B11)","v":0},{"$f":"COUNTIFS('WHS Event Log'!$E$3:$E$502,E$2,'WHS Event Log'!$J$3:$J$502,StagingTables!$B11)","v":0},{"$f":"COUNTIFS('WHS Event Log'!$E$3:$E$502,F$2,'WHS Event Log'!$J$3:$J$502,StagingTables!$B11)","v":0},{"$f":"COUNTIFS('WHS Event Log'!$E$3:$E$502,G$2,'WHS Event Log'!$J$3:$J$502,StagingTables!$B11)","v":0},{"$f":"COUNTIFS('WHS Event Log'!$E$3:$E$502,H$2,'WHS Event Log'!$J$3:$J$502,StagingTables!$B11)","v":0},{"$f":"COUNTIFS('WHS Event Log'!$E$3:$E$502,I$2,'WHS Event Log'!$J$3:$J$502,StagingTables!$B11)","v":0},{"$f":"COUNTIFS('WHS Event Log'!$E$3:$E$502,J$2,'WHS Event Log'!$J$3:$J$502,StagingTables!$B11)","v":0},{"$f":"COUNTIFS('WHS Event Log'!$E$3:$E$502,K$2,'WHS Event Log'!$J$3:$J$502,StagingTables!$B11)","v":0},{"$f":"COUNTIFS('WHS Event Log'!$E$3:$E$502,L$2,'WHS Event Log'!$J$3:$J$502,StagingTables!$B11)","v":0},{"$f":"COUNTIFS('WHS Event Log'!$E$3:$E$502,M$2,'WHS Event Log'!$J$3:$J$502,StagingTables!$B11)","v":0},{"$f":"COUNTIFS('WHS Event Log'!$E$3:$E$502,N$2,'WHS Event Log'!$J$3:$J$502,StagingTables!$B11)","v":0},0,{"$f":"SUM(O11:O16)","v":0},{"$f":"COUNTIFS('WHS Event Log'!$J$3:$J$502,$B11,'WHS Event Log'!$S$3:$S$502,Lists!$E$3)","v":0}]
[null,"Manual Handling Push/Pull General",{"$f":"COUNTIFS('WHS Event Log'!$E$3:$E$502,C$2,'WHS Event Log'!$J$3:$J$502,StagingTables!$B12)","v":0},{"$f":"COUNTIFS('WHS Event Log'!$E$3:$E$502,D$2,'WHS Event Log'!$J$3:$J$502,StagingTables!$B12)","v":0},{"$f":"COUNTIFS('WHS Event Log'!$E$3:$E$502,E$2,'WHS Event Log'!$J$3:$J$502,StagingTables!$B12)","v":0},{"$f":"COUNTIFS('WHS Event Log'!$E$3:$E$502,F$2,'WHS Event Log'!$J$3:$J$502,StagingTables!$B12)","v":0},{"$f":"COUNTIFS('WHS Event Log'!$E$3:$E$502,G$2,'WHS Event Log'!$J$3:$J$502,StagingTables!$B12)","v":0},{"$f":"COUNTIFS('WHS Event Log'!$E$3:$E$502,H$2,'WHS Event Log'!$J$3:$J$502,StagingTables!$B12)","v":0},{"$f":"COUNTIFS('WHS Event Log'!$E$3:$E$502,I$2,'WHS Event Log'!$J$3:$J$502,StagingTables!$B12)","v":0},{"$f":"COUNTIFS('WHS Event Log'!$E$3:$E$502,J$2,'WHS Event Log'!$J$3:$J$502,StagingTables!$B12)","v":0},{"$f":"COUNTIFS('WHS Event Log'!$E$3:$E$502,K$2,'WHS Event Log'!$J$3:$J$502,StagingTables!$B12)","v":0},{"$f":"COUNTIFS('WHS Event Log'!$E$3:$E$502,L$2,'WHS Event Log'!$J$3:$J$502,StagingTables!$B12)","v":0},{"$f":"COUNTIFS('WHS Event Log'!$E$3:$E$502,M$2,'WHS Event Log'!$J$3:$J$502,StagingTables!$B12)","v":0},{"$f":"COUNTIFS('WHS Event Log'!$E$3:$E$502,N$2,'WHS Event Log'!$J$3:$J$502,StagingTables!$B12)","v":0},0,null,{"$f":"COUNTIFS('WHS Event Log'!$J$3:$J$502,$B12,'WHS Event Log'!$S$3:$S$502,Lists!$E$3)","v":0}]
[null,"Manual Handling Plant Entry",{"$f":"COUNTIFS('WHS Event Log'!$E$3:$E$502,C$2,'WHS Event Log'!$J$3:$J$502,StagingTables!$B13)","v":0},{"$f":"COUNTIFS('WHS Event Log'!$E$3:$E$502,D$2,'WHS Event Log'!$J$3:$J$502,StagingTables!$B13)","v":0},{"$f":"COUNTIFS('WHS Event Log'!$E$3:$E$502,E$2,'WHS Event Log'!$J$3:$J$502,StagingTables!$B13)","v":0},{"$f":"COUNTIFS('WHS Event Log'!$E$3:$E$502,F$2,'WHS Event Log'!$J$3:$J$502,StagingTables!$B13)","v":0},{"$f":"COUNTIFS('WHS Event Log'!$E$3:$E$502,G$2,'WHS Event Log'!$J$3:$J$502,StagingTables!$B13)","v":0},{"$f":"COUNTIFS('WHS Event Log'!$E$3:$E$502,H$2,'WHS Event Log'!$J$3:$J$502,StagingTables!$B13)","v":0},{"$f":"COUNTIFS('WHS Event Log'!$E$3:$E$502,I$2,'WHS Event Log'!$J$3:$J$502,StagingTables!$B13)","v":0},{"$f":"COUNTIFS('WHS Event Log'!$E$3:$E$502,J$2,'WHS Event Log'!$J$3:$J$502,StagingTables!$B13)","v":0},{"$f":"COUNTIFS('WHS Event Log'!$E$3:$E$502,K$2,'WHS Event Log'!$J$3:$J$502,StagingTables!$B13)","v":0},{"$f":"COUNTIFS('WHS Event Log'!$E$3:$E$502,L$2,'WHS Event Log'!$J$3:$J$502,StagingTables!$B13)","v":0},{"$f":"COUNTIFS('WHS Event Log'!$E$3:$E$502,M$2,'WHS Event Log'!$J$3:$J$502,StagingTables!$B13)","v":0},{"$f":"COUNTIFS('WHS Event Log'!$E$3:$E$502,N$2,'WHS Event Log'!$J$3:$J$502,StagingTables!$B13)","v":0},0,null,{"$f":"COUNTIFS('WHS Event Log'!$J$3:$J$502,$B13,'WHS Event Log'!$S$3:$S$502,Lists!$E$3)","v":0}]
[null,"Manual Handling Plant Exit",{"$f":"COUNTIFS('WHS Event Log'!$E$3:$E$502,C$2,'WHS Event Log'!$J$3:$J$502,StagingTables!$B14)","v":0},{"$f":"COUNTIFS('WHS Event Log'!$E$3:$E$502,D$2,'WHS Event Log'!$J$3:$J$502,StagingTables!$B14)","v":0},{"$f":"COUNTIFS('WHS Event Log'!$E$3:$E$502,E$2,'WHS Event Log'!$J$3:$J$502,StagingTables!$B14)","v":0},{"$f":"COUNTIFS('WHS Event Log'!$E$3:$E$502,F$2,'WHS Event Log'!$J$3:$J$502,StagingTables!$B14)","v":0},{"$f":"COUNTIFS('WHS Event Log'!$E$3:$E$502,G$2,'WHS Event Log'!$J$3:$J$502,StagingTables!$B14)","v":0},{"$f":"COUNTIFS('WHS Event Log'!$E$3:$E$502,H$2,'WHS Event Log'!$J$3:$J$502,StagingTables!$B14)","v":0},{"$f":"COUNTIFS('WHS Event Log'!$E$3:$E$502,I$2,'WHS Event Log'!$J$3:$J$502,StagingTables!$B14)","v":0},{"$f":"COUNTIFS('WHS Event Log'!$E$3:$E$502,J$2,'WHS Event Log'!$J$3:$J$502,StagingTables!$B14)","v":0},{"$f":"COUNTIFS('WHS Event Log'!$E$3:$E$502,K$2,'WHS Event Log'!$J$3:$J$502,StagingTables!$B14)","v":0},{"$f":"COUNTIFS('WHS Event Log'!$E$3:$E$502,L$2,'WHS Event Log'!$J$3:$J$502,StagingTables!$B14)","v":0},{"$f":"COUNTIFS('WHS Event Log'!$E$3:$E$502,M$2,'WHS Event Log'!$J$3:$J$502,StagingTables!$B14)","v":0},{"$f":"COUNTIFS('WHS Event Log'!$E$3:$E$502,N$2,'WHS Event Log'!$J$3:$J$502,StagingTables!$B14)","v":0},0,null,{"$f":"COUNTIFS('WHS Event Log'!$J$3:$J$502,$B14,'WHS Event Log'!$S$3:$S$502,Lists!$E$3)","v":0}]
[null,"Manual Handling Plant Operation",{"$f":"COUNTIFS('WHS Event Log'!$E$3:$E$502,C$2,'WHS Event Log'!$J$3:$J$502,StagingTables!$B15)","v":0},{"$f":"COUNTIFS('WHS Event Log'!$E$3:$E$502,D$2,'WHS Event Log'!$J$3:$J$502,StagingTables!$B15)","v":0},{"$f":"COUNTIFS('WHS Event Log'!$E$3:$E$502,E$2,'WHS Event Log'!$J$3:$J$502,StagingTables!$B15)","v":0},{"$f":"COUNTIFS('WHS Event Log'!$E$3:$E$502,F$2,'WHS Event Log'!$J$3:$J$502,StagingTables!$B15)","v":0},{"$f":"COUNTIFS('WHS Event Log'!$E$3:$E$502,G$2,'WHS Event Log'!$J$3:$J$502,StagingTables!$B15)","v":0},{"$f":"COUNTIFS('WHS Event Log'!$E$3:$E$502,H$2,'WHS Event Log'!$J$3:$J$502,StagingTables!$B15)","v":0},{"$f":"COUNTIFS('WHS Event Log'!$E$3:$E$502,I$2,'WHS Event Log'!$J$3:$J$502,StagingTables!$B15)","v":0},{"$f":"COUNTIFS('WHS Event Log'!$E$3:$E$502,J$2,'WHS Event Log'!$J$3:$J$502,StagingTables!$B15)","v":0},{"$f":"COUNTIFS('WHS Event Log'!$E$3:$E$502,K$2,'WHS Event Log'!$J$3:$J$502,StagingTables!$B15)","v":0},{"$f":"COUNTIFS('WHS Event Log'!$E$3:$E$502,L$2,'WHS Event Log'!$J$3:$J$502,StagingTables!$B15)","v":0},{"$f":"COUNTIFS('WHS Event Log'!$E$3:$E$502,M$2,'WHS Event Log'!$J$3:$J$502,StagingTables!$B15)","v":0},{"$f":"COUNTIFS('WHS Event Log'!$E$3:$E$502,N$2,'WHS Event Log'!$J$3:$J$502,StagingTables!$B15)","v":0},0,null,{"$f":"COUNTIFS('WHS Event Log'!$J$3:$J$502,$B15,'WHS Event Log'!$S$3:$S$502,Lists!$E$3)","v":0}]
[null,"Manual Handling Posture",{"$f":"COUNTIFS('WHS Event Log'!$E$3:$E$502,C$2,'WHS Event Log'!$J$3:$J$502,StagingTables!$B16)","v":0},{"$f":"COUNTIFS('WHS Event Log'!$E$3:$E$502,D$2,'WHS Event Log'!$J$3:$J$502,StagingTables!$B16)","v":0},{"$f":"COUNTIFS('WHS Event Log'!$E$3:$E$502,E$2,'WHS Event Log'!$J$3:$J$502,StagingTables!$B16)","v":0},{"$f":"COUNTIFS('WHS Event Log'!$E$3:$E$502,F$2,'WHS Event Log'!$J$3:$J$502,StagingTables!$B16)","v":0},{"$f":"COUNTIFS('WHS Event Log'!$E$3:$E$502,G$2,'WHS Event Log'!$J$3:$J$502,StagingTables!$B16)","v":0},{"$f":"COUNTIFS('WHS Event Log'!$E$3:$E$502,H$2,'WHS Event Log'!$J$3:$J$502,StagingTables!$B16)","v":0},{"$f":"COUNTIFS('WHS Event Log'!$E$3:$E$502,I$2,'WHS Event Log'!$J$3:$J$502,StagingTables!$B16)","v":0},{"$f":"COUNTIFS('WHS Event Log'!$E$3:$E$502,J$2,'WHS Event Log'!$J$3:$J$502,StagingTables!$B16)","v":0},{"$f":"COUNTIFS('WHS Event Log'!$E$3:$E$502,K$2,'WHS Event Log'!$J$3:$J$502,StagingTables!$B16)","v":0},{"$f":"COUNTIFS('WHS Event Log'!$E$3:$E$502,L$2,'WHS Event Log'!$J$3:$J$502,StagingTables!$B16)","v":0},{"$f":"COUNTIFS('WHS Event Log'!$E$3:$E$502,M$2,'WHS Event Log'!$J$3:$J$502,StagingTables!$B16)","v":0},{"$f":"COUNTIFS('WHS Event Log'!$E$3:$E$502,N$2,'WHS Event Log'!$J$3:$J$502,StagingTables!$B16)","v":0},0,null,{"$f":"COUNTIFS('WHS Event Log'!$J$3:$J$502,$B16,'WHS Event Log'!$S$3:$S$502,Lists!$E$3)","v":0}]
[null,"Second Party Physical",{"$f":"COUNTIFS('WHS Event Log'!$E$3:$E$502,C$2,'WHS Event Log'!$J$3:$J$502,StagingTables!$B17)","v":0},{"$f":"COUNTIFS('WHS Event Log'!$E$3:$E$502,D$2,'WHS Event Log'!$J$3:$J$502,StagingTables!$B17)","v":0},{"$f":"COUNTIFS('WHS Event Log'!$E$3:$E$502,E$2,'WHS Event Log'!$J$3:$J$502,StagingTables!$B17)","v":0},{"$f":"COUNTIFS('WHS Event Log'!$E$3:$E$502,F$2,'WHS Event Log'!$J$3:$J$502,StagingTables!$B17)","v":0},{"$f":"COUNTIFS('WHS Event Log'!$E$3:$E$502,G$2,'WHS Event Log'!$J$3:$J$502,StagingTables!$B17)","v":0},{"$f":"COUNTIFS('WHS Event Log'!$E$3:$E$502,H$2,'WHS Event Log'!$J$3:$J$502,StagingTables!$B17)","v":0},{"$f":"COUNTIFS('WHS Event Log'!$E$3:$E$502,I$2,'WHS Event Log'!$J$3:$J$502,StagingTables!$B17)","v":0},{"$f":"COUNTIFS('WHS Event Log'!$E$3:$E$502,J$2,'WHS Event Log'!$J$3:$J$502,StagingTables!$B17)","v":0},{"$f":"COUNTIFS('WHS Event Log'!$E$3:$E$502,K$2,'WHS Event Log'!$J$3:$J$502,StagingTables!$B17)","v":0},{"$f":"COUNTIFS('WHS Event Log'!$E$3:$E$502,L$2,'WHS Event Log'!$J$3:$J$502,StagingTables!$B17)","v":0},{"$f":"COUNTIFS('WHS Event Log'!$E$3:$E$502,M$2,'WHS Event Log'!$J$3:$J$502,StagingTables!$B17)","v":0},{"$f":"COUNTIFS('WHS Event Log'!$E$3:$E$502,N$2,'WHS Event Log'!$J$3:$J$502,StagingTables!$B17)","v":0},0,{"$f":"SUM(O17:O18)","v":0},{"$f":"COUNTIFS('WHS Event Log'!$J$3:$J$502,$B17,'WHS Event Log'!$S$3:$S$502,Lists!$E$3)","v":0}]
[null,"Second Party Other",{"$f":"COUNTIFS('WHS Event Log'!$E$3:$E$502,C$2,'WHS Event Log'!$J$3:$J$502,StagingTables!$B18)","v":0},{"$f":"COUNTIFS('WHS Event Log'!$E$3:$E$502,D$2,'WHS Event Log'!$J$3:$J$502,StagingTables!$B18)","v":0},{"$f":"COUNTIFS('WHS Event Log'!$E$3:$E$502,E$2,'WHS Event Log'!$J$3:$J$502,StagingTables!$B18)","v":0},{"$f":"COUNTIFS('WHS Event Log'!$E$3:$E$502,F$2,'WHS Event Log'!$J$3:$J$502,StagingTables!$B18)","v":0},{"$f":"COUNTIFS('WHS Event Log'!$E$3:$E$502,G$2,'WHS Event Log'!$J$3:$J$502,StagingTables!$B18)","v":0},{"$f":"COUNTIFS('WHS Event Log'!$E$3:$E$502,H$2,'WHS Event Log'!$J$3:$J$502,StagingTables!$B18)","v":0},{"$f":"COUNTIFS('WHS Event Log'!$E$3:$E$502,I$2,'WHS Event Log'!$J$3:$J$502,StagingTables!$B18)","v":0},{"$f":"COUNTIFS('WHS Event Log'!$E$3:$E$502,J$2,'WHS Event Log'!$J$3:$J$502,StagingTables!$B18)","v":0},{"$f":"COUNTIFS('WHS Event Log'!$E$3:$E$502,K$2,'WHS Event Log'!$J$3:$J$502,StagingTables!$B18)","v":0},{"$f":"COUNTIFS('WHS Event Log'!$E$3:$E$502,L$2,'WHS Event Log'!$J$3:$J$502,StagingTables!$B18)","v":0},{"$f":"COUNTIFS('WHS Event Log'!$E$3:$E$502,M$2,'WHS Event Log'!$J$3:$J$502,StagingTables!$B18)","v":0},{"$f":"COUNTIFS('WHS Event Log'!$E$3:$E$502,N$2,'WHS Event Log'!$J$3:$J$502,StagingTables!$B18)","v":0},0,null,{"$f":"COUNTIFS('WHS Event Log'!$J$3:$J$502,$B18,'WHS Event Log'!$S$3:$S$502,Lists!$E$3)","v":0}]
[null,"Plant Design",{"$f":"COUNTIFS('WHS Event Log'!$E$3:$E$502,C$2,'WHS Event Log'!$J$3:$J$502,StagingTables!$B19)","v":0},{"$f":"COUNTIFS('WHS Event Log'!$E$3:$E$502,D$2,'WHS Event Log'!$J$3:$J$502,StagingTables!$B19)","v":0},{"$f":"COUNTIFS('WHS Event Log'!$E$3:$E$502,E$2,'WHS Event Log'!$J$3:$J$502,StagingTables!$B19)","v":0},{"$f":"COUNTIFS('WHS Event Log'!$E$3:$E$502,F$2,'WHS Event Log'!$J$3:$J$502,StagingTables!$B19)","v":0},{"$f":"COUNTIFS('WHS Event Log'!$E$3:$E$502,G$2,'WHS Event Log'!$J$3:$J$502,StagingTables!$B19)","v":0},{"$f":"COUNTIFS('WHS Event Log'!$E$3:$E$502,H$2,'WHS Event Log'!$J$3:$J$502,StagingTables!$B19)","v":0},{"$f":"COUNTIFS('WHS Event Log'!$E$3:$E$502,I$2,'WHS Event Log'!$J$3:$J$502,StagingTables!$B19)","v":0},{"$f":"COUNTIFS('WHS Event Log'!$E$3:$E$502,J$2,'WHS Event Log'!$J$3:$J$502,StagingTables!$B19)","v":0},{"$f":"COUNTIFS('WHS Event Log'!$E$3:$E$502,K$2,'WHS Event Log'!$J$3:$J$502,StagingTables!$B19)","v":0},{"$f":"COUNTIFS('WHS Event Log'!$E$3:$E$502,L$2,'WHS Event Log'!$J$3:$J$502,StagingTables!$B19)","v":0},{"$f":"COUNTIFS('WHS Event Log'!$E$3:$E$502,M$2,'WHS Event Log'!$J$3:$J$502,StagingTables!$B19)","v":0},{"$f":"COUNTIFS('WHS Event Log'!$E$3:$E$502,N$2,'WHS Event Log'!$J$3:$J$502,StagingTables!$B19)","v":0},{"$f":"SUM(C19:N19)","v":0},{"$f":"SUM(O19:O22)","v":0},{"$f":"COUNTIFS('WHS Event Log'!$J$3:$J$502,$B19,'WHS Event Log'!$S$3:$S$502,Lists!$E$3)","v":0}]
[null,"Plant/Equipment Failure",{"$f":"COUNTIFS('WHS Event Log'!$E$3:$E$502,C$2,'WHS Event Log'!$J$3:$J$502,StagingTables!$B20)","v":0},{"$f":"COUNTIFS('WHS Event Log'!$E$3:$E$502,D$2,'WHS Event Log'!$J$3:$J$502,StagingTables!$B20)","v":0},{"$f":"COUNTIFS('WHS Event Log'!$E$3:$E$502,E$2,'WHS Event Log'!$J$3:$J$502,StagingTables!$B20)","v":0},{"$f":"COUNTIFS('WHS Event Log'!$E$3:$E$502,F$2,'WHS Event Log'!$J$3:$J$502,StagingTables!$B20)","v":0},{"$f":"COUNTIFS('WHS Event Log'!$E$3:$E$502,G$2,'WHS Event Log'!$J$3:$J$502,StagingTables!$B20)","v":0},{"$f":"COUNTIFS('WHS Event Log'!$E$3:$E$502,H$2,'WHS Event Log'!$J$3:$J$502,StagingTables!$B20)","v":0},{"$f":"COUNTIFS('WHS Event Log'!$E$3:$E$502,I$2,'WHS Event Log'!$J$3:$J$502,StagingTables!$B20)","v":0},{"$f":"COUNTIFS('WHS Event Log'!$E$3:$E$502,J$2,'WHS Event Log'!$J$3:$J$502,StagingTables!$B20)","v":0},{"$f":"COUNTIFS('WHS Event Log'!$E$3:$E$502,K$2,'WHS Event Log'!$J$3:$J$502,StagingTables!$B20)","v":0},{"$f":"COUNTIFS('WHS Event Log'!$E$3:$E$502,L$2,'WHS Event Log'!$J$3:$J$502,StagingTables!$B20)","v":0},{"$f":"COUNTIFS('WHS Event Log'!$E$3:$E$502,M$2,'WHS Event Log'!$J$3:$J$502,StagingTables!$B20)","v":0},{"$f":"COUNTIFS('WHS Event Log'!$E$3:$E$502,N$2,'WHS Event Log'!$J$3:$J$502,StagingTables!$B20)","v":0},{"$f":"SUM(C20:N20)","v":0},null,{"$f":"COUNTIFS('WHS Event Log'!$J$3:$J$502,$B20,'WHS Event Log'!$S$3:$S$502,Lists!$E$3)","v":0}]
[null,"Plant/Equipment Use",{"$f":"COUNTIFS('WHS Event Log'!$E$3:$E$502,C$2,'WHS Event Log'!$J$3:$J$502,StagingTables!$B21)","v":0},{"$f":"COUNTIFS('WHS Event Log'!$E$3:$E$502,D$2,'WHS Event Log'!$J$3:$J$502,StagingTables!$B21)","v":0},{"$f":"COUNTIFS('WHS Event Log'!$E$3:$E$502,E$2,'WHS Event Log'!$J$3:$J$502,StagingTables!$B21)","v":0},{"$f":"COUNTIFS('WHS Event Log'!$E$3:$E$502,F$2,'WHS Event Log'!$J$3:$J$502,StagingTables!$B21)","v":0},{"$f":"COUNTIFS('WHS Event Log'!$E$3:$E$502,G$2,'WHS Event Log'!$J$3:$J$502,StagingTables!$B21)","v":0},{"$f":"COUNTIFS('WHS Event Log'!$E$3:$E$502,H$2,'WHS Event Log'!$J$3:$J$502,StagingTables!$B21)","v":0},{"$f":"COUNTIFS('WHS Event Log'!$E$3:$E$502,I$2,'WHS Event Log'!$J$3:$J$502,StagingTables!$B21)","v":0},{"$f":"COUNTIFS('WHS Event Log'!$E$3:$E$502,J$2,'WHS Event Log'!$J$3:$J$502,StagingTables!$B21)","v":0},{"$f":"COUNTIFS('WHS Event Log'!$E$3:$E$502,K$2,'WHS Event Log'!$J$3:$J$502,StagingTables!$B21)","v":0},{"$f":"COUNTIFS('WHS Event Log'!$E$3:$E$502,L$2,'WHS Event Log'!$J$3:$J$502,StagingTables!$B21)","v":0},{"$f":"COUNTIFS('WHS Event Log'!$E$3:$E$502,M$2,'WHS Event Log'!$J$3:$J$502,StagingTables!$B21)","v":0},{"$f":"COUNTIFS('WHS Event Log'!$E$3:$E$502,N$2,'WHS Event Log'!$J$3:$J$502,StagingTables!$B21)","v":0},{"$f":"SUM(C21:N21)","v":0},null,{"$f":"COUNTIFS('WHS Event Log'!$J$3:$J$502,$B21,'WHS Event Log'!$S$3:$S$502,Lists!$E$3)","v":0}]
[null,"Plant Inspection",{"$f":"COUNTIFS('WHS Event Log'!$E$3:$E$502,C$2,'WHS Event Log'!$J$3:$J$502,StagingTables!$B22)","v":0},{"$f":"COUNTIFS('WHS Event Log'!$E$3:$E$502,D$2,'WHS Event Log'!$J$3:$J$502,StagingTables!$B22)","v":0},{"$f":"COUNTIFS('WHS Event Log'!$E$3:$E$502,E$2,'WHS Event Log'!$J$3:$J$502,StagingTables!$B22)","v":0},{"$f":"COUNTIFS('WHS Event Log'!$E$3:$E$502,F$2,'WHS Event Log'!$J$3:$J$502,StagingTables!$B22)","v":0},{"$f":"COUNTIFS('WHS Event Log'!$E$3:$E$502,G$2,'WHS Event Log'!$J$3:$J$502,StagingTables!$B22)","v":0},{"$f":"COUNTIFS('WHS Event Log'!$E$3:$E$502,H$2,'WHS Event Log'!$J$3:$J$502,StagingTables!$B22)","v":0},{"$f":"COUNTIFS('WHS Event Log'!$E$3:$E$502,I$2,'WHS Event Log'!$J$3:$J$502,StagingTables!$B22)","v":0},{"$f":"COUNTIFS('WHS Event Log'!$E$3:$E$502,J$2,'WHS Event Log'!$J$3:$J$502,StagingTables!$B22)","v":0},{"$f":"COUNTIFS('WHS Event Log'!$E$3:$E$502,K$2,'WHS Event Log'!$J$3:$J$502,StagingTables!$B22)","v":0},{"$f":"COUNTIFS('WHS Event Log'!$E$3:$E$502,L$2,'WHS Event Log'!$J$3:$J$502,StagingTables!$B22)","v":0},{"$f":"COUNTIFS('WHS Event Log'!$E$3:$E$502,M$2,'WHS Event Log'!$J$3:$J$502,StagingTables!$B22)","v":0},{"$f":"COUNTIFS('WHS Event Log'!$E$3:$E$502,N$2,'WHS Event Log'!$J$3:$J$502,StagingTables!$B22)","v":0},{"$f":"SUM(C22:N22)","v":0},null,{"$f":"COUNTIFS('WHS Event Log'!$J$3:$J$502,$B22,'WHS Event Log'!$S$3:$S$502,Lists!$E$3)","v":0}]
[null,"Chemical",{"$f":"COUNTIFS('WHS Event Log'!$E$3:$E$502,C$2,'WHS Event Log'!$J$3:$J$502,StagingTables!$B23)","v":0},{"$f":"COUNTIFS('WHS Event Log'!$E$3:$E$502,D$2,'WHS Event Log'!$J$3:$J$502,StagingTables!$B23)","v":0},{"$f":"COUNTIFS('WHS Event Log'!$E$3:$E$502,E$2,'WHS Event Log'!$J$3:$J$502,StagingTables!$B23)","v":0},{"$f":"COUNTIFS('WHS Event Log'!$E$3:$E$502,F$2,'WHS Event Log'!$J$3:$J$502,StagingTables!$B23)","v":0},{"$f":"COUNTIFS('WHS Event Log'!$E$3:$E$502,G$2,'WHS Event Log'!$J$3:$J$502,StagingTables!$B23)","v":0},{"$f":"COUNTIFS('WHS Event Log'!$E$3:$E$502,H$2,'WHS Event Log'!$J$3:$J$502,StagingTables!$B23)","v":0},{"$f":"COUNTIFS('WHS Event Log'!$E$3:$E$502,I$2,'WHS Event Log'!$J$3:$J$502,StagingTables!$B23)","v":0},{"$f":"COUNTIFS('WHS Event Log'!$E$3:$E$502,J$2,'WHS Event Log'!$J$3:$J$502,StagingTables!$B23)","v":0},{"$f":"COUNTIFS('WHS Event Log'!$E$3:$E$502,K$2,'WHS Event Log'!$J$3:$J$502,StagingTables!$B23)","v":0},{"$f":"COUNTIFS('WHS Event Log'!$E$3:$E$502,L$2,'WHS Event Log'!$J$3:$J$502,StagingTables!$B23)","v":0},{"$f":"COUNTIFS('WHS Event Log'!$E$3:$E$502,M$2,'WHS Event Log'!$J$3:$J$502,StagingTables!$B23)","v":0},{"$f":"COUNTIFS('WHS Event Log'!$E$3:$E$502,N$2,'WHS Event Log'!$J$3:$J$502,StagingTables!$B23)","v":0},0,{"$f":"SUM(N23:O51)","v":0},{"$f":"COUNTIFS('WHS Event Log'!$J$3:$J$502,$B23,'WHS Event Log'!$S$3:$S$502,Lists!$E$3)","v":0}]
[null,"Electrical",{"$f":"COUNTIFS('WHS Event Log'!$E$3:$E$502,C$2,'WHS Event Log'!$J$3:$J$502,StagingTables!$B24)","v":0},{"$f":"COUNTIFS('WHS Event Log'!$E$3:$E$502,D$2,'WHS Event Log'!$J$3:$J$502,StagingTables!$B24)","v":0},{"$f":"COUNTIFS('WHS Event Log'!$E$3:$E$502,E$2,'WHS Event Log'!$J$3:$J$502,StagingTables!$B24)","v":0},{"$f":"COUNTIFS('WHS Event Log'!$E$3:$E$502,F$2,'WHS Event Log'!$J$3:$J$502,StagingTables!$B24)","v":0},{"$f":"COUNTIFS('WHS Event Log'!$E$3:$E$502,G$2,'WHS Event Log'!$J$3:$J$502,StagingTables!$B24)","v":0},{"$f":"COUNTIFS('WHS Event Log'!$E$3:$E$502,H$2,'WHS Event Log'!$J$3:$J$502,StagingTables!$B24)","v":0},{"$f":"COUNTIFS('WHS Event Log'!$E$3:$E$502,I$2,'WHS Event Log'!$J$3:$J$502,StagingTables!$B24)","v":0},{"$f":"COUNTIFS('WHS Event Log'!$E$3:$E$502,J$2,'WHS Event Log'!$J$3:$J$502,StagingTables!$B24)","v":0},{"$f":"COUNTIFS('WHS Event Log'!$E$3:$E$502,K$2,'WHS Event Log'!$J$3:$J$502,StagingTables!$B24)","v":0},{"$f":"COUNTIFS('WHS Event Log'!$E$3:$E$502,L$2,'WHS Event Log'!$J$3:$J$502,StagingTables!$B24)","v":0},{"$f":"COUNTIFS('WHS Event Log'!$E$3:$E$502,M$2,'WHS Event Log'!$J$3:$J$502,StagingTables!$B24)","v":0},{"$f":"COUNTIFS('WHS Event Log'!$E$3:$E$502,N$2,'WHS Event Log'!$J$3:$J$502,StagingTables!$B24)","v":0},0,null,{"$f":"COUNTIFS('WHS Event Log'!$J$3:$J$502,$B24,'WHS Event Log'!$S$3:$S$502,Lists!$E$3)","v":0}]
[null,"Environment",{"$f":"COUNTIFS('WHS Event Log'!$E$3:$E$502,C$2,'WHS Event Log'!$J$3:$J$502,StagingTables!$B25)","v":0},{"$f":"COUNTIFS('WHS Event Log'!$E$3:$E$502,D$2,'WHS Event Log'!$J$3:$J$502,StagingTables!$B25)","v":0},{"$f":"COUNTIFS('WHS Event Log'!$E$3:$E$502,E$2,'WHS Event Log'!$J$3:$J$502,StagingTables!$B25)","v":0},{"$f":"COUNTIFS('WHS Event Log'!$E$3:$E$502,F$2,'WHS Event Log'!$J$3:$J$502,StagingTables!$B25)","v":0},{"$f":"COUNTIFS('WHS Event Log'!$E$3:$E$502,G$2,'WHS Event Log'!$J$3:$J$502,StagingTables!$B25)","v":0},{"$f":"COUNTIFS('WHS Event Log'!$E$3:$E$502,H$2,'WHS Event Log'!$J$3:$J$502,StagingTables!$B25)","v":0},{"$f":"COUNTIFS('WHS Event Log'!$E$3:$E$502,I$2,'WHS Event Log'!$J$3:$J$502,StagingTables!$B25)","v":0},{"$f":"COUNTIFS('WHS Event Log'!$E$3:$E$502,J$2,'WHS Event Log'!$J$3:$J$502,StagingTables!$B25)","v":0},{"$f":"COUNTIFS('WHS Event Log'!$E$3:$E$502,K$2,'WHS Event Log'!$J$3:$J$502,StagingTables!$B25)","v":0},{"$f":"COUNTIFS('WHS Event Log'!$E$3:$E$502,L$2,'WHS Event Log'!$J$3:$J$502,StagingTables!$B25)","v":0},{"$f":"COUNTIFS('WHS Event Log'!$E$3:$E$502,M$2,'WHS Event Log'!$J$3:$J$502,StagingTables!$B25)","v":0},{"$f":"COUNTIFS('WHS Event Log'!$E$3:$E$502,N$2,'WHS Event Log'!$J$3:$J$502,StagingTables!$B25)","v":0},{"$f":"SUM(C25:N25)","v":0},null,{"$f":"COUNTIFS('WHS Event Log'!$J$3:$J$502,$B25,'WHS Event Log'!$S$3:$S$502,Lists!$E$3)","v":0}]
[null,"External - No Control",{"$f":"COUNTIFS('WHS Event Log'!$E$3:$E$502,C$2,'WHS Event Log'!$J$3:$J$502,StagingTables!$B26)","v":0},{"$f":"COUNTIFS('WHS Event Log'!$E$3:$E$502,D$2,'WHS Event Log'!$J$3:$J$502,StagingTables!$B26)","v":0},{"$f":"COUNTIFS('WHS Event Log'!$E$3:$E$502,E$2,'WHS Event Log'!$J$3:$J$502,StagingTables!$B26)","v":0},{"$f":"COUNTIFS('WHS Event Log'!$E$3:$E$502,F$2,'WHS Event Log'!$J$3:$J$502,StagingTables!$B26)","v":0},{"$f":"COUNTIFS('WHS Event Log'!$E$3:$E$502,G$2,'WHS Event Log'!$J$3:$J$502,StagingTables!$B26)","v":0},{"$f":"COUNTIFS('WHS Event Log'!$E$3:$E$502,H$2,'WHS Event Log'!$J$3:$J$502,StagingTables!$B26)","v":0},{"$f":"COUNTIFS('WHS Event Log'!$E$3:$E$502,I$2,'WHS Event Log'!$J$3:$J$502,StagingTables!$B26)","v":0},{"$f":"COUNTIFS('WHS Event Log'!$E$3:$E$502,J$2,'WHS Event Log'!$J$3:$J$502,StagingTables!$B26)","v":0},{"$f":"COUNTIFS('WHS Event Log'!$E$3:$E$502,K$2,'WHS Event Log'!$J$3:$J$502,StagingTables!$B26)","v":0},{"$f":"COUNTIFS('WHS Event Log'!$E$3:$E$502,L$2,'WHS Event Log'!$J$3:$J$502,StagingTables!$B26)","v":0},{"$f":"COUNTIFS('WHS Event Log'!$E$3:$E$502,M$2,'WHS Event Log'!$J$3:$J$502,StagingTables!$B26)","v":0},{"$f":"COUNTIFS('WHS Event Log'!$E$3:$E$502,N$2,'WHS Event Log'!$J$3:$J$502,StagingTables!$B26)","v":0},{"$f":"SUM(C26:N26)","v":0},null,{"$f":"COUNTIFS('WHS Event Log'!$J$3:$J$502,$B26,'WHS Event Log'!$S$3:$S$502,Lists!$E$3)","v":0}]
[null,"Failure to Report",{"$f":"COUNTIFS('WHS Event Log'!$E$3:$E$502,C$2,'WHS Event Log'!$J$3:$J$502,StagingTables!$B27)","v":0},{"$f":"COUNTIFS('WHS Event Log'!$E$3:$E$502,D$2,'WHS Event Log'!$J$3:$J$502,StagingTables!$B27)","v":0},{"$f":"COUNTIFS('WHS Event Log'!$E$3:$E$502,E$2,'WHS Event Log'!$J$3:$J$502,StagingTables!$B27)","v":0},{"$f":"COUNTIFS('WHS Event Log'!$E$3:$E$502,F$2,'WHS Event Log'!$J$3:$J$502,StagingTables!$B27)","v":0},{"$f":"COUNTIFS('WHS Event Log'!$E$3:$E$502,G$2,'WHS Event Log'!$J$3:$J$502,StagingTables!$B27)","v":0},{"$f":"COUNTIFS('WHS Event Log'!$E$3:$E$502,H$2,'WHS Event Log'!$J$3:$J$502,StagingTables!$B27)","v":0},{"$f":"COUNTIFS('WHS Event Log'!$E$3:$E$502,I$2,'WHS Event Log'!$J$3:$J$502,StagingTables!$B27)","v":0},{"$f":"COUNTIFS('WHS Event Log'!$E$3:$E$502,J$2,'WHS Event Log'!$J$3:$J$502,StagingTables!$B27)","v":0},{"$f":"COUNTIFS('WHS Event Log'!$E$3:$E$502,K$2,'WHS Event Log'!$J$3:$J$502,StagingTables!$B27)","v":0},{"$f":"COUNTIFS('WHS Event Log'!$E$3:$E$502,L$2,'WHS Event Log'!$J$3:$J$502,StagingTables!$B27)","v":0},{"$f":"COUNTIFS('WHS Event Log'!$E$3:$E$502,M$2,'WHS Event Log'!$J$3:$J$502,StagingTables!$B27)","v":0},{"$f":"COUNTIFS('WHS Event Log'!$E$3:$E$502,N$2,'WHS Event Log'!$J$3:$J$502,StagingTables!$B27)","v":0},{"$f":"SUM(C27:N27)","v":0},null,{"$f":"COUNTIFS('WHS Event Log'!$J$3:$J$502,$B27,'WHS Event Log'!$S$3:$S$502,Lists!$E$3)","v":0}]
[null,"Fall - Object",{"$f":"COUNTIFS('WHS Event Log'!$E$3:$E$502,C$2,'WHS Event Log'!$J$3:$J$502,StagingTables!$B28)","v":0},{"$f":"COUNTIFS('WHS Event Log'!$E$3:$E$502,D$2,'WHS Event Log'!$J$3:$J$502,StagingTables!$B28)","v":0},{"$f":"COUNTIFS('WHS Event Log'!$E$3:$E$502,E$2,'WHS Event Log'!$J$3:$J$502,StagingTables!$B28)","v":0},{"$f":"COUNTIFS('WHS Event Log'!$E$3:$E$502,F$2,'WHS Event Log'!$J$3:$J$502,StagingTables!$B28)","v":0},{"$f":"COUNTIFS('WHS Event Log'!$E$3:$E$502,G$2,'WHS Event Log'!$J$3:$J$502,StagingTables!$B28)","v":0},{"$f":"COUNTIFS('WHS Event Log'!$E$3:$E$502,H$2,'WHS Event Log'!$J$3:$J$502,StagingTables!$B28)","v":0},{"$f":"COUNTIFS('WHS Event Log'!$E$3:$E$502,I$2,'WHS Event Log'!$J$3:$J$502,StagingTables!$B28)","v":0},{"$f":"COUNTIFS('WHS Event Log'!$E$3:$E$502,J$2,'WHS Event Log'!$J$3:$J$502,StagingTables!$B28)","v":0},{"$f":"COUNTIFS('WHS Event Log'!$E$3:$E$502,K$2,'WHS Event Log'!$J$3:$J$502,StagingTables!$B28)","v":0},{"$f":"COUNTIFS('WHS Event Log'!$E$3:$E$502,L$2,'WHS Event Log'!$J$3:$J$502,StagingTables!$B28)","v":0},{"$f":"COUNTIFS('WHS Event Log'!$E$3:$E$502,M$2,'WHS Event Log'!$J$3:$J$502,StagingTables!$B28)","v":0},{"$f":"COUNTIFS('WHS Event Log'!$E$3:$E$502,N$2,'WHS Event Log'!$J$3:$J$502,StagingTables!$B28)","v":0},0,null,{"$f":"COUNTIFS('WHS Event Log'!$J$3:$J$502,$B28,'WHS Event Log'!$S$3:$S$502,Lists!$E$3)","v":0}]
[null,"Fall from Height - Person",{"$f":"COUNTIFS('WHS Event Log'!$E$3:$E$502,C$2,'WHS Event Log'!$J$3:$J$502,StagingTables!$B29)","v":0},{"$f":"COUNTIFS('WHS Event Log'!$E$3:$E$502,D$2,'WHS Event Log'!$J$3:$J$502,StagingTables!$B29)","v":0},{"$f":"COUNTIFS('WHS Event Log'!$E$3:$E$502,E$2,'WHS Event Log'!$J$3:$J$502,StagingTables!$B29)","v":0},{"$f":"COUNTIFS('WHS Event Log'!$E$3:$E$502,F$2,'WHS Event Log'!$J$3:$J$502,StagingTables!$B29)","v":0},{"$f":"COUNTIFS('WHS Event Log'!$E$3:$E$502,G$2,'WHS Event Log'!$J$3:$J$502,StagingTables!$B29)","v":0},{"$f":"COUNTIFS('WHS Event Log'!$E$3:$E$502,H$2,'WHS Event Log'!$J$3:$J$502,StagingTables!$B29)","v":0},{"$f":"COUNTIFS('WHS Event Log'!$E$3:$E$502,I$2,'WHS Event Log'!$J$3:$J$502,StagingTables!$B29)","v":0},{"$f":"COUNTIFS('WHS Event Log'!$E$3:$E$502,J$2,'WHS Event Log'!$J$3:$J$502,StagingTables!$B29)","v":0},{"$f":"COUNTIFS('WHS Event Log'!$E$3:$E$502,K$2,'WHS Event Log'!$J$3:$J$502,StagingTables!$B29)","v":0},{"$f":"COUNTIFS('WHS Event Log'!$E$3:$E$502,L$2,'WHS Event Log'!$J$3:$J$502,StagingTables!$B29)","v":0},{"$f":"COUNTIFS('WHS Event Log'!$E$3:$E$502,M$2,'WHS Event Log'!$J$3:$J$502,StagingTables!$B29)","v":0},{"$f":"COUNTIFS('WHS Event Log'!$E$3:$E$502,N$2,'WHS Event Log'!$J$3:$J$502,StagingTables!$B29)","v":0},0,null,{"$f":"COUNTIFS('WHS Event Log'!$J$3:$J$502,$B29,'WHS Event Log'!$S$3:$S$502,Lists!$E$3)","v":0}]
[null,"Fatigue-Human",{"$f":"COUNTIFS('WHS Event Log'!$E$3:$E$502,C$2,'WHS Event Log'!$J$3:$J$502,StagingTables!$B30)","v":0},{"$f":"COUNTIFS('WHS Event Log'!$E$3:$E$502,D$2,'WHS Event Log'!$J$3:$J$502,StagingTables!$B30)","v":0},{"$f":"COUNTIFS('WHS Event Log'!$E$3:$E$502,E$2,'WHS Event Log'!$J$3:$J$502,StagingTables!$B30)","v":0},{"$f":"COUNTIFS('WHS Event Log'!$E$3:$E$502,F$2,'WHS Event Log'!$J$3:$J$502,StagingTables!$B30)","v":0},{"$f":"COUNTIFS('WHS Event Log'!$E$3:$E$502,G$2,'WHS Event Log'!$J$3:$J$502,StagingTables!$B30)","v":0},{"$f":"COUNTIFS('WHS Event Log'!$E$3:$E$502,H$2,'WHS Event Log'!$J$3:$J$502,StagingTables!$B30)","v":0},{"$f":"COUNTIFS('WHS Event Log'!$E$3:$E$502,I$2,'WHS Event Log'!$J$3:$J$502,StagingTables!$B30)","v":0},{"$f":"COUNTIFS('WHS Event Log'!$E$3:$E$502,J$2,'WHS Event Log'!$J$3:$J$502,StagingTables!$B30)","v":0},{"$f":"COUNTIFS('WHS Event Log'!$E$3:$E$502,K$2,'WHS Event Log'!$J$3:$J$502,StagingTables!$B30)","v":0},{"$f":"COUNTIFS('WHS Event Log'!$E$3:$E$502,L$2,'WHS Event Log'!$J$3:$J$502,StagingTables!$B30)","v":0},{"$f":"COUNTIFS('WHS Event Log'!$E$3:$E$502,M$2,'WHS Event Log'!$J$3:$J$502,StagingTables!$B30)","v":0},{"$f":"COUNTIFS('WHS Event Log'!$E$3:$E$502,N$2,'WHS Event Log'!$J$3:$J$502,StagingTables!$B30)","v":0},0,null,{"$f":"COUNTIFS('WHS Event Log'!$J$3:$J$502,$B30,'WHS Event Log'!$S$3:$S$502,Lists!$E$3)","v":0}]
[null,"Furniture",{"$f":"COUNTIFS('WHS Event Log'!$E$3:$E$502,C$2,'WHS Event Log'!$J$3:$J$502,StagingTables!$B31)","v":0},{"$f":"COUNTIFS('WHS Event Log'!$E$3:$E$502,D$2,'WHS Event Log'!$J$3:$J$502,StagingTables!$B31)","v":0},{"$f":"COUNTIFS('WHS Event Log'!$E$3:$E$502,E$2,'WHS Event Log'!$J$3:$J$502,StagingTables!$B31)","v":0},{"$f":"COUNTIFS('WHS Event Log'!$E$3:$E$502,F$2,'WHS Event Log'!$J$3:$J$502,StagingTables!$B31)","v":0},{"$f":"COUNTIFS('WHS Event Log'!$E$3:$E$502,G$2,'WHS Event Log'!$J$3:$J$502,StagingTables!$B31)","v":0},{"$f":"COUNTIFS('WHS Event Log'!$E$3:$E$502,H$2,'WHS Event Log'!$J$3:$J$502,StagingTables!$B31)","v":0},{"$f":"COUNTIFS('WHS Event Log'!$E$3:$E$502,I$2,'WHS Event Log'!$J$3:$J$502,StagingTables!$B31)","v":0},{"$f":"COUNTIFS('WHS Event Log'!$E$3:$E$502,J$2,'WHS Event Log'!$J$3:$J$502,StagingTables!$B31)","v":0},{"$f":"COUNTIFS('WHS Event Log'!$E$3:$E$502,K$2,'WHS Event Log'!$J$3:$J$502,StagingTables!$B31)","v":0},{"$f":"COUNTIFS('WHS Event Log'!$E$3:$E$502,L$2,'WHS Event Log'!$J$3:$J$502,StagingTables!$B31)","v":0},{"$f":"COUNTIFS('WHS Event Log'!$E$3:$E$502,M$2,'WHS Event Log'!$J$3:$J$502,StagingTables!$B31)","v":0},{"$f":"COUNTIFS('WHS Event Log'!$E$3:$E$502,N$2,'WHS Event Log'!$J$3:$J$502,StagingTables!$B31)","v":0},0,null,{"$f":"COUNTIFS('WHS Event Log'!$J$3:$J$502,$B31,'WHS Event Log'!$S$3:$S$502,Lists!$E$3)","v":0}]
[null,"Hazardous Condition",{"$f":"COUNTIFS('WHS Event Log'!$E$3:$E$502,C$2,'WHS Event Log'!$J$3:$J$502,StagingTables!$B32)","v":0},{"$f":"COUNTIFS('WHS Event Log'!$E$3:$E$502,D$2,'WHS Event Log'!$J$3:$J$502,StagingTables!$B32)","v":0},{"$f":"COUNTIFS('WHS Event Log'!$E$3:$E$502,E$2,'WHS Event Log'!$J$3:$J$502,StagingTables!$B32)","v":0},{"$f":"COUNTIFS('WHS Event Log'!$E$3:$E$502,F$2,'WHS Event Log'!$J$3:$J$502,StagingTables!$B32)","v":0},{"$f":"COUNTIFS('WHS Event Log'!$E$3:$E$502,G$2,'WHS Event Log'!$J$3:$J$502,StagingTables!$B32)","v":0},{"$f":"COUNTIFS('WHS Event Log'!$E$3:$E$502,H$2,'WHS Event Log'!$J$3:$J$502,StagingTables!$B32)","v":0},{"$f":"COUNTIFS('WHS Event Log'!$E$3:$E$502,I$2,'WHS Event Log'!$J$3:$J$502,StagingTables!$B32)","v":0},{"$f":"COUNTIFS('WHS Event Log'!$E$3:$E$502,J$2,'WHS Event Log'!$J$3:$J$502,StagingTables!$B32)","v":0},{"$f":"COUNTIFS('WHS Event Log'!$E$3:$E$502,K$2,'WHS Event Log'!$J$3:$J$502,StagingTables!$B32)","v":0},{"$f":"COUNTIFS('WHS Event Log'!$E$3:$E$502,L$2,'WHS Event Log'!$J$3:$J$502,StagingTables!$B32)","v":0},{"$f":"COUNTIFS('WHS Event Log'!$E$3:$E$502,M$2,'WHS Event Log'!$J$3:$J$502,StagingTables!$B32)","v":0},{"$f":"COUNTIFS('WHS Event Log'!$E$3:$E$502,N$2,'WHS Event Log'!$J$3:$J$502,StagingTables!$B32)","v":0},0,null,{"$f":"COUNTIFS('WHS Event Log'!$J$3:$J$502,$B32,'WHS Event Log'!$S$3:$S$502,Lists!$E$3)","v":0}]
[null,"Hazardous Substance",{"$f":"COUNTIFS('WHS Event Log'!$E$3:$E$502,C$2,'WHS Event Log'!$J$3:$J$502,StagingTables!$B33)","v":0},{"$f":"COUNTIFS('WHS Event Log'!$E$3:$E$502,D$2,'WHS Event Log'!$J$3:$J$502,StagingTables!$B33)","v":0},{"$f":"COUNTIFS('WHS Event Log'!$E$3:$E$502,E$2,'WHS Event Log'!$J$3:$J$502,StagingTables!$B33)","v":0},{"$f":"COUNTIFS('WHS Event Log'!$E$3:$E$502,F$2,'WHS Event Log'!$J$3:$J$502,StagingTables!$B33)","v":0},{"$f":"COUNTIFS('WHS Event Log'!$E$3:$E$502,G$2,'WHS Event Log'!$J$3:$J$502,StagingTables!$B33)","v":0},{"$f":"COUNTIFS('WHS Event Log'!$E$3:$E$502,H$2,'WHS Event Log'!$J$3:$J$502,StagingTables!$B33)","v":0},{"$f":"COUNTIFS('WHS Event Log'!$E$3:$E$502,I$2,'WHS Event Log'!$J$3:$J$502,StagingTables!$B33)","v":0},{"$f":"COUNTIFS('WHS Event Log'!$E$3:$E$502,J$2,'WHS Event Log'!$J$3:$J$502,StagingTables!$B33)","v":0},{"$f":"COUNTIFS('WHS Event Log'!$E$3:$E$502,K$2,'WHS Event Log'!$J$3:$J$502,StagingTables!$B33)","v":0},{"$f":"COUNTIFS('WHS Event Log'!$E$3:$E$502,L$2,'WHS Event Log'!$J$3:$J$502,StagingTables!$B33)","v":0},{"$f":"COUNTIFS('WHS Event Log'!$E$3:$E$502,M$2,'WHS Event Log'!$J$3:$J$502,StagingTables!$B33)","v":0},{"$f":"COUNTIFS('WHS Event Log'!$E$3:$E$502,N$2,'WHS Event Log'!$J$3:$J$502,StagingTables!$B33)","v":0},0,null,{"$f":"COUNTIFS('WHS Event Log'!$J$3:$J$502,$B33,'WHS Event Log'!$S$3:$S$502,Lists!$E$3)","v":0}]
[null,"Hot Object",{"$f":"COUNTIFS('WHS Event Log'!$E$3:$E$502,C$2,'WHS Event Log'!$J$3:$J$502,StagingTables!$B34)","v":0},{"$f":"COUNTIFS('WHS Event Log'!$E$3:$E$502,D$2,'WHS Event Log'!$J$3:$J$502,StagingTables!$B34)","v":0},{"$f":"COUNTIFS('WHS Event Log'!$E$3:$E$502,E$2,'WHS Event Log'!$J$3:$J$502,StagingTables!$B34)","v":0},{"$f":"COUNTIFS('WHS Event Log'!$E$3:$E$502,F$2,'WHS Event Log'!$J$3:$J$502,StagingTables!$B34)","v":0},{"$f":"COUNTIFS('WHS Event Log'!$E$3:$E$502,G$2,'WHS Event Log'!$J$3:$J$502,StagingTables!$B34)","v":0},{"$f":"COUNTIFS('WHS Event Log'!$E$3:$E$502,H$2,'WHS Event Log'!$J$3:$J$502,StagingTables!$B34)","v":0},{"$f":"COUNTIFS('WHS Event Log'!$E$3:$E$502,I$2,'WHS Event Log'!$J$3:$J$502,StagingTables!$B34)","v":0},{"$f":"COUNTIFS('WHS Event Log'!$E$3:$E$502,J$2,'WHS Event Log'!$J$3:$J$502,StagingTables!$B34)","v":0},{"$f":"COUNTIFS('WHS Event Log'!$E$3:$E$502,K$2,'WHS Event Log'!$J$3:$J$502,StagingTables!$B34)","v":0},{"$f":"COUNTIFS('WHS Event Log'!$E$3:$E$502,L$2,'WHS Event Log'!$J$3:$J$502,StagingTables!$B34)","v":0},{"$f":"COUNTIFS('WHS Event Log'!$E$3:$E$502,M$2,'WHS Event Log'!$J$3:$J$502,StagingTables!$B34)","v":0},{"$f":"COUNTIFS('WHS Event Log'!$E$3:$E$502,N$2,'WHS Event Log'!$J$3:$J$502,StagingTables!$B34)","v":0},0,null,{"$f":"COUNTIFS('WHS Event Log'!$J$3:$J$502,$B34,'WHS Event Log'!$S$3:$S$502,Lists!$E$3)","v":0}]
[null,"Infrastructure",{"$f":"COUNTIFS('WHS Event Log'!$E$3:$E$502,C$2,'WHS Event Log'!$J$3:$J$502,StagingTables!$B35)","v":0},{"$f":"COUNTIFS('WHS Event Log'!$E$3:$E$502,D$2,'WHS Event Log'!$J$3:$J$502,StagingTables!$B35)","v":0},{"$f":"COUNTIFS('WHS Event Log'!$E$3:$E$502,E$2,'WHS Event Log'!$J$3:$J$502,StagingTables!$B35)","v":0},{"$f":"COUNTIFS('WHS Event Log'!$E$3:$E$502,F$2,'WHS Event Log'!$J$3:$J$502,StagingTables!$B35)","v":0},{"$f":"COUNTIFS('WHS Event Log'!$E$3:$E$502,G$2,'WHS Event Log'!$J$3:$J$502,StagingTables!$B35)","v":0},{"$f":"COUNTIFS('WHS Event Log'!$E$3:$E$502,H$2,'WHS Event Log'!$J$3:$J$502,StagingTables!$B35)","v":0},{"$f":"COUNTIFS('WHS Event Log'!$E$3:$E$502,I$2,'WHS Event Log'!$J$3:$J$502,StagingTables!$B35)","v":0},{"$f":"COUNTIFS('WHS Event Log'!$E$3:$E$502,J$2,'WHS Event Log'!$J$3:$J$502,StagingTables!$B35)","v":0},{"$f":"COUNTIFS('WHS Event Log'!$E$3:$E$502,K$2,'WHS Event Log'!$J$3:$J$502,StagingTables!$B35)","v":0},{"$f":"COUNTIFS('WHS Event Log'!$E$3:$E$502,L$2,'WHS Event Log'!$J$3:$J$502,StagingTables!$B35)","v":0},{"$f":"COUNTIFS('WHS Event Log'!$E$3:$E$502,M$2,'WHS Event Log'!$J$3:$J$502,StagingTables!$B35)","v":0},{"$f":"COUNTIFS('WHS Event Log'!$E$3:$E$502,N$2,'WHS Event Log'!$J$3:$J$502,StagingTables!$B35)","v":0},{"$f":"SUM(C35:N35)","v":0},null,{"$f":"COUNTIFS('WHS Event Log'!$J$3:$J$502,$B35,'WHS Event Log'!$S$3:$S$502,Lists!$E$3)","v":0}]
[null,"Maintenance Issue",{"$f":"COUNTIFS('WHS Event Log'!$E$3:$E$502,C$2,'WHS Event Log'!$J$3:$J$502,StagingTables!$B36)","v":0},{"$f":"COUNTIFS('WHS Event Log'!$E$3:$E$502,D$2,'WHS Event Log'!$J$3:$J$502,StagingTables!$B36)","v":0},{"$f":"COUNTIFS('WHS Event Log'!$E$3:$E$502,E$2,'WHS Event Log'!$J$3:$J$502,StagingTables!$B36)","v":0},{"$f":"COUNTIFS('WHS Event Log'!$E$3:$E$502,F$2,'WHS Event Log'!$J$3:$J$502,StagingTables!$B36)","v":0},{"$f":"COUNTIFS('WHS Event Log'!$E$3:$E$502,G$2,'WHS Event Log'!$J$3:$J$502,StagingTables!$B36)","v":0},{"$f":"COUNTIFS('WHS Event Log'!$E$3:$E$502,H$2,'WHS Event Log'!$J$3:$J$502,StagingTables!$B36)","v":0},{"$f":"COUNTIFS('WHS Event Log'!$E$3:$E$502,I$2,'WHS Event Log'!$J$3:$J$502,StagingTables!$B36)","v":0},{"$f":"COUNTIFS('WHS Event Log'!$E$3:$E$502,J$2,'WHS Event Log'!$J$3:$J$502,StagingTables!$B36)","v":0},{"$f":"COUNTIFS('WHS Event Log'!$E$3:$E$502,K$2,'WHS Event Log'!$J$3:$J$502,StagingTables!$B36)","v":0},{"$f":"COUNTIFS('WHS Event Log'!$E$3:$E$502,L$2,'WHS Event Log'!$J$3:$J$502,StagingTables!$B36)","v":0},{"$f":"COUNTIFS('WHS Event Log'!$E$3:$E$502,M$2,'WHS Event Log'!$J$3:$J$502,StagingTables!$B36)","v":0},{"$f":"COUNTIFS('WHS Event Log'!$E$3:$E$502,N$2,'WHS Event Log'!$J$3:$J$502,StagingTables!$B36)","v":0},{"$f":"SUM(C36:N36)","v":0},null,{"$f":"COUNTIFS('WHS Event Log'!$J$3:$J$502,$B36,'WHS Event Log'!$S$3:$S$502,Lists!$E$3)","v":0}]
[null,"Medical",{"$f":"COUNTIFS('WHS Event Log'!$E$3:$E$502,C$2,'WHS Event Log'!$J$3:$J$502,StagingTables!$B37)","v":0},{"$f":"COUNTIFS('WHS Event Log'!$E$3:$E$502,D$2,'WHS Event Log'!$J$3:$J$502,StagingTables!$B37)","v":0},{"$f":"COUNTIFS('WHS Event Log'!$E$3:$E$502,E$2,'WHS Event Log'!$J$3:$J$502,StagingTables!$B37)","v":0},{"$f":"COUNTIFS('WHS Event Log'!$E$3:$E$502,F$2,'WHS Event Log'!$J$3:$J$502,StagingTables!$B37)","v":0},{"$f":"COUNTIFS('WHS Event Log'!$E$3:$E$502,G$2,'WHS Event Log'!$J$3:$J$502,StagingTables!$B37)","v":0},{"$f":"COUNTIFS('WHS Event Log'!$E$3:$E$502,H$2,'WHS Event Log'!$J$3:$J$502,StagingTables!$B37)","v":0},{"$f":"COUNTIFS('WHS Event Log'!$E$3:$E$502,I$2,'WHS Event Log'!$J$3:$J$502,StagingTables!$B37)","v":0},{"$f":"COUNTIFS('WHS Event Log'!$E$3:$E$502,J$2,'WHS Event Log'!$J$3:$J$502,StagingTables!$B37)","v":0},{"$f":"COUNTIFS('WHS Event Log'!$E$3:$E$502,K$2,'WHS Event Log'!$J$3:$J$502,StagingTables!$B37)","v":0},{"$f":"COUNTIFS('WHS Event Log'!$E$3:$E$502,L$2,'WHS Event Log'!$J$3:$J$502,StagingTables!$B37)","v":0},{"$f":"COUNTIFS('WHS Event Log'!$E$3:$E$502,M$2,'WHS Event Log'!$J$3:$J$502,StagingTables!$B37)","v":0},{"$f":"COUNTIFS('WHS Event Log'!$E$3:$E$502,N$2,'WHS Event Log'!$J$3:$J$502,StagingTables!$B37)","v":0},0,null,{"$f":"COUNTIFS('WHS Event Log'!$J$3:$J$502,$B37,'WHS Event Log'!$S$3:$S$502,Lists!$E$3)","v":0}]
[null,"Negligence",{"$f":"COUNTIFS('WHS Event Log'!$E$3:$E$502,C$2,'WHS Event Log'!$J$3:$J$502,StagingTables!$B38)","v":0},{"$f":"COUNTIFS('WHS Event Log'!$E$3:$E$502,D$2,'WHS Event Log'!$J$3:$J$502,StagingTables!$B38)","v":0},{"$f":"COUNTIFS('WHS Event Log'!$E$3:$E$502,E$2,'WHS Event Log'!$J$3:$J$502,StagingTables!$B38)","v":0},{"$f":"COUNTIFS('WHS Event Log'!$E$3:$E$502,F$2,'WHS Event Log'!$J$3:$J$502,StagingTables!$B38)","v":0},{"$f":"COUNTIFS('WHS Event Log'!$E$3:$E$502,G$2,'WHS Event Log'!$J$3:$J$502,StagingTables!$B38)","v":0},{"$f":"COUNTIFS('WHS Event Log'!$E$3:$E$502,H$2,'WHS Event Log'!$J$3:$J$502,StagingTables!$B38)","v":0},{"$f":"COUNTIFS('WHS Event Log'!$E$3:$E$502,I$2,'WHS Event Log'!$J$3:$J$502,StagingTables!$B38)","v":0},{"$f":"COUNTIFS('WHS Event Log'!$E$3:$E$502,J$2,'WHS Event Log'!$J$3:$J$502,StagingTables!$B38)","v":0},{"$f":"COUNTIFS('WHS Event Log'!$E$3:$E$502,K$2,'WHS Event Log'!$J$3:$J$502,StagingTables!$B38)","v":0},{"$f":"COUNTIFS('WHS Event Log'!$E$3:$E$502,L$2,'WHS Event Log'!$J$3:$J$502,StagingTables!$B38)","v":0},{"$f":"COUNTIFS('WHS Event Log'!$E$3:$E$502,M$2,'WHS Event Log'!$J$3:$J$502,StagingTables!$B38)","v":0},{"$f":"COUNTIFS('WHS Event Log'!$E$3:$E$502,N$2,'WHS Event Log'!$J$3:$J$502,StagingTables!$B38)","v":0},{"$f":"SUM(C38:N38)","v":0},null,{"$f":"COUNTIFS('WHS Event Log'!$J$3:$J$502,$B38,'WHS Event Log'!$S$3:$S$502,Lists!$E$3)","v":0}]
[null,"Operator Error",{"$f":"COUNTIFS('WHS Event Log'!$E$3:$E$502,C$2,'WHS Event Log'!$J$3:$J$502,StagingTables!$B39)","v":0},{"$f":"COUNTIFS('WHS Event Log'!$E$3:$E$502,D$2,'WHS Event Log'!$J$3:$J$502,StagingTables!$B39)","v":0},{"$f":"COUNTIFS('WHS Event Log'!$E$3:$E$502,E$2,'WHS Event Log'!$J$3:$J$502,StagingTables!$B39)","v":0},{"$f":"COUNTIFS('WHS Event Log'!$E$3:$E$502,F$2,'WHS Event Log'!$J$3:$J$502,StagingTables!$B39)","v":0},{"$f":"COUNTIFS('WHS Event Log'!$E$3:$E$502,G$2,'WHS Event Log'!$J$3:$J$502,StagingTables!$B39)","v":0},{"$f":"COUNTIFS('WHS Event Log'!$E$3:$E$502,H$2,'WHS Event Log'!$J$3:$J$502,StagingTables!$B39)","v":0},{"$f":"COUNTIFS('WHS Event Log'!$E$3:$E$502,I$2,'WHS Event Log'!$J$3:$J$502,StagingTables!$B39)","v":0},{"$f":"COUNTIFS('WHS Event Log'!$E$3:$E$502,J$2,'WHS Event Log'!$J$3:$J$502,StagingTables!$B39)","v":0},{"$f":"COUNTIFS('WHS Event Log'!$E$3:$E$502,K$2,'WHS Event Log'!$J$3:$J$502,StagingTables!$B39)","v":0},{"$f":"COUNTIFS('WHS Event Log'!$E$3:$E$502,L$2,'WHS Event Log'!$J$3:$J$502,StagingTables!$B39)","v":0},{"$f":"COUNTIFS('WHS Event Log'!$E$3:$E$502,M$2,'WHS Event Log'!$J$3:$J$502,StagingTables!$B39)","v":0},{"$f":"COUNTIFS('WHS Event Log'!$E$3:$E$502,N$2,'WHS Event Log'!$J$3:$J$502,StagingTables!$B39)","v":0},0,null,{"$f":"COUNTIFS('WHS Event Log'!$J$3:$J$502,$B39,'WHS Event Log'!$S$3:$S$502,Lists!$E$3)","v":0}]
[null,"Pest/Animal",{"$f":"COUNTIFS('WHS Event Log'!$E$3:$E$502,C$2,'WHS Event Log'!$J$3:$J$502,StagingTables!$B40)","v":0},{"$f":"COUNTIFS('WHS Event Log'!$E$3:$E$502,D$2,'WHS Event Log'!$J$3:$J$502,StagingTables!$B40)","v":0},{"$f":"COUNTIFS('WHS Event Log'!$E$3:$E$502,E$2,'WHS Event Log'!$J$3:$J$502,StagingTables!$B40)","v":0},{"$f":"COUNTIFS('WHS Event Log'!$E$3:$E$502,F$2,'WHS Event Log'!$J$3:$J$502,StagingTables!$B40)","v":0},{"$f":"COUNTIFS('WHS Event Log'!$E$3:$E$502,G$2,'WHS Event Log'!$J$3:$J$502,StagingTables!$B40)","v":0},{"$f":"COUNTIFS('WHS Event Log'!$E$3:$E$502,H$2,'WHS Event Log'!$J$3:$J$502,StagingTables!$B40)","v":0},{"$f":"COUNTIFS('WHS Event Log'!$E$3:$E$502,I$2,'WHS Event Log'!$J$3:$J$502,StagingTables!$B40)","v":0},{"$f":"COUNTIFS('WHS Event Log'!$E$3:$E$502,J$2,'WHS Event Log'!$J$3:$J$502,StagingTables!$B40)","v":0},{"$f":"COUNTIFS('WHS Event Log'!$E$3:$E$502,K$2,'WHS Event Log'!$J$3:$J$502,StagingTables!$B40)","v":0},{"$f":"COUNTIFS('WHS Event Log'!$E$3:$E$502,L$2,'WHS Event Log'!$J$3:$J$502,StagingTables!$B40)","v":0},{"$f":"COUNTIFS('WHS Event Log'!$E$3:$E$502,M$2,'WHS Event Log'!$J$3:$J$502,StagingTables!$B40)","v":0},{"$f":"COUNTIFS('WHS Event Log'!$E$3:$E$502,N$2,'WHS Event Log'!$J$3:$J$502,StagingTables!$B40)","v":0},0,null,{"$f":"COUNTIFS('WHS Event Log'!$J$3:$J$502,$B40,'WHS Event Log'!$S$3:$S$502,Lists!$E$3)","v":0}]
[null,"Process Design",{"$f":"COUNTIFS('WHS Event Log'!$E$3:$E$502,C$2,'WHS Event Log'!$J$3:$J$502,StagingTables!$B41)","v":0},{"$f":"COUNTIFS('WHS Event Log'!$E$3:$E$502,D$2,'WHS Event Log'!$J$3:$J$502,StagingTables!$B41)","v":0},{"$f":"COUNTIFS('WHS Event Log'!$E$3:$E$502,E$2,'WHS Event Log'!$J$3:$J$502,StagingTables!$B41)","v":0},{"$f":"COUNTIFS('WHS Event Log'!$E$3:$E$502,F$2,'WHS Event Log'!$J$3:$J$502,StagingTables!$B41)","v":0},{"$f":"COUNTIFS('WHS Event Log'!$E$3:$E$502,G$2,'WHS Event Log'!$J$3:$J$502,StagingTables!$B41)","v":0},{"$f":"COUNTIFS('WHS Event Log'!$E$3:$E$502,H$2,'WHS Event Log'!$J$3:$J$502,StagingTables!$B41)","v":0},{"$f":"COUNTIFS('WHS Event Log'!$E$3:$E$502,I$2,'WHS Event Log'!$J$3:$J$502,StagingTables!$B41)","v":0},{"$f":"COUNTIFS('WHS Event Log'!$E$3:$E$502,J$2,'WHS Event Log'!$J$3:$J$502,StagingTables!$B41)","v":0},{"$f":"COUNTIFS('WHS Event Log'!$E$3:$E$502,K$2,'WHS Event Log'!$J$3:$J$502,StagingTables!$B41)","v":0},{"$f":"COUNTIFS('WHS Event Log'!$E$3:$E$502,L$2,'WHS Event Log'!$J$3:$J$502,StagingTables!$B41)","v":0},{"$f":"COUNTIFS('WHS Event Log'!$E$3:$E$502,M$2,'WHS Event Log'!$J$3:$J$502,StagingTables!$B41)","v":0},{"$f":"COUNTIFS('WHS Event Log'!$E$3:$E$502,N$2,'WHS Event Log'!$J$3:$J$502,StagingTables!$B41)","v":0},0,null,{"$f":"COUNTIFS('WHS Event Log'!$J$3:$J$502,$B41,'WHS Event Log'!$S$3:$S$502,Lists!$E$3)","v":0}]
[null,"Sharps",{"$f":"COUNTIFS('WHS Event Log'!$E$3:$E$502,C$2,'WHS Event Log'!$J$3:$J$502,StagingTables!$B42)","v":0},{"$f":"COUNTIFS('WHS Event Log'!$E$3:$E$502,D$2,'WHS Event Log'!$J$3:$J$502,StagingTables!$B42)","v":0},{"$f":"COUNTIFS('WHS Event Log'!$E$3:$E$502,E$2,'WHS Event Log'!$J$3:$J$502,StagingTables!$B42)","v":0},{"$f":"COUNTIFS('WHS Event Log'!$E$3:$E$502,F$2,'WHS Event Log'!$J$3:$J$502,StagingTables!$B42)","v":0},{"$f":"COUNTIFS('WHS Event Log'!$E$3:$E$502,G$2,'WHS Event Log'!$J$3:$J$502,StagingTables!$B42)","v":0},{"$f":"COUNTIFS('WHS Event Log'!$E$3:$E$502,H$2,'WHS Event Log'!$J$3:$J$502,StagingTables!$B42)","v":0},{"$f":"COUNTIFS('WHS Event Log'!$E$3:$E$502,I$2,'WHS Event Log'!$J$3:$J$502,StagingTables!$B42)","v":0},{"$f":"COUNTIFS('WHS Event Log'!$E$3:$E$502,J$2,'WHS Event Log'!$J$3:$J$502,StagingTables!$B42)","v":0},{"$f":"COUNTIFS('WHS Event Log'!$E$3:$E$502,K$2,'WHS Event Log'!$J$3:$J$502,StagingTables!$B42)","v":0},{"$f":"COUNTIFS('WHS Event Log'!$E$3:$E$502,L$2,'WHS Event Log'!$J$3:$J$502,StagingTables!$B42)","v":0},{"$f":"COUNTIFS('WHS Event Log'!$E$3:$E$502,M$2,'WHS Event Log'!$J$3:$J$502,StagingTables!$B42)","v":0},{"$f":"COUNTIFS('WHS Event Log'!$E$3:$E$502,N$2,'WHS Event Log'!$J$3:$J$502,StagingTables!$B42)","v":0},0,null,{"$f":"COUNTIFS('WHS Event Log'!$J$3:$J$502,$B42,'WHS Event Log'!$S$3:$S$502,Lists!$E$3)","v":0}]
[null,"Slip",{"$f":"COUNTIFS('WHS Event Log'!$E$3:$E$502,C$2,'WHS Event Log'!$J$3:$J$502,StagingTables!$B43)","v":0},{"$f":"COUNTIFS('WHS Event Log'!$E$3:$E$502,D$2,'WHS Event Log'!$J$3:$J$502,StagingTables!$B43)","v":0},{"$f":"COUNTIFS('WHS Event Log'!$E$3:$E$502,E$2,'WHS Event Log'!$J$3:$J$502,StagingTables!$B43)","v":0},{"$f":"COUNTIFS('WHS Event Log'!$E$3:$E$502,F$2,'WHS Event Log'!$J$3:$J$502,StagingTables!$B43)","v":0},{"$f":"COUNTIFS('WHS Event Log'!$E$3:$E$502,G$2,'WHS Event Log'!$J$3:$J$502,StagingTables!$B43)","v":0},{"$f":"COUNTIFS('WHS Event Log'!$E$3:$E$502,H$2,'WHS Event Log'!$J$3:$J$502,StagingTables!$B43)","v":0},{"$f":"COUNTIFS('WHS Event Log'!$E$3:$E$502,I$2,'WHS Event Log'!$J$3:$J$502,StagingTables!$B43)","v":0},{"$f":"COUNTIFS('WHS Event Log'!$E$3:$E$502,J$2,'WHS Event Log'!$J$3:$J$502,StagingTables!$B43)","v":0},{"$f":"COUNTIFS('WHS Event Log'!$E$3:$E$502,K$2,'WHS Event Log'!$J$3:$J$502,StagingTables!$B43)","v":0},{"$f":"COUNTIFS('WHS Event Log'!$E$3:$E$502,L$2,'WHS Event Log'!$J$3:$J$502,StagingTables!$B43)","v":0},{"$f":"COUNTIFS('WHS Event Log'!$E$3:$E$502,M$2,'WHS Event Log'!$J$3:$J$502,StagingTables!$B43)","v":0},{"$f":"COUNTIFS('WHS Event Log'!$E$3:$E$502,N$2,'WHS Event Log'!$J$3:$J$502,StagingTables!$B43)","v":0},0,null,{"$f":"COUNTIFS('WHS Event Log'!$J$3:$J$502,$B43,'WHS Event Log'!$S$3:$S$502,Lists!$E$3)","v":0}]
[null,"Strain",{"$f":"COUNTIFS('WHS Event Log'!$E$3:$E$502,C$2,'WHS Event Log'!$J$3:$J$502,StagingTables!$B44)","v":0},{"$f":"COUNTIFS('WHS Event Log'!$E$3:$E$502,D$2,'WHS Event Log'!$J$3:$J$502,StagingTables!$B44)","v":0},{"$f":"COUNTIFS('WHS Event Log'!$E$3:$E$502,E$2,'WHS Event Log'!$J$3:$J$502,StagingTables!$B44)","v":0},{"$f":"COUNTIFS('WHS Event Log'!$E$3:$E$502,F$2,'WHS Event Log'!$J$3:$J$502,StagingTables!$B44)","v":0},{"$f":"COUNTIFS('WHS Event Log'!$E$3:$E$502,G$2,'WHS Event Log'!$J$3:$J$502,StagingTables!$B44)","v":0},{"$f":"COUNTIFS('WHS Event Log'!$E$3:$E$502,H$2,'WHS Event Log'!$J$3:$J$502,StagingTables!$B44)","v":0},{"$f":"COUNTIFS('WHS Event Log'!$E$3:$E$502,I$2,'WHS Event Log'!$J$3:$J$502,StagingTables!$B44)","v":0},{"$f":"COUNTIFS('WHS Event Log'!$E$3:$E$502,J$2,'WHS Event Log'!$J$3:$J$502,StagingTables!$B44)","v":0},{"$f":"COUNTIFS('WHS Event Log'!$E$3:$E$502,K$2,'WHS Event Log'!$J$3:$J$502,StagingTables!$B44)","v":0},{"$f":"COUNTIFS('WHS Event Log'!$E$3:$E$502,L$2,'WHS Event Log'!$J$3:$J$502,StagingTables!$B44)","v":0},{"$f":"COUNTIFS('WHS Event Log'!$E$3:$E$502,M$2,'WHS Event Log'!$J$3:$J$502,StagingTables!$B44)","v":0},{"$f":"COUNTIFS('WHS Event Log'!$E$3:$E$502,N$2,'WHS Event Log'!$J$3:$J$502,StagingTables!$B44)","v":0},0,null,{"$f":"COUNTIFS('WHS Event Log'!$J$3:$J$502,$B44,'WHS Event Log'!$S$3:$S$502,Lists!$E$3)","v":0}]
[null,"Stress",{"$f":"COUNTIFS('WHS Event Log'!$E$3:$E$502,C$2,'WHS Event Log'!$J$3:$J$502,StagingTables!$B45)","v":0},{"$f":"COUNTIFS('WHS Event Log'!$E$3:$E$502,D$2,'WHS Event Log'!$J$3:$J$502,StagingTables!$B45)","v":0},{"$f":"COUNTIFS('WHS Event Log'!$E$3:$E$502,E$2,'WHS Event Log'!$J$3:$J$502,StagingTables!$B45)","v":0},{"$f":"COUNTIFS('WHS Event Log'!$E$3:$E$502,F$2,'WHS Event Log'!$J$3:$J$502,StagingTables!$B45)","v":0},{"$f":"COUNTIFS('WHS Event Log'!$E$3:$E$502,G$2,'WHS Event Log'!$J$3:$J$502,StagingTables!$B45)","v":0},{"$f":"COUNTIFS('WHS Event Log'!$E$3:$E$502,H$2,'WHS Event Log'!$J$3:$J$502,StagingTables!$B45)","v":0},{"$f":"COUNTIFS('WHS Event Log'!$E$3:$E$502,I$2,'WHS Event Log'!$J$3:$J$502,StagingTables!$B45)","v":0},{"$f":"COUNTIFS('WHS Event Log'!$E$3:$E$502,J$2,'WHS Event Log'!$J$3:$J$502,StagingTables!$B45)","v":0},{"$f":"COUNTIFS('WHS Event Log'!$E$3:$E$502,K$2,'WHS Event Log'!$J$3:$J$502,StagingTables!$B45)","v":0},{"$f":"COUNTIFS('WHS Event Log'!$E$3:$E$502,L$2,'WHS Event Log'!$J$3:$J$502,StagingTables!$B45)","v":0},{"$f":"COUNTIFS('WHS Event Log'!$E$3:$E$502,M$2,'WHS Event Log'!$J$3:$J$502,StagingTables!$B45)","v":0},{"$f":"COUNTIFS('WHS Event Log'!$E$3:$E$502,N$2,'WHS Event Log'!$J$3:$J$502,StagingTables!$B45)","v":0},0,null,{"$f":"COUNTIFS('WHS Event Log'!$J$3:$J$502,$B45,'WHS Event Log'!$S$3:$S$502,Lists!$E$3)","v":0}]
[null,"Supervision",{"$f":"COUNTIFS('WHS Event Log'!$E$3:$E$502,C$2,'WHS Event Log'!$J$3:$J$502,StagingTables!$B46)","v":0},{"$f":"COUNTIFS('WHS Event Log'!$E$3:$E$502,D$2,'WHS Event Log'!$J$3:$J$502,StagingTables!$B46)","v":0},{"$f":"COUNTIFS('WHS Event Log'!$E$3:$E$502,E$2,'WHS Event Log'!$J$3:$J$502,StagingTables!$B46)","v":0},{"$f":"COUNTIFS('WHS Event Log'!$E$3:$E$502,F$2,'WHS Event Log'!$J$3:$J$502,StagingTables!$B46)","v":0},{"$f":"COUNTIFS('WHS Event Log'!$E$3:$E$502,G$2,'WHS Event Log'!$J$3:$J$502,StagingTables!$B46)","v":0},{"$f":"COUNTIFS('WHS Event Log'!$E$3:$E$502,H$2,'WHS Event Log'!$J$3:$J$502,StagingTables!$B46)","v":0},{"$f":"COUNTIFS('WHS Event Log'!$E$3:$E$502,I$2,'WHS Event Log'!$J$3:$J$502,StagingTables!$B46)","v":0},{"$f":"COUNTIFS('WHS Event Log'!$E$3:$E$502,J$2,'WHS Event Log'!$J$3:$J$502,StagingTables!$B46)","v":0},{"$f":"COUNTIFS('WHS Event Log'!$E$3:$E$502,K$2,'WHS Event Log'!$J$3:$J$502,StagingTables!$B46)","v":0},{"$f":"COUNTIFS('WHS Event Log'!$E$3:$E$502,L$2,'WHS Event Log'!$J$3:$J$502,StagingTables!$B46)","v":0},{"$f":"COUNTIFS('WHS Event Log'!$E$3:$E$502,M$2,'WHS Event Log'!$J$3:$J$502,StagingTables!$B46)","v":0},{"$f":"COUNTIFS('WHS Event Log'!$E$3:$E$502,N$2,'WHS Event Log'!$J$3:$J$502,StagingTables!$B46)","v":0},0,null,{"$f":"COUNTIFS('WHS Event Log'!$J$3:$J$502,$B46,'WHS Event Log'!$S$3:$S$502,Lists!$E$3)","v":0}]
[null,"Surface Condition",{"$f":"COUNTIFS('WHS Event Log'!$E$3:$E$502,C$2,'WHS Event Log'!$J$3:$J$502,StagingTables!$B47)","v":0},{"$f":"COUNTIFS('WHS Event Log'!$E$3:$E$502,D$2,'WHS Event Log'!$J$3:$J$502,StagingTables!$B47)","v":0},{"$f":"COUNTIFS('WHS Event Log'!$E$3:$E$502,E$2,'WHS Event Log'!$J$3:$J$502,StagingTables!$B47)","v":0},{"$f":"COUNTIFS('WHS Event Log'!$E$3:$E$502,F$2,'WHS Event Log'!$J$3:$J$502,StagingTables!$B47)","v":0},{"$f":"COUNTIFS('WHS Event Log'!$E$3:$E$502,G$2,'WHS Event Log'!$J$3:$J$502,StagingTables!$B47)","v":0},{"$f":"COUNTIFS('WHS Event Log'!$E$3:$E$502,H$2,'WHS Event Log'!$J$3:$J$502,StagingTables!$B47)","v":0},{"$f":"COUNTIFS('WHS Event Log'!$E$3:$E$502,I$2,'WHS Event Log'!$J$3:$J$502,StagingTables!$B47)","v":0},{"$f":"COUNTIFS('WHS Event Log'!$E$3:$E$502,J$2,'WHS Event Log'!$J$3:$J$502,StagingTables!$B47)","v":0},{"$f":"COUNTIFS('WHS Event Log'!$E$3:$E$502,K$2,'WHS Event Log'!$J$3:$J$502,StagingTables!$B47)","v":0},{"$f":"COUNTIFS('WHS Event Log'!$E$3:$E$502,L$2,'WHS Event Log'!$J$3:$J$502,StagingTables!$B47)","v":0},{"$f":"COUNTIFS('WHS Event Log'!$E$3:$E$502,M$2,'WHS Event Log'!$J$3:$J$502,StagingTables!$B47)","v":0},{"$f":"COUNTIFS('WHS Event Log'!$E$3:$E$502,N$2,'WHS Event Log'!$J$3:$J$502,StagingTables!$B47)","v":0},0,null,{"$f":"COUNTIFS('WHS Event Log'!$J$3:$J$502,$B47,'WHS Event Log'!$S$3:$S$502,Lists!$E$3)","v":0}]
[null,"Training",{"$f":"COUNTIFS('WHS Event Log'!$E$3:$E$502,C$2,'WHS Event Log'!$J$3:$J$502,StagingTables!$B48)","v":0},{"$f":"COUNTIFS('WHS Event Log'!$E$3:$E$502,D$2,'WHS Event Log'!$J$3:$J$502,StagingTables!$B48)","v":0},{"$f":"COUNTIFS('WHS Event Log'!$E$3:$E$502,E$2,'WHS Event Log'!$J$3:$J$502,StagingTables!$B48)","v":0},{"$f":"COUNTIFS('WHS Event Log'!$E$3:$E$502,F$2,'WHS Event Log'!$J$3:$J$502,StagingTables!$B48)","v":0},{"$f":"COUNTIFS('WHS Event Log'!$E$3:$E$502,G$2,'WHS Event Log'!$J$3:$J$502,StagingTables!$B48)","v":0},{"$f":"COUNTIFS('WHS Event Log'!$E$3:$E$502,H$2,'WHS Event Log'!$J$3:$J$502,StagingTables!$B48)","v":0},{"$f":"COUNTIFS('WHS Event Log'!$E$3:$E$502,I$2,'WHS Event Log'!$J$3:$J$502,StagingTables!$B48)","v":0},{"$f":"COUNTIFS('WHS Event Log'!$E$3:$E$502,J$2,'WHS Event Log'!$J$3:$J$502,StagingTables!$B48)","v":0},{"$f":"COUNTIFS('WHS Event Log'!$E$3:$E$502,K$2,'WHS Event Log'!$J$3:$J$502,StagingTables!$B48)","v":0},{"$f":"COUNTIFS('WHS Event Log'!$E$3:$E$502,L$2,'WHS Event Log'!$J$3:$J$502,StagingTables!$B48)","v":0},{"$f":"COUNTIFS('WHS Event Log'!$E$3:$E$502,M$2,'WHS Event Log'!$J$3:$J$502,StagingTables!$B48)","v":0},{"$f":"COUNTIFS('WHS Event Log'!$E$3:$E$502,N$2,'WHS Event Log'!$J$3:$J$502,StagingTables!$B48)","v":0},0,null,{"$f":"COUNTIFS('WHS Event Log'!$J$3:$J$502,$B48,'WHS Event Log'!$S$3:$S$502,Lists!$E$3)","v":0}]
[null,"Trip",{"$f":"COUNTIFS('WHS Event Log'!$E$3:$E$502,C$2,'WHS Event Log'!$J$3:$J$502,StagingTables!$B49)","v":0},{"$f":"COUNTIFS('WHS Event Log'!$E$3:$E$502,D$2,'WHS Event Log'!$J$3:$J$502,StagingTables!$B49)","v":0},{"$f":"COUNTIFS('WHS Event Log'!$E$3:$E$502,E$2,'WHS Event Log'!$J$3:$J$502,StagingTables!$B49)","v":0},{"$f":"COUNTIFS('WHS Event Log'!$E$3:$E$502,F$2,'WHS Event Log'!$J$3:$J$502,StagingTables!$B49)","v":0},{"$f":"COUNTIFS('WHS Event Log'!$E$3:$E$502,G$2,'WHS Event Log'!$J$3:$J$502,StagingTables!$B49)","v":0},{"$f":"COUNTIFS('WHS Event Log'!$E$3:$E$502,H$2,'WHS Event Log'!$J$3:$J$502,StagingTables!$B49)","v":0},{"$f":"COUNTIFS('WHS Event Log'!$E$3:$E$502,I$2,'WHS Event Log'!$J$3:$J$502,StagingTables!$B49)","v":0},{"$f":"COUNTIFS('WHS Event Log'!$E$3:$E$502,J$2,'WHS Event Log'!$J$3:$J$502,StagingTables!$B49)","v":0},{"$f":"COUNTIFS('WHS Event Log'!$E$3:$E$502,K$2,'WHS Event Log'!$J$3:$J$502,StagingTables!$B49)","v":0},{"$f":"COUNTIFS('WHS Event Log'!$E$3:$E$502,L$2,'WHS Event Log'!$J$3:$J$502,StagingTables!$B49)","v":0},{"$f":"COUNTIFS('WHS Event Log'!$E$3:$E$502,M$2,'WHS Event Log'!$J$3:$J$502,StagingTables!$B49)","v":0},{"$f":"COUNTIFS('WHS Event Log'!$E$3:$E$502,N$2,'WHS Event Log'!$J$3:$J$502,StagingTables!$B49)","v":0},0,null,{"$f":"COUNTIFS('WHS Event Log'!$J$3:$J$502,$B49,'WHS Event Log'!$S$3:$S$502,Lists!$E$3)","v":0}]
[null,"Weather",{"$f":"COUNTIFS('WHS Event Log'!$E$3:$E$502,C$2,'WHS Event Log'!$J$3:$J$502,StagingTables!$B50)","v":0},{"$f":"COUNTIFS('WHS Event Log'!$E$3:$E$502,D$2,'WHS Event Log'!$J$3:$J$502,StagingTables!$B50)","v":0},{"$f":"COUNTIFS('WHS Event Log'!$E$3:$E$502,E$2,'WHS Event Log'!$J$3:$J$502,StagingTables!$B50)","v":0},{"$f":"COUNTIFS('WHS Event Log'!$E$3:$E$502,F$2,'WHS Event Log'!$J$3:$J$502,StagingTables!$B50)","v":0},{"$f":"COUNTIFS('WHS Event Log'!$E$3:$E$502,G$2,'WHS Event Log'!$J$3:$J$502,StagingTables!$B50)","v":0},{"$f":"COUNTIFS('WHS Event Log'!$E$3:$E$502,H$2,'WHS Event Log'!$J$3:$J$502,StagingTables!$B50)","v":0},{"$f":"COUNTIFS('WHS Event Log'!$E$3:$E$502,I$2,'WHS Event Log'!$J$3:$J$502,StagingTables!$B50)","v":0},{"$f":"COUNTIFS('WHS Event Log'!$E$3:$E$502,J$2,'WHS Event Log'!$J$3:$J$502,StagingTables!$B50)","v":0},{"$f":"COUNTIFS('WHS Event Log'!$E$3:$E$502,K$2,'WHS Event Log'!$J$3:$J$502,StagingTables!$B50)","v":0},{"$f":"COUNTIFS('WHS Event Log'!$E$3:$E$502,L$2,'WHS Event Log'!$J$3:$J$502,StagingTables!$B50)","v":0},{"$f":"COUNTIFS('WHS Event Log'!$E$3:$E$502,M$2,'WHS Event Log'!$J$3:$J$502,StagingTables!$B50)","v":0},{"$f":"COUNTIFS('WHS Event Log'!$E$3:$E$502,N$2,'WHS Event Log'!$J$3:$J$502,StagingTables!$B50)","v":0},0,null,{"$f":"COUNTIFS('WHS Event Log'!$J$3:$J$502,$B50,'WHS Event Log'!$S$3:$S$502,Lists!$E$3)","v":0}]
[null,"Other",{"$f":"COUNTIFS('WHS Event Log'!$E$3:$E$502,C$2,'WHS Event Log'!$J$3:$J$502,StagingTables!$B51)","v":0},{"$f":"COUNTIFS('WHS Event Log'!$E$3:$E$502,D$2,'WHS Event Log'!$J$3:$J$502,StagingTables!$B51)","v":0},{"$f":"COUNTIFS('WHS Event Log'!$E$3:$E$502,E$2,'WHS Event Log'!$J$3:$J$502,StagingTables!$B51)","v":0},{"$f":"COUNTIFS('WHS Event Log'!$E$3:$E$502,F$2,'WHS Event Log'!$J$3:$J$502,StagingTables!$B51)","v":0},{"$f":"COUNTIFS('WHS Event Log'!$E$3:$E$502,G$2,'WHS Event Log'!$J$3:$J$502,StagingTables!$B51)","v":0},{"$f":"COUNTIFS('WHS Event Log'!$E$3:$E$502,H$2,'WHS Event Log'!$J$3:$J$502,StagingTables!$B51)","v":0},{"$f":"COUNTIFS('WHS Event Log'!$E$3:$E$502,I$2,'WHS Event Log'!$J$3:$J$502,StagingTables!$B51)","v":0},{"$f":"COUNTIFS('WHS Event Log'!$E$3:$E$502,J$2,'WHS Event Log'!$J$3:$J$502,StagingTables!$B51)","v":0},{"$f":"COUNTIFS('WHS Event Log'!$E$3:$E$502,K$2,'WHS Event Log'!$J$3:$J$502,StagingTables!$B51)","v":0},{"$f":"COUNTIFS('WHS Event Log'!$E$3:$E$502,L$2,'WHS Event Log'!$J$3:$J$502,StagingTables!$B51)","v":0},{"$f":"COUNTIFS('WHS Event Log'!$E$3:$E$502,M$2,'WHS Event Log'!$J$3:$J$502,StagingTables!$B51)","v":0},{"$f":"COUNTIFS('WHS Event Log'!$E$3:$E$502,N$2,'WHS Event Log'!$J$3:$J$502,StagingTables!$B51)","v":0},0,null,{"$f":"COUNTIFS('WHS Event Log'!$J$3:$J$502,$B51,'WHS Event Log'!$S$3:$S$502,Lists!$E$3)","v":0}]
[null,null,{"$f":"SUM(C11:C51)-C10","v":0},{"$f":"SUM(D11:D51)-D10","v":0},{"$f":"SUM(E11:E51)-E10","v":0},0,0,0,0,0,0,0,0,0,0,null,{"$f":"SUM(Q11:Q51)","v":0}]
[]
[]
[null,"Injury Type","January","February","March","April","May","June","July","August","September","October","November","December","Total","Claim","Open"]
[null,"Amputation",{"$f":"COUNTIFS('WHS Event Log'!$E$3:$E$502,C$55,'WHS Event Log'!$Q$3:$Q$502,StagingTables!$B56)","v":0},{"$f":"COUNTIFS('WHS Event Log'!$E$3:$E$502,D$55,'WHS Event Log'!$Q$3:$Q$502,StagingTables!$B56)","v":0},{"$f":"COUNTIFS('WHS Event Log'!$E$3:$E$502,E$55,'WHS Event Log'!$Q$3:$Q$502,StagingTables!$B56)","v":0},{"$f":"COUNTIFS('WHS Event Log'!$E$3:$E$502,F$55,'WHS Event Log'!$Q$3:$Q$502,StagingTables!$B56)","v":0},{"$f":"COUNTIFS('WHS Event Log'!$E$3:$E$502,G$55,'WHS Event Log'!$Q$3:$Q$502,StagingTables!$B56)","v":0},{"$f":"COUNTIFS('WHS Event Log'!$E$3:$E$502,H$55,'WHS Event Log'!$Q$3:$Q$502,StagingTables!$B56)","v":0},{"$f":"COUNTIFS('WHS Event Log'!$E$3:$E$502,I$55,'WHS Event Log'!$Q$3:$Q$502,StagingTables!$B56)","v":0},{"$f":"COUNTIFS('WHS Event Log'!$E$3:$E$502,J$55,'WHS Event Log'!$Q$3:$Q$502,StagingTables!$B56)","v":0},{"$f":"COUNTIFS('WHS Event Log'!$E$3:$E$502,K$55,'WHS Event Log'!$Q$3:$Q$502,StagingTables!$B56)","v":0},{"$f":"COUNTIFS('WHS Event Log'!$E$3:$E$502,L$55,'WHS Event Log'!$Q$3:$Q$502,StagingTables!$B56)","v":0},{"$f":"COUNTIFS('WHS Event Log'!$E$3:$E$502,M$55,'WHS Event Log'!$Q$3:$Q$502,StagingTables!$B56)","v":0},{"$f":"COUNTIFS('WHS Event Log'!$E$3:$E$502,N$55,'WHS Event Log'!$Q$3:$Q$502,StagingTables!$B56)","v":0},{"$f":"SUM(C56:N56)","v":0},{"$f":"COUNTIFS('WHS Event Log'!$J$3:$J$502,$B58,'WHS Event Log'!$S$3:$S$502,Lists!$E$3)","v":0},{"$f":"COUNTIFS('WHS Event Log'!$Q$3:$Q$502,$B56,'WHS Event Log'!$S$3:$S$502,Lists!$E$3,'WHS Event Log'!$T$3:$T$502,Lists!$K$3)","v":0}]
[null,"Burns",{"$f":"COUNTIFS('WHS Event Log'!$E$3:$E$502,C$55,'WHS Event Log'!$Q$3:$Q$502,StagingTables!$B57)","v":0},{"$f":"COUNTIFS('WHS Event Log'!$E$3:$E$502,D$55,'WHS Event Log'!$Q$3:$Q$502,StagingTables!$B57)","v":0},{"$f":"COUNTIFS('WHS Event Log'!$E$3:$E$502,E$55,'WHS Event Log'!$Q$3:$Q$502,StagingTables!$B57)","v":0},{"$f":"COUNTIFS('WHS Event Log'!$E$3:$E$502,F$55,'WHS Event Log'!$Q$3:$Q$502,StagingTables!$B57)","v":0},{"$f":"COUNTIFS('WHS Event Log'!$E$3:$E$502,G$55,'WHS Event Log'!$Q$3:$Q$502,StagingTables!$B57)","v":0},{"$f":"COUNTIFS('WHS Event Log'!$E$3:$E$502,H$55,'WHS Event Log'!$Q$3:$Q$502,StagingTables!$B57)","v":0},{"$f":"COUNTIFS('WHS Event Log'!$E$3:$E$502,I$55,'WHS Event Log'!$Q$3:$Q$502,StagingTables!$B57)","v":0},{"$f":"COUNTIFS('WHS Event Log'!$E$3:$E$502,J$55,'WHS Event Log'!$Q$3:$Q$502,StagingTables!$B57)","v":0},{"$f":"COUNTIFS('WHS Event Log'!$E$3:$E$502,K$55,'WHS Event Log'!$Q$3:$Q$502,StagingTables!$B57)","v":0},{"$f":"COUNTIFS('WHS Event Log'!$E$3:$E$502,L$55,'WHS Event Log'!$Q$3:$Q$502,StagingTables!$B57)","v":0},{"$f":"COUNTIFS('WHS Event Log'!$E$3:$E$502,M$55,'WHS Event Log'!$Q$3:$Q$502,StagingTables!$B57)","v":0},{"$f":"COUNTIFS('WHS Event Log'!$E$3:$E$502,N$55,'WHS Event Log'!$Q$3:$Q$502,StagingTables!$B57)","v":0},0,{"$f":"COUNTIFS('WHS Event Log'!$Q$3:$Q$502,$B57,'WHS Event Log'!$S$3:$S$502,Lists!$E$3)","v":0},{"$f":"COUNTIFS('WHS Event Log'!$Q$3:$Q$502,$B57,'WHS Event Log'!$S$3:$S$502,Lists!$E$3,'WHS Event Log'!$T$3:$T$502,Lists!$K$3)","v":0}]
[null,"Contusion/crushing",{"$f":"COUNTIFS('WHS Event Log'!$E$3:$E$502,C$55,'WHS Event Log'!$Q$3:$Q$502,StagingTables!$B58)","v":0},{"$f":"COUNTIFS('WHS Event Log'!$E$3:$E$502,D$55,'WHS Event Log'!$Q$3:$Q$502,StagingTables!$B58)","v":0},{"$f":"COUNTIFS('WHS Event Log'!$E$3:$E$502,E$55,'WHS Event Log'!$Q$3:$Q$502,StagingTables!$B58)","v":0},{"$f":"COUNTIFS('WHS Event Log'!$E$3:$E$502,F$55,'WHS Event Log'!$Q$3:$Q$502,StagingTables!$B58)","v":0},{"$f":"COUNTIFS('WHS Event Log'!$E$3:$E$502,G$55,'WHS Event Log'!$Q$3:$Q$502,StagingTables!$B58)","v":0},{"$f":"COUNTIFS('WHS Event Log'!$E$3:$E$502,H$55,'WHS Event Log'!$Q$3:$Q$502,StagingTables!$B58)","v":0},{"$f":"COUNTIFS('WHS Event Log'!$E$3:$E$502,I$55,'WHS Event Log'!$Q$3:$Q$502,StagingTables!$B58)","v":0},{"$f":"COUNTIFS('WHS Event Log'!$E$3:$E$502,J$55,'WHS Event Log'!$Q$3:$Q$502,StagingTables!$B58)","v":0},{"$f":"COUNTIFS('WHS Event Log'!$E$3:$E$502,K$55,'WHS Event Log'!$Q$3:$Q$502,StagingTables!$B58)","v":0},{"$f":"COUNTIFS('WHS Event Log'!$E$3:$E$502,L$55,'WHS Event Log'!$Q$3:$Q$502,StagingTables!$B58)","v":0},{"$f":"COUNTIFS('WHS Event Log'!$E$3:$E$502,M$55,'WHS Event Log'!$Q$3:$Q$502,StagingTables!$B58)","v":0},{"$f":"COUNTIFS('WHS Event Log'!$E$3:$E$502,N$55,'WHS Event Log'!$Q$3:$Q$502,StagingTables!$B58)","v":0},0,{"$f":"COUNTIFS('WHS Event Log'!$Q$3:$Q$502,$B58,'WHS Event Log'!$S$3:$S$502,Lists!$E$3)","v":0},{"$f":"COUNTIFS('WHS Event Log'!$Q$3:$Q$502,$B58,'WHS Event Log'!$S$3:$S$502,Lists!$E$3,'WHS Event Log'!$T$3:$T$502,Lists!$K$3)","v":0}]
[null,"Dermatitis/Eczema",{"$f":"COUNTIFS('WHS Event Log'!$E$3:$E$502,C$55,'WHS Event Log'!$Q$3:$Q$502,StagingTables!$B59)","v":0},{"$f":"COUNTIFS('WHS Event Log'!$E$3:$E$502,D$55,'WHS Event Log'!$Q$3:$Q$502,StagingTables!$B59)","v":0},{"$f":"COUNTIFS('WHS Event Log'!$E$3:$E$502,E$55,'WHS Event Log'!$Q$3:$Q$502,StagingTables!$B59)","v":0},{"$f":"COUNTIFS('WHS Event Log'!$E$3:$E$502,F$55,'WHS Event Log'!$Q$3:$Q$502,StagingTables!$B59)","v":0},{"$f":"COUNTIFS('WHS Event Log'!$E$3:$E$502,G$55,'WHS Event Log'!$Q$3:$Q$502,StagingTables!$B59)","v":0},{"$f":"COUNTIFS('WHS Event Log'!$E$3:$E$502,H$55,'WHS Event Log'!$Q$3:$Q$502,StagingTables!$B59)","v":0},{"$f":"COUNTIFS('WHS Event Log'!$E$3:$E$502,I$55,'WHS Event Log'!$Q$3:$Q$502,StagingTables!$B59)","v":0},{"$f":"COUNTIFS('WHS Event Log'!$E$3:$E$502,J$55,'WHS Event Log'!$Q$3:$Q$502,StagingTables!$B59)","v":0},{"$f":"COUNTIFS('WHS Event Log'!$E$3:$E$502,K$55,'WHS Event Log'!$Q$3:$Q$502,StagingTables!$B59)","v":0},{"$f":"COUNTIFS('WHS Event Log'!$E$3:$E$502,L$55,'WHS Event Log'!$Q$3:$Q$502,StagingTables!$B59)","v":0},{"$f":"COUNTIFS('WHS Event Log'!$E$3:$E$502,M$55,'WHS Event Log'!$Q$3:$Q$502,StagingTables!$B59)","v":0},{"$f":"COUNTIFS('WHS Event Log'!$E$3:$E$502,N$55,'WHS Event Log'!$Q$3:$Q$502,StagingTables!$B59)","v":0},0,{"$f":"COUNTIFS('WHS Event Log'!$Q$3:$Q$502,$B59,'WHS Event Log'!$S$3:$S$502,Lists!$E$3)","v":0},{"$f":"COUNTIFS('WHS Event Log'!$Q$3:$Q$502,$B59,'WHS Event Log'!$S$3:$S$502,Lists!$E$3,'WHS Event Log'!$T$3:$T$502,Lists!$K$3)","v":0}]
[null,"Diorder of the Eye",{"$f":"COUNTIFS('WHS Event Log'!$E$3:$E$502,C$55,'WHS Event Log'!$Q$3:$Q$502,StagingTables!$B60)","v":0},{"$f":"COUNTIFS('WHS Event Log'!$E$3:$E$502,D$55,'WHS Event Log'!$Q$3:$Q$502,StagingTables!$B60)","v":0},{"$f":"COUNTIFS('WHS Event Log'!$E$3:$E$502,E$55,'WHS Event Log'!$Q$3:$Q$502,StagingTables!$B60)","v":0},{"$f":"COUNTIFS('WHS Event Log'!$E$3:$E$502,F$55,'WHS Event Log'!$Q$3:$Q$502,StagingTables!$B60)","v":0},{"$f":"COUNTIFS('WHS Event Log'!$E$3:$E$502,G$55,'WHS Event Log'!$Q$3:$Q$502,StagingTables!$B60)","v":0},{"$f":"COUNTIFS('WHS Event Log'!$E$3:$E$502,H$55,'WHS Event Log'!$Q$3:$Q$502,StagingTables!$B60)","v":0},{"$f":"COUNTIFS('WHS Event Log'!$E$3:$E$502,I$55,'WHS Event Log'!$Q$3:$Q$502,StagingTables!$B60)","v":0},{"$f":"COUNTIFS('WHS Event Log'!$E$3:$E$502,J$55,'WHS Event Log'!$Q$3:$Q$502,StagingTables!$B60)","v":0},{"$f":"COUNTIFS('WHS Event Log'!$E$3:$E$502,K$55,'WHS Event Log'!$Q$3:$Q$502,StagingTables!$B60)","v":0},{"$f":"COUNTIFS('WHS Event Log'!$E$3:$E$502,L$55,'WHS Event Log'!$Q$3:$Q$502,StagingTables!$B60)","v":0},{"$f":"COUNTIFS('WHS Event Log'!$E$3:$E$502,M$55,'WHS Event Log'!$Q$3:$Q$502,StagingTables!$B60)","v":0},{"$f":"COUNTIFS('WHS Event Log'!$E$3:$E$502,N$55,'WHS Event Log'!$Q$3:$Q$502,StagingTables!$B60)","v":0},0,{"$f":"COUNTIFS('WHS Event Log'!$Q$3:$Q$502,$B60,'WHS Event Log'!$S$3:$S$502,Lists!$E$3)","v":0},{"$f":"COUNTIFS('WHS Event Log'!$Q$3:$Q$502,$B60,'WHS Event Log'!$S$3:$S$502,Lists!$E$3,'WHS Event Log'!$T$3:$T$502,Lists!$K$3)","v":0}]
[null,"Dislocation",{"$f":"COUNTIFS('WHS Event Log'!$E$3:$E$502,C$55,'WHS Event Log'!$Q$3:$Q$502,StagingTables!$B61)","v":0},{"$f":"COUNTIFS('WHS Event Log'!$E$3:$E$502,D$55,'WHS Event Log'!$Q$3:$Q$502,StagingTables!$B61)","v":0},{"$f":"COUNTIFS('WHS Event Log'!$E$3:$E$502,E$55,'WHS Event Log'!$Q$3:$Q$502,StagingTables!$B61)","v":0},{"$f":"COUNTIFS('WHS Event Log'!$E$3:$E$502,F$55,'WHS Event Log'!$Q$3:$Q$502,StagingTables!$B61)","v":0},{"$f":"COUNTIFS('WHS Event Log'!$E$3:$E$502,G$55,'WHS Event Log'!$Q$3:$Q$502,StagingTables!$B61)","v":0},{"$f":"COUNTIFS('WHS Event Log'!$E$3:$E$502,H$55,'WHS Event Log'!$Q$3:$Q$502,StagingTables!$B61)","v":0},{"$f":"COUNTIFS('WHS Event Log'!$E$3:$E$502,I$55,'WHS Event Log'!$Q$3:$Q$502,StagingTables!$B61)","v":0},{"$f":"COUNTIFS('WHS Event Log'!$E$3:$E$502,J$55,'WHS Event Log'!$Q$3:$Q$502,StagingTables!$B61)","v":0},{"$f":"COUNTIFS('WHS Event Log'!$E$3:$E$502,K$55,'WHS Event Log'!$Q$3:$Q$502,StagingTables!$B61)","v":0},{"$f":"COUNTIFS('WHS Event Log'!$E$3:$E$502,L$55,'WHS Event Log'!$Q$3:$Q$502,StagingTables!$B61)","v":0},{"$f":"COUNTIFS('WHS Event Log'!$E$3:$E$502,M$55,'WHS Event Log'!$Q$3:$Q$502,StagingTables!$B61)","v":0},{"$f":"COUNTIFS('WHS Event Log'!$E$3:$E$502,N$55,'WHS Event Log'!$Q$3:$Q$502,StagingTables!$B61)","v":0},0,{"$f":"COUNTIFS('WHS Event Log'!$Q$3:$Q$502,$B61,'WHS Event Log'!$S$3:$S$502,Lists!$E$3)","v":0},{"$f":"COUNTIFS('WHS Event Log'!$Q$3:$Q$502,$B61,'WHS Event Log'!$S$3:$S$502,Lists!$E$3,'WHS Event Log'!$T$3:$T$502,Lists!$K$3)","v":0}]
[null,"Electric Shock",{"$f":"COUNTIFS('WHS Event Log'!$E$3:$E$502,C$55,'WHS Event Log'!$Q$3:$Q$502,StagingTables!$B62)","v":0},{"$f":"COUNTIFS('WHS Event Log'!$E$3:$E$502,D$55,'WHS Event Log'!$Q$3:$Q$502,StagingTables!$B62)","v":0},{"$f":"COUNTIFS('WHS Event Log'!$E$3:$E$502,E$55,'WHS Event Log'!$Q$3:$Q$502,StagingTables!$B62)","v":0},{"$f":"COUNTIFS('WHS Event Log'!$E$3:$E$502,F$55,'WHS Event Log'!$Q$3:$Q$502,StagingTables!$B62)","v":0},{"$f":"COUNTIFS('WHS Event Log'!$E$3:$E$502,G$55,'WHS Event Log'!$Q$3:$Q$502,StagingTables!$B62)","v":0},{"$f":"COUNTIFS('WHS Event Log'!$E$3:$E$502,H$55,'WHS Event Log'!$Q$3:$Q$502,StagingTables!$B62)","v":0},{"$f":"COUNTIFS('WHS Event Log'!$E$3:$E$502,I$55,'WHS Event Log'!$Q$3:$Q$502,StagingTables!$B62)","v":0},{"$f":"COUNTIFS('WHS Event Log'!$E$3:$E$502,J$55,'WHS Event Log'!$Q$3:$Q$502,StagingTables!$B62)","v":0},{"$f":"COUNTIFS('WHS Event Log'!$E$3:$E$502,K$55,'WHS Event Log'!$Q$3:$Q$502,StagingTables!$B62)","v":0},{"$f":"COUNTIFS('WHS Event Log'!$E$3:$E$502,L$55,'WHS Event Log'!$Q$3:$Q$502,StagingTables!$B62)","v":0},{"$f":"COUNTIFS('WHS Event Log'!$E$3:$E$502,M$55,'WHS Event Log'!$Q$3:$Q$502,StagingTables!$B62)","v":0},{"$f":"COUNTIFS('WHS Event Log'!$E$3:$E$502,N$55,'WHS Event Log'!$Q$3:$Q$502,StagingTables!$B62)","v":0},0,{"$f":"COUNTIFS('WHS Event Log'!$Q$3:$Q$502,$B62,'WHS Event Log'!$S$3:$S$502,Lists!$E$3)","v":0},{"$f":"COUNTIFS('WHS Event Log'!$Q$3:$Q$502,$B62,'WHS Event Log'!$S$3:$S$502,Lists!$E$3,'WHS Event Log'!$T$3:$T$502,Lists!$K$3)","v":0}]
[null,"Fatality",{"$f":"COUNTIFS('WHS Event Log'!$E$3:$E$502,C$55,'WHS Event Log'!$Q$3:$Q$502,StagingTables!$B63)","v":0},{"$f":"COUNTIFS('WHS Event Log'!$E$3:$E$502,D$55,'WHS Event Log'!$Q$3:$Q$502,StagingTables!$B63)","v":0},{"$f":"COUNTIFS('WHS Event Log'!$E$3:$E$502,E$55,'WHS Event Log'!$Q$3:$Q$502,StagingTables!$B63)","v":0},{"$f":"COUNTIFS('WHS Event Log'!$E$3:$E$502,F$55,'WHS Event Log'!$Q$3:$Q$502,StagingTables!$B63)","v":0},{"$f":"COUNTIFS('WHS Event Log'!$E$3:$E$502,G$55,'WHS Event Log'!$Q$3:$Q$502,StagingTables!$B63)","v":0},{"$f":"COUNTIFS('WHS Event Log'!$E$3:$E$502,H$55,'WHS Event Log'!$Q$3:$Q$502,StagingTables!$B63)","v":0},{"$f":"COUNTIFS('WHS Event Log'!$E$3:$E$502,I$55,'WHS Event Log'!$Q$3:$Q$502,StagingTables!$B63)","v":0},{"$f":"COUNTIFS('WHS Event Log'!$E$3:$E$502,J$55,'WHS Event Log'!$Q$3:$Q$502,StagingTables!$B63)","v":0},{"$f":"COUNTIFS('WHS Event Log'!$E$3:$E$502,K$55,'WHS Event Log'!$Q$3:$Q$502,StagingTables!$B63)","v":0},{"$f":"COUNTIFS('WHS Event Log'!$E$3:$E$502,L$55,'WHS Event Log'!$Q$3:$Q$502,StagingTables!$B63)","v":0},{"$f":"COUNTIFS('WHS Event Log'!$E$3:$E$502,M$55,'WHS Event Log'!$Q$3:$Q$502,StagingTables!$B63)","v":0},{"$f":"COUNTIFS('WHS Event Log'!$E$3:$E$502,N$55,'WHS Event Log'!$Q$3:$Q$502,StagingTables!$B63)","v":0},0,{"$f":"COUNTIFS('WHS Event Log'!$Q$3:$Q$502,$B63,'WHS Event Log'!$S$3:$S$502,Lists!$E$3)","v":0},{"$f":"COUNTIFS('WHS Event Log'!$Q$3:$Q$502,$B63,'WHS Event Log'!$S$3:$S$502,Lists!$E$3,'WHS Event Log'!$T$3:$T$502,Lists!$K$3)","v":0}]
[null,"Fatigue",{"$f":"COUNTIFS('WHS Event Log'!$E$3:$E$502,C$55,'WHS Event Log'!$Q$3:$Q$502,StagingTables!$B64)","v":0},{"$f":"COUNTIFS('WHS Event Log'!$E$3:$E$502,D$55,'WHS Event Log'!$Q$3:$Q$502,StagingTables!$B64)","v":0},{"$f":"COUNTIFS('WHS Event Log'!$E$3:$E$502,E$55,'WHS Event Log'!$Q$3:$Q$502,StagingTables!$B64)","v":0},{"$f":"COUNTIFS('WHS Event Log'!$E$3:$E$502,F$55,'WHS Event Log'!$Q$3:$Q$502,StagingTables!$B64)","v":0},{"$f":"COUNTIFS('WHS Event Log'!$E$3:$E$502,G$55,'WHS Event Log'!$Q$3:$Q$502,StagingTables!$B64)","v":0},{"$f":"COUNTIFS('WHS Event Log'!$E$3:$E$502,H$55,'WHS Event Log'!$Q$3:$Q$502,StagingTables!$B64)","v":0},{"$f":"COUNTIFS('WHS Event Log'!$E$3:$E$502,I$55,'WHS Event Log'!$Q$3:$Q$502,StagingTables!$B64)","v":0},{"$f":"COUNTIFS('WHS Event Log'!$E$3:$E$502,J$55,'WHS Event Log'!$Q$3:$Q$502,StagingTables!$B64)","v":0},{"$f":"COUNTIFS('WHS Event Log'!$E$3:$E$502,K$55,'WHS Event Log'!$Q$3:$Q$502,StagingTables!$B64)","v":0},{"$f":"COUNTIFS('WHS Event Log'!$E$3:$E$502,L$55,'WHS Event Log'!$Q$3:$Q$502,StagingTables!$B64)","v":0},{"$f":"COUNTIFS('WHS Event Log'!$E$3:$E$502,M$55,'WHS Event Log'!$Q$3:$Q$502,StagingTables!$B64)","v":0},{"$f":"COUNTIFS('WHS Event Log'!$E$3:$E$502,N$55,'WHS Event Log'!$Q$3:$Q$502,StagingTables!$B64)","v":0},0,{"$f":"COUNTIFS('WHS Event Log'!$Q$3:$Q$502,$B64,'WHS Event Log'!$S$3:$S$502,Lists!$E$3)","v":0},{"$f":"COUNTIFS('WHS Event Log'!$Q$3:$Q$502,$B64,'WHS Event Log'!$S$3:$S$502,Lists!$E$3,'WHS Event Log'!$T$3:$T$502,Lists!$K$3)","v":0}]
[null,"Foreign Body ",{"$f":"COUNTIFS('WHS Event Log'!$E$3:$E$502,C$55,'WHS Event Log'!$Q$3:$Q$502,StagingTables!$B65)","v":0},{"$f":"COUNTIFS('WHS Event Log'!$E$3:$E$502,D$55,'WHS Event Log'!$Q$3:$Q$502,StagingTables!$B65)","v":0},{"$f":"COUNTIFS('WHS Event Log'!$E$3:$E$502,E$55,'WHS Event Log'!$Q$3:$Q$502,StagingTables!$B65)","v":0},{"$f":"COUNTIFS('WHS Event Log'!$E$3:$E$502,F$55,'WHS Event Log'!$Q$3:$Q$502,StagingTables!$B65)","v":0},{"$f":"COUNTIFS('WHS Event Log'!$E$3:$E$502,G$55,'WHS Event Log'!$Q$3:$Q$502,StagingTables!$B65)","v":0},{"$f":"COUNTIFS('WHS Event Log'!$E$3:$E$502,H$55,'WHS Event Log'!$Q$3:$Q$502,StagingTables!$B65)","v":0},{"$f":"COUNTIFS('WHS Event Log'!$E$3:$E$502,I$55,'WHS Event Log'!$Q$3:$Q$502,StagingTables!$B65)","v":0},{"$f":"COUNTIFS('WHS Event Log'!$E$3:$E$502,J$55,'WHS Event Log'!$Q$3:$Q$502,StagingTables!$B65)","v":0},{"$f":"COUNTIFS('WHS Event Log'!$E$3:$E$502,K$55,'WHS Event Log'!$Q$3:$Q$502,StagingTables!$B65)","v":0},{"$f":"COUNTIFS('WHS Event Log'!$E$3:$E$502,L$55,'WHS Event Log'!$Q$3:$Q$502,StagingTables!$B65)","v":0},{"$f":"COUNTIFS('WHS Event Log'!$E$3:$E$502,M$55,'WHS Event Log'!$Q$3:$Q$502,StagingTables!$B65)","v":0},{"$f":"COUNTIFS('WHS Event Log'!$E$3:$E$502,N$55,'WHS Event Log'!$Q$3:$Q$502,StagingTables!$B65)","v":0},0,{"$f":"COUNTIFS('WHS Event Log'!$Q$3:$Q$502,$B65,'WHS Event Log'!$S$3:$S$502,Lists!$E$3)","v":0},{"$f":"COUNTIFS('WHS Event Log'!$Q$3:$Q$502,$B65,'WHS Event Log'!$S$3:$S$502,Lists!$E$3,'WHS Event Log'!$T$3:$T$502,Lists!$K$3)","v":0}]
[null,"Fracture",{"$f":"COUNTIFS('WHS Event Log'!$E$3:$E$502,C$55,'WHS Event Log'!$Q$3:$Q$502,StagingTables!$B66)","v":0},{"$f":"COUNTIFS('WHS Event Log'!$E$3:$E$502,D$55,'WHS Event Log'!$Q$3:$Q$502,StagingTables!$B66)","v":0},{"$f":"COUNTIFS('WHS Event Log'!$E$3:$E$502,E$55,'WHS Event Log'!$Q$3:$Q$502,StagingTables!$B66)","v":0},{"$f":"COUNTIFS('WHS Event Log'!$E$3:$E$502,F$55,'WHS Event Log'!$Q$3:$Q$502,StagingTables!$B66)","v":0},{"$f":"COUNTIFS('WHS Event Log'!$E$3:$E$502,G$55,'WHS Event Log'!$Q$3:$Q$502,StagingTables!$B66)","v":0},{"$f":"COUNTIFS('WHS Event Log'!$E$3:$E$502,H$55,'WHS Event Log'!$Q$3:$Q$502,StagingTables!$B66)","v":0},{"$f":"COUNTIFS('WHS Event Log'!$E$3:$E$502,I$55,'WHS Event Log'!$Q$3:$Q$502,StagingTables!$B66)","v":0},{"$f":"COUNTIFS('WHS Event Log'!$E$3:$E$502,J$55,'WHS Event Log'!$Q$3:$Q$502,StagingTables!$B66)","v":0},{"$f":"COUNTIFS('WHS Event Log'!$E$3:$E$502,K$55,'WHS Event Log'!$Q$3:$Q$502,StagingTables!$B66)","v":0},{"$f":"COUNTIFS('WHS Event Log'!$E$3:$E$502,L$55,'WHS Event Log'!$Q$3:$Q$502,StagingTables!$B66)","v":0},{"$f":"COUNTIFS('WHS Event Log'!$E$3:$E$502,M$55,'WHS Event Log'!$Q$3:$Q$502,StagingTables!$B66)","v":0},{"$f":"COUNTIFS('WHS Event Log'!$E$3:$E$502,N$55,'WHS Event Log'!$Q$3:$Q$502,StagingTables!$B66)","v":0},0,{"$f":"COUNTIFS('WHS Event Log'!$Q$3:$Q$502,$B66,'WHS Event Log'!$S$3:$S$502,Lists!$E$3)","v":0},{"$f":"COUNTIFS('WHS Event Log'!$Q$3:$Q$502,$B66,'WHS Event Log'!$S$3:$S$502,Lists!$E$3,'WHS Event Log'!$T$3:$T$502,Lists!$K$3)","v":0}]
[null,"Hernia",{"$f":"COUNTIFS('WHS Event Log'!$E$3:$E$502,C$55,'WHS Event Log'!$Q$3:$Q$502,StagingTables!$B67)","v":0},{"$f":"COUNTIFS('WHS Event Log'!$E$3:$E$502,D$55,'WHS Event Log'!$Q$3:$Q$502,StagingTables!$B67)","v":0},{"$f":"COUNTIFS('WHS Event Log'!$E$3:$E$502,E$55,'WHS Event Log'!$Q$3:$Q$502,StagingTables!$B67)","v":0},{"$f":"COUNTIFS('WHS Event Log'!$E$3:$E$502,F$55,'WHS Event Log'!$Q$3:$Q$502,StagingTables!$B67)","v":0},{"$f":"COUNTIFS('WHS Event Log'!$E$3:$E$502,G$55,'WHS Event Log'!$Q$3:$Q$502,StagingTables!$B67)","v":0},{"$f":"COUNTIFS('WHS Event Log'!$E$3:$E$502,H$55,'WHS Event Log'!$Q$3:$Q$502,StagingTables!$B67)","v":0},{"$f":"COUNTIFS('WHS Event Log'!$E$3:$E$502,I$55,'WHS Event Log'!$Q$3:$Q$502,StagingTables!$B67)","v":0},{"$f":"COUNTIFS('WHS Event Log'!$E$3:$E$502,J$55,'WHS Event Log'!$Q$3:$Q$502,StagingTables!$B67)","v":0},{"$f":"COUNTIFS('WHS Event Log'!$E$3:$E$502,K$55,'WHS Event Log'!$Q$3:$Q$502,StagingTables!$B67)","v":0},{"$f":"COUNTIFS('WHS Event Log'!$E$3:$E$502,L$55,'WHS Event Log'!$Q$3:$Q$502,StagingTables!$B67)","v":0},{"$f":"COUNTIFS('WHS Event Log'!$E$3:$E$502,M$55,'WHS Event Log'!$Q$3:$Q$502,StagingTables!$B67)","v":0},{"$f":"COUNTIFS('WHS Event Log'!$E$3:$E$502,N$55,'WHS Event Log'!$Q$3:$Q$502,StagingTables!$B67)","v":0},0,{"$f":"COUNTIFS('WHS Event Log'!$Q$3:$Q$502,$B67,'WHS Event Log'!$S$3:$S$502,Lists!$E$3)","v":0},{"$f":"COUNTIFS('WHS Event Log'!$Q$3:$Q$502,$B67,'WHS Event Log'!$S$3:$S$502,Lists!$E$3,'WHS Event Log'!$T$3:$T$502,Lists!$K$3)","v":0}]
[null,"Legionnaires' Disease",{"$f":"COUNTIFS('WHS Event Log'!$E$3:$E$502,C$55,'WHS Event Log'!$Q$3:$Q$502,StagingTables!$B68)","v":0},{"$f":"COUNTIFS('WHS Event Log'!$E$3:$E$502,D$55,'WHS Event Log'!$Q$3:$Q$502,StagingTables!$B68)","v":0},{"$f":"COUNTIFS('WHS Event Log'!$E$3:$E$502,E$55,'WHS Event Log'!$Q$3:$Q$502,StagingTables!$B68)","v":0},{"$f":"COUNTIFS('WHS Event Log'!$E$3:$E$502,F$55,'WHS Event Log'!$Q$3:$Q$502,StagingTables!$B68)","v":0},{"$f":"COUNTIFS('WHS Event Log'!$E$3:$E$502,G$55,'WHS Event Log'!$Q$3:$Q$502,StagingTables!$B68)","v":0},{"$f":"COUNTIFS('WHS Event Log'!$E$3:$E$502,H$55,'WHS Event Log'!$Q$3:$Q$502,StagingTables!$B68)","v":0},{"$f":"COUNTIFS('WHS Event Log'!$E$3:$E$502,I$55,'WHS Event Log'!$Q$3:$Q$502,StagingTables!$B68)","v":0},{"$f":"COUNTIFS('WHS Event Log'!$E$3:$E$502,J$55,'WHS Event Log'!$Q$3:$Q$502,StagingTables!$B68)","v":0},{"$f":"COUNTIFS('WHS Event Log'!$E$3:$E$502,K$55,'WHS Event Log'!$Q$3:$Q$502,StagingTables!$B68)","v":0},{"$f":"COUNTIFS('WHS Event Log'!$E$3:$E$502,L$55,'WHS Event Log'!$Q$3:$Q$502,StagingTables!$B68)","v":0},{"$f":"COUNTIFS('WHS Event Log'!$E$3:$E$502,M$55,'WHS Event Log'!$Q$3:$Q$502,StagingTables!$B68)","v":0},{"$f":"COUNTIFS('WHS Event Log'!$E$3:$E$502,N$55,'WHS Event Log'!$Q$3:$Q$502,StagingTables!$B68)","v":0},0,{"$f":"COUNTIFS('WHS Event Log'!$Q$3:$Q$502,$B68,'WHS Event Log'!$S$3:$S$502,Lists!$E$3)","v":0},{"$f":"COUNTIFS('WHS Event Log'!$Q$3:$Q$502,$B68,'WHS Event Log'!$S$3:$S$502,Lists!$E$3,'WHS Event Log'!$T$3:$T$502,Lists!$K$3)","v":0}]
[null,"Mental Disorder",{"$f":"COUNTIFS('WHS Event Log'!$E$3:$E$502,C$55,'WHS Event Log'!$Q$3:$Q$502,StagingTables!$B69)","v":0},{"$f":"COUNTIFS('WHS Event Log'!$E$3:$E$502,D$55,'WHS Event Log'!$Q$3:$Q$502,StagingTables!$B69)","v":0},{"$f":"COUNTIFS('WHS Event Log'!$E$3:$E$502,E$55,'WHS Event Log'!$Q$3:$Q$502,StagingTables!$B69)","v":0},{"$f":"COUNTIFS('WHS Event Log'!$E$3:$E$502,F$55,'WHS Event Log'!$Q$3:$Q$502,StagingTables!$B69)","v":0},{"$f":"COUNTIFS('WHS Event Log'!$E$3:$E$502,G$55,'WHS Event Log'!$Q$3:$Q$502,StagingTables!$B69)","v":0},{"$f":"COUNTIFS('WHS Event Log'!$E$3:$E$502,H$55,'WHS Event Log'!$Q$3:$Q$502,StagingTables!$B69)","v":0},{"$f":"COUNTIFS('WHS Event Log'!$E$3:$E$502,I$55,'WHS Event Log'!$Q$3:$Q$502,StagingTables!$B69)","v":0},{"$f":"COUNTIFS('WHS Event Log'!$E$3:$E$502,J$55,'WHS Event Log'!$Q$3:$Q$502,StagingTables!$B69)","v":0},{"$f":"COUNTIFS('WHS Event Log'!$E$3:$E$502,K$55,'WHS Event Log'!$Q$3:$Q$502,StagingTables!$B69)","v":0},{"$f":"COUNTIFS('WHS Event Log'!$E$3:$E$502,L$55,'WHS Event Log'!$Q$3:$Q$502,StagingTables!$B69)","v":0},{"$f":"COUNTIFS('WHS Event Log'!$E$3:$E$502,M$55,'WHS Event Log'!$Q$3:$Q$502,StagingTables!$B69)","v":0},{"$f":"COUNTIFS('WHS Event Log'!$E$3:$E$502,N$55,'WHS Event Log'!$Q$3:$Q$502,StagingTables!$B69)","v":0},0,{"$f":"COUNTIFS('WHS Event Log'!$Q$3:$Q$502,$B69,'WHS Event Log'!$S$3:$S$502,Lists!$E$3)","v":0},{"$f":"COUNTIFS('WHS Event Log'!$Q$3:$Q$502,$B69,'WHS Event Log'!$S$3:$S$502,Lists!$E$3,'WHS Event Log'!$T$3:$T$502,Lists!$K$3)","v":0}]
[null,"Multiple Injury",{"$f":"COUNTIFS('WHS Event Log'!$E$3:$E$502,C$55,'WHS Event Log'!$Q$3:$Q$502,StagingTables!$B70)","v":0},{"$f":"COUNTIFS('WHS Event Log'!$E$3:$E$502,D$55,'WHS Event Log'!$Q$3:$Q$502,StagingTables!$B70)","v":0},{"$f":"COUNTIFS('WHS Event Log'!$E$3:$E$502,E$55,'WHS Event Log'!$Q$3:$Q$502,StagingTables!$B70)","v":0},{"$f":"COUNTIFS('WHS Event Log'!$E$3:$E$502,F$55,'WHS Event Log'!$Q$3:$Q$502,StagingTables!$B70)","v":0},{"$f":"COUNTIFS('WHS Event Log'!$E$3:$E$502,G$55,'WHS Event Log'!$Q$3:$Q$502,StagingTables!$B70)","v":0},{"$f":"COUNTIFS('WHS Event Log'!$E$3:$E$502,H$55,'WHS Event Log'!$Q$3:$Q$502,StagingTables!$B70)","v":0},{"$f":"COUNTIFS('WHS Event Log'!$E$3:$E$502,I$55,'WHS Event Log'!$Q$3:$Q$502,StagingTables!$B70)","v":0},{"$f":"COUNTIFS('WHS Event Log'!$E$3:$E$502,J$55,'WHS Event Log'!$Q$3:$Q$502,StagingTables!$B70)","v":0},{"$f":"COUNTIFS('WHS Event Log'!$E$3:$E$502,K$55,'WHS Event Log'!$Q$3:$Q$502,StagingTables!$B70)","v":0},{"$f":"COUNTIFS('WHS Event Log'!$E$3:$E$502,L$55,'WHS Event Log'!$Q$3:$Q$502,StagingTables!$B70)","v":0},{"$f":"COUNTIFS('WHS Event Log'!$E$3:$E$502,M$55,'WHS Event Log'!$Q$3:$Q$502,StagingTables!$B70)","v":0},{"$f":"COUNTIFS('WHS Event Log'!$E$3:$E$502,N$55,'WHS Event Log'!$Q$3:$Q$502,StagingTables!$B70)","v":0},0,{"$f":"COUNTIFS('WHS Event Log'!$Q$3:$Q$502,$B70,'WHS Event Log'!$S$3:$S$502,Lists!$E$3)","v":0},{"$f":"COUNTIFS('WHS Event Log'!$Q$3:$Q$502,$B70,'WHS Event Log'!$S$3:$S$502,Lists!$E$3,'WHS Event Log'!$T$3:$T$502,Lists!$K$3)","v":0}]
[null,"Open Wound",{"$f":"COUNTIFS('WHS Event Log'!$E$3:$E$502,C$55,'WHS Event Log'!$Q$3:$Q$502,StagingTables!$B71)","v":0},{"$f":"COUNTIFS('WHS Event Log'!$E$3:$E$502,D$55,'WHS Event Log'!$Q$3:$Q$502,StagingTables!$B71)","v":0},{"$f":"COUNTIFS('WHS Event Log'!$E$3:$E$502,E$55,'WHS Event Log'!$Q$3:$Q$502,StagingTables!$B71)","v":0},{"$f":"COUNTIFS('WHS Event Log'!$E$3:$E$502,F$55,'WHS Event Log'!$Q$3:$Q$502,StagingTables!$B71)","v":0},{"$f":"COUNTIFS('WHS Event Log'!$E$3:$E$502,G$55,'WHS Event Log'!$Q$3:$Q$502,StagingTables!$B71)","v":0},{"$f":"COUNTIFS('WHS Event Log'!$E$3:$E$502,H$55,'WHS Event Log'!$Q$3:$Q$502,StagingTables!$B71)","v":0},{"$f":"COUNTIFS('WHS Event Log'!$E$3:$E$502,I$55,'WHS Event Log'!$Q$3:$Q$502,StagingTables!$B71)","v":0},{"$f":"COUNTIFS('WHS Event Log'!$E$3:$E$502,J$55,'WHS Event Log'!$Q$3:$Q$502,StagingTables!$B71)","v":0},{"$f":"COUNTIFS('WHS Event Log'!$E$3:$E$502,K$55,'WHS Event Log'!$Q$3:$Q$502,StagingTables!$B71)","v":0},{"$f":"COUNTIFS('WHS Event Log'!$E$3:$E$502,L$55,'WHS Event Log'!$Q$3:$Q$502,StagingTables!$B71)","v":0},{"$f":"COUNTIFS('WHS Event Log'!$E$3:$E$502,M$55,'WHS Event Log'!$Q$3:$Q$502,StagingTables!$B71)","v":0},{"$f":"COUNTIFS('WHS Event Log'!$E$3:$E$502,N$55,'WHS Event Log'!$Q$3:$Q$502,StagingTables!$B71)","v":0},0,{"$f":"COUNTIFS('WHS Event Log'!$Q$3:$Q$502,$B71,'WHS Event Log'!$S$3:$S$502,Lists!$E$3)","v":0},{"$f":"COUNTIFS('WHS Event Log'!$Q$3:$Q$502,$B71,'WHS Event Log'!$S$3:$S$502,Lists!$E$3,'WHS Event Log'!$T$3:$T$502,Lists!$K$3)","v":0}]
[null,"Poisoning/Toxic Effects",{"$f":"COUNTIFS('WHS Event Log'!$E$3:$E$502,C$55,'WHS Event Log'!$Q$3:$Q$502,StagingTables!$B72)","v":0},{"$f":"COUNTIFS('WHS Event Log'!$E$3:$E$502,D$55,'WHS Event Log'!$Q$3:$Q$502,StagingTables!$B72)","v":0},{"$f":"COUNTIFS('WHS Event Log'!$E$3:$E$502,E$55,'WHS Event Log'!$Q$3:$Q$502,StagingTables!$B72)","v":0},{"$f":"COUNTIFS('WHS Event Log'!$E$3:$E$502,F$55,'WHS Event Log'!$Q$3:$Q$502,StagingTables!$B72)","v":0},{"$f":"COUNTIFS('WHS Event Log'!$E$3:$E$502,G$55,'WHS Event Log'!$Q$3:$Q$502,StagingTables!$B72)","v":0},{"$f":"COUNTIFS('WHS Event Log'!$E$3:$E$502,H$55,'WHS Event Log'!$Q$3:$Q$502,StagingTables!$B72)","v":0},{"$f":"COUNTIFS('WHS Event Log'!$E$3:$E$502,I$55,'WHS Event Log'!$Q$3:$Q$502,StagingTables!$B72)","v":0},{"$f":"COUNTIFS('WHS Event Log'!$E$3:$E$502,J$55,'WHS Event Log'!$Q$3:$Q$502,StagingTables!$B72)","v":0},{"$f":"COUNTIFS('WHS Event Log'!$E$3:$E$502,K$55,'WHS Event Log'!$Q$3:$Q$502,StagingTables!$B72)","v":0},{"$f":"COUNTIFS('WHS Event Log'!$E$3:$E$502,L$55,'WHS Event Log'!$Q$3:$Q$502,StagingTables!$B72)","v":0},{"$f":"COUNTIFS('WHS Event Log'!$E$3:$E$502,M$55,'WHS Event Log'!$Q$3:$Q$502,StagingTables!$B72)","v":0},{"$f":"COUNTIFS('WHS Event Log'!$E$3:$E$502,N$55,'WHS Event Log'!$Q$3:$Q$502,StagingTables!$B72)","v":0},0,{"$f":"COUNTIFS('WHS Event Log'!$Q$3:$Q$502,$B72,'WHS Event Log'!$S$3:$S$502,Lists!$E$3)","v":0},{"$f":"COUNTIFS('WHS Event Log'!$Q$3:$Q$502,$B72,'WHS Event Log'!$S$3:$S$502,Lists!$E$3,'WHS Event Log'!$T$3:$T$502,Lists!$K$3)","v":0}]
[null,"Puncture wound",{"$f":"COUNTIFS('WHS Event Log'!$E$3:$E$502,C$55,'WHS Event Log'!$Q$3:$Q$502,StagingTables!$B73)","v":0},{"$f":"COUNTIFS('WHS Event Log'!$E$3:$E$502,D$55,'WHS Event Log'!$Q$3:$Q$502,StagingTables!$B73)","v":0},{"$f":"COUNTIFS('WHS Event Log'!$E$3:$E$502,E$55,'WHS Event Log'!$Q$3:$Q$502,StagingTables!$B73)","v":0},{"$f":"COUNTIFS('WHS Event Log'!$E$3:$E$502,F$55,'WHS Event Log'!$Q$3:$Q$502,StagingTables!$B73)","v":0},{"$f":"COUNTIFS('WHS Event Log'!$E$3:$E$502,G$55,'WHS Event Log'!$Q$3:$Q$502,StagingTables!$B73)","v":0},{"$f":"COUNTIFS('WHS Event Log'!$E$3:$E$502,H$55,'WHS Event Log'!$Q$3:$Q$502,StagingTables!$B73)","v":0},{"$f":"COUNTIFS('WHS Event Log'!$E$3:$E$502,I$55,'WHS Event Log'!$Q$3:$Q$502,StagingTables!$B73)","v":0},{"$f":"COUNTIFS('WHS Event Log'!$E$3:$E$502,J$55,'WHS Event Log'!$Q$3:$Q$502,StagingTables!$B73)","v":0},{"$f":"COUNTIFS('WHS Event Log'!$E$3:$E$502,K$55,'WHS Event Log'!$Q$3:$Q$502,StagingTables!$B73)","v":0},{"$f":"COUNTIFS('WHS Event Log'!$E$3:$E$502,L$55,'WHS Event Log'!$Q$3:$Q$502,StagingTables!$B73)","v":0},{"$f":"COUNTIFS('WHS Event Log'!$E$3:$E$502,M$55,'WHS Event Log'!$Q$3:$Q$502,StagingTables!$B73)","v":0},{"$f":"COUNTIFS('WHS Event Log'!$E$3:$E$502,N$55,'WHS Event Log'!$Q$3:$Q$502,StagingTables!$B73)","v":0},0,{"$f":"COUNTIFS('WHS Event Log'!$Q$3:$Q$502,$B73,'WHS Event Log'!$S$3:$S$502,Lists!$E$3)","v":0},{"$f":"COUNTIFS('WHS Event Log'!$Q$3:$Q$502,$B73,'WHS Event Log'!$S$3:$S$502,Lists!$E$3,'WHS Event Log'!$T$3:$T$502,Lists!$K$3)","v":0}]
[null,"Respiratory Condition",{"$f":"COUNTIFS('WHS Event Log'!$E$3:$E$502,C$55,'WHS Event Log'!$Q$3:$Q$502,StagingTables!$B74)","v":0},{"$f":"COUNTIFS('WHS Event Log'!$E$3:$E$502,D$55,'WHS Event Log'!$Q$3:$Q$502,StagingTables!$B74)","v":0},{"$f":"COUNTIFS('WHS Event Log'!$E$3:$E$502,E$55,'WHS Event Log'!$Q$3:$Q$502,StagingTables!$B74)","v":0},{"$f":"COUNTIFS('WHS Event Log'!$E$3:$E$502,F$55,'WHS Event Log'!$Q$3:$Q$502,StagingTables!$B74)","v":0},{"$f":"COUNTIFS('WHS Event Log'!$E$3:$E$502,G$55,'WHS Event Log'!$Q$3:$Q$502,StagingTables!$B74)","v":0},{"$f":"COUNTIFS('WHS Event Log'!$E$3:$E$502,H$55,'WHS Event Log'!$Q$3:$Q$502,StagingTables!$B74)","v":0},{"$f":"COUNTIFS('WHS Event Log'!$E$3:$E$502,I$55,'WHS Event Log'!$Q$3:$Q$502,StagingTables!$B74)","v":0},{"$f":"COUNTIFS('WHS Event Log'!$E$3:$E$502,J$55,'WHS Event Log'!$Q$3:$Q$502,StagingTables!$B74)","v":0},{"$f":"COUNTIFS('WHS Event Log'!$E$3:$E$502,K$55,'WHS Event Log'!$Q$3:$Q$502,StagingTables!$B74)","v":0},{"$f":"COUNTIFS('WHS Event Log'!$E$3:$E$502,L$55,'WHS Event Log'!$Q$3:$Q$502,StagingTables!$B74)","v":0},{"$f":"COUNTIFS('WHS Event Log'!$E$3:$E$502,M$55,'WHS Event Log'!$Q$3:$Q$502,StagingTables!$B74)","v":0},{"$f":"COUNTIFS('WHS Event Log'!$E$3:$E$502,N$55,'WHS Event Log'!$Q$3:$Q$502,StagingTables!$B74)","v":0},0,{"$f":"COUNTIFS('WHS Event Log'!$Q$3:$Q$502,$B74,'WHS Event Log'!$S$3:$S$502,Lists!$E$3)","v":0},{"$f":"COUNTIFS('WHS Event Log'!$Q$3:$Q$502,$B74,'WHS Event Log'!$S$3:$S$502,Lists!$E$3,'WHS Event Log'!$T$3:$T$502,Lists!$K$3)","v":0}]
[null,"Sprains, Strains",{"$f":"COUNTIFS('WHS Event Log'!$E$3:$E$502,C$55,'WHS Event Log'!$Q$3:$Q$502,StagingTables!$B75)","v":0},{"$f":"COUNTIFS('WHS Event Log'!$E$3:$E$502,D$55,'WHS Event Log'!$Q$3:$Q$502,StagingTables!$B75)","v":0},{"$f":"COUNTIFS('WHS Event Log'!$E$3:$E$502,E$55,'WHS Event Log'!$Q$3:$Q$502,StagingTables!$B75)","v":0},{"$f":"COUNTIFS('WHS Event Log'!$E$3:$E$502,F$55,'WHS Event Log'!$Q$3:$Q$502,StagingTables!$B75)","v":0},{"$f":"COUNTIFS('WHS Event Log'!$E$3:$E$502,G$55,'WHS Event Log'!$Q$3:$Q$502,StagingTables!$B75)","v":0},{"$f":"COUNTIFS('WHS Event Log'!$E$3:$E$502,H$55,'WHS Event Log'!$Q$3:$Q$502,StagingTables!$B75)","v":0},{"$f":"COUNTIFS('WHS Event Log'!$E$3:$E$502,I$55,'WHS Event Log'!$Q$3:$Q$502,StagingTables!$B75)","v":0},{"$f":"COUNTIFS('WHS Event Log'!$E$3:$E$502,J$55,'WHS Event Log'!$Q$3:$Q$502,StagingTables!$B75)","v":0},{"$f":"COUNTIFS('WHS Event Log'!$E$3:$E$502,K$55,'WHS Event Log'!$Q$3:$Q$502,StagingTables!$B75)","v":0},{"$f":"COUNTIFS('WHS Event Log'!$E$3:$E$502,L$55,'WHS Event Log'!$Q$3:$Q$502,StagingTables!$B75)","v":0},{"$f":"COUNTIFS('WHS Event Log'!$E$3:$E$502,M$55,'WHS Event Log'!$Q$3:$Q$502,StagingTables!$B75)","v":0},{"$f":"COUNTIFS('WHS Event Log'!$E$3:$E$502,N$55,'WHS Event Log'!$Q$3:$Q$502,StagingTables!$B75)","v":0},0,{"$f":"COUNTIFS('WHS Event Log'!$Q$3:$Q$502,$B75,'WHS Event Log'!$S$3:$S$502,Lists!$E$3)","v":0},{"$f":"COUNTIFS('WHS Event Log'!$Q$3:$Q$502,$B75,'WHS Event Log'!$S$3:$S$502,Lists!$E$3,'WHS Event Log'!$T$3:$T$502,Lists!$K$3)","v":0}]
[null,"Superficial Injury",{"$f":"COUNTIFS('WHS Event Log'!$E$3:$E$502,C$55,'WHS Event Log'!$Q$3:$Q$502,StagingTables!$B76)","v":0},{"$f":"COUNTIFS('WHS Event Log'!$E$3:$E$502,D$55,'WHS Event Log'!$Q$3:$Q$502,StagingTables!$B76)","v":0},{"$f":"COUNTIFS('WHS Event Log'!$E$3:$E$502,E$55,'WHS Event Log'!$Q$3:$Q$502,StagingTables!$B76)","v":0},{"$f":"COUNTIFS('WHS Event Log'!$E$3:$E$502,F$55,'WHS Event Log'!$Q$3:$Q$502,StagingTables!$B76)","v":0},{"$f":"COUNTIFS('WHS Event Log'!$E$3:$E$502,G$55,'WHS Event Log'!$Q$3:$Q$502,StagingTables!$B76)","v":0},{"$f":"COUNTIFS('WHS Event Log'!$E$3:$E$502,H$55,'WHS Event Log'!$Q$3:$Q$502,StagingTables!$B76)","v":0},{"$f":"COUNTIFS('WHS Event Log'!$E$3:$E$502,I$55,'WHS Event Log'!$Q$3:$Q$502,StagingTables!$B76)","v":0},{"$f":"COUNTIFS('WHS Event Log'!$E$3:$E$502,J$55,'WHS Event Log'!$Q$3:$Q$502,StagingTables!$B76)","v":0},{"$f":"COUNTIFS('WHS Event Log'!$E$3:$E$502,K$55,'WHS Event Log'!$Q$3:$Q$502,StagingTables!$B76)","v":0},{"$f":"COUNTIFS('WHS Event Log'!$E$3:$E$502,L$55,'WHS Event Log'!$Q$3:$Q$502,StagingTables!$B76)","v":0},{"$f":"COUNTIFS('WHS Event Log'!$E$3:$E$502,M$55,'WHS Event Log'!$Q$3:$Q$502,StagingTables!$B76)","v":0},{"$f":"COUNTIFS('WHS Event Log'!$E$3:$E$502,N$55,'WHS Event Log'!$Q$3:$Q$502,StagingTables!$B76)","v":0},0,{"$f":"COUNTIFS('WHS Event Log'!$Q$3:$Q$502,$B76,'WHS Event Log'!$S$3:$S$502,Lists!$E$3)","v":0},{"$f":"COUNTIFS('WHS Event Log'!$Q$3:$Q$502,$B76,'WHS Event Log'!$S$3:$S$502,Lists!$E$3,'WHS Event Log'!$T$3:$T$502,Lists!$K$3)","v":0}]
[null,"Unspecified",{"$f":"COUNTIFS('WHS Event Log'!$E$3:$E$502,C$55,'WHS Event Log'!$Q$3:$Q$502,StagingTables!$B77)","v":0},{"$f":"COUNTIFS('WHS Event Log'!$E$3:$E$502,D$55,'WHS Event Log'!$Q$3:$Q$502,StagingTables!$B77)","v":0},{"$f":"COUNTIFS('WHS Event Log'!$E$3:$E$502,E$55,'WHS Event Log'!$Q$3:$Q$502,StagingTables!$B77)","v":0},{"$f":"COUNTIFS('WHS Event Log'!$E$3:$E$502,F$55,'WHS Event Log'!$Q$3:$Q$502,StagingTables!$B77)","v":0},{"$f":"COUNTIFS('WHS Event Log'!$E$3:$E$502,G$55,'WHS Event Log'!$Q$3:$Q$502,StagingTables!$B77)","v":0},{"$f":"COUNTIFS('WHS Event Log'!$E$3:$E$502,H$55,'WHS Event Log'!$Q$3:$Q$502,StagingTables!$B77)","v":0},{"$f":"COUNTIFS('WHS Event Log'!$E$3:$E$502,I$55,'WHS Event Log'!$Q$3:$Q$502,StagingTables!$B77)","v":0},{"$f":"COUNTIFS('WHS Event Log'!$E$3:$E$502,J$55,'WHS Event Log'!$Q$3:$Q$502,StagingTables!$B77)","v":0},{"$f":"COUNTIFS('WHS Event Log'!$E$3:$E$502,K$55,'WHS Event Log'!$Q$3:$Q$502,StagingTables!$B77)","v":0},{"$f":"COUNTIFS('WHS Event Log'!$E$3:$E$502,L$55,'WHS Event Log'!$Q$3:$Q$502,StagingTables!$B77)","v":0},{"$f":"COUNTIFS('WHS Event Log'!$E$3:$E$502,M$55,'WHS Event Log'!$Q$3:$Q$502,StagingTables!$B77)","v":0},{"$f":"COUNTIFS('WHS Event Log'!$E$3:$E$502,N$55,'WHS Event Log'!$Q$3:$Q$502,StagingTables!$B77)","v":0},0,{"$f":"COUNTIFS('WHS Event Log'!$Q$3:$Q$502,$B77,'WHS Event Log'!$S$3:$S$502,Lists!$E$3)","v":0},{"$f":"COUNTIFS('WHS Event Log'!$Q$3:$Q$502,$B77,'WHS Event Log'!$S$3:$S$502,Lists!$E$3,'WHS Event Log'!$T$3:$T$502,Lists!$K$3)","v":0}]
[null,"Other",{"$f":"COUNTIFS('WHS Event Log'!$E$3:$E$502,C$55,'WHS Event Log'!$Q$3:$Q$502,StagingTables!$B78)","v":0},{"$f":"COUNTIFS('WHS Event Log'!$E$3:$E$502,D$55,'WHS Event Log'!$Q$3:$Q$502,StagingTables!$B78)","v":0},{"$f":"COUNTIFS('WHS Event Log'!$E$3:$E$502,E$55,'WHS Event Log'!$Q$3:$Q$502,StagingTables!$B78)","v":0},{"$f":"COUNTIFS('WHS Event Log'!$E$3:$E$502,F$55,'WHS Event Log'!$Q$3:$Q$502,StagingTables!$B78)","v":0},{"$f":"COUNTIFS('WHS Event Log'!$E$3:$E$502,G$55,'WHS Event Log'!$Q$3:$Q$502,StagingTables!$B78)","v":0},{"$f":"COUNTIFS('WHS Event Log'!$E$3:$E$502,H$55,'WHS Event Log'!$Q$3:$Q$502,StagingTables!$B78)","v":0},{"$f":"COUNTIFS('WHS Event Log'!$E$3:$E$502,I$55,'WHS Event Log'!$Q$3:$Q$502,StagingTables!$B78)","v":0},{"$f":"COUNTIFS('WHS Event Log'!$E$3:$E$502,J$55,'WHS Event Log'!$Q$3:$Q$502,StagingTables!$B78)","v":0},{"$f":"COUNTIFS('WHS Event Log'!$E$3:$E$502,K$55,'WHS Event Log'!$Q$3:$Q$502,StagingTables!$B78)","v":0},{"$f":"COUNTIFS('WHS Event Log'!$E$3:$E$502,L$55,'WHS Event Log'!$Q$3:$Q$502,StagingTables!$B78)","v":0},{"$f":"COUNTIFS('WHS Event Log'!$E$3:$E$502,M$55,'WHS Event Log'!$Q$3:$Q$502,StagingTables!$B78)","v":0},{"$f":"COUNTIFS('WHS Event Log'!$E$3:$E$502,N$55,'WHS Event Log'!$Q$3:$Q$502,StagingTables!$B78)","v":0},0,{"$f":"COUNTIFS('WHS Event Log'!$Q$3:$Q$502,$B78,'WHS Event Log'!$S$3:$S$502,Lists!$E$3)","v":0},{"$f":"COUNTIFS('WHS Event Log'!$Q$3:$Q$502,$B78,'WHS Event Log'!$S$3:$S$502,Lists!$E$3,'WHS Event Log'!$T$3:$T$502,Lists!$K$3)","v":0}]
[null,"Injury Totals",{"$f":"SUM(C57:C78)","v":0},0,0,0,0,0,0,0,0,0,0,0,0]
[null,"Claim Made",{"$f":"COUNTIFS('WHS Event Log'!$E$3:$E$502,C$55,'WHS Event Log'!$S$3:$S$502,Lists!$E$3)","v":0},{"$f":"COUNTIFS('WHS Event Log'!$E$3:$E$502,D$55,'WHS Event Log'!$S$3:$S$502,Lists!$E$3)","v":0},{"$f":"COUNTIFS('WHS Event Log'!$E$3:$E$502,E$55,'WHS Event Log'!$S$3:$S$502,Lists!$E$3)","v":0},{"$f":"COUNTIFS('WHS Event Log'!$E$3:$E$502,F$55,'WHS Event Log'!$S$3:$S$502,Lists!$E$3)","v":0},{"$f":"COUNTIFS('WHS Event Log'!$E$3:$E$502,G$55,'WHS Event Log'!$S$3:$S$502,Lists!$E$3)","v":0},{"$f":"COUNTIFS('WHS Event Log'!$E$3:$E$502,H$55,'WHS Event Log'!$S$3:$S$502,Lists!$E$3)","v":0},{"$f":"COUNTIFS('WHS Event Log'!$E$3:$E$502,I$55,'WHS Event Log'!$S$3:$S$502,Lists!$E$3)","v":0},{"$f":"COUNTIFS('WHS Event Log'!$E$3:$E$502,J$55,'WHS Event Log'!$S$3:$S$502,Lists!$E$3)","v":0},{"$f":"COUNTIFS('WHS Event Log'!$E$3:$E$502,K$55,'WHS Event Log'!$S$3:$S$502,Lists!$E$3)","v":0},{"$f":"COUNTIFS('WHS Event Log'!$E$3:$E$502,L$55,'WHS Event Log'!$S$3:$S$502,Lists!$E$3)","v":0},{"$f":"COUNTIFS('WHS Event Log'!$E$3:$E$502,M$55,'WHS Event Log'!$S$3:$S$502,Lists!$E$3)","v":0},{"$f":"COUNTIFS('WHS Event Log'!$E$3:$E$502,N$55,'WHS Event Log'!$S$3:$S$502,Lists!$E$3)","v":0},null,{"$f":"SUM(C80:N80)","v":0},{"$f":"SUM(Q56:Q78)","v":0}]
[]
[]
[null,"Tally of Hazard Risk Ratings","January","February","March","April","May","June","July","August","September","October","November","December","Total"]
[null,"Low",{"$f":"COUNTIFS('WHS Event Log'!$E$3:$E$502,C$83,'WHS Event Log'!$O$3:$O$502,StagingTables!$B$84)","v":0},{"$f":"COUNTIFS('WHS Event Log'!$E$3:$E$502,D$83,'WHS Event Log'!$O$3:$O$502,StagingTables!$B$84)","v":0},{"$f":"COUNTIFS('WHS Event Log'!$E$3:$E$502,E$83,'WHS Event Log'!$O$3:$O$502,StagingTables!$B$84)","v":0},{"$f":"COUNTIFS('WHS Event Log'!$E$3:$E$502,F$83,'WHS Event Log'!$O$3:$O$502,StagingTables!$B$84)","v":0},{"$f":"COUNTIFS('WHS Event Log'!$E$3:$E$502,G$83,'WHS Event Log'!$O$3:$O$502,StagingTables!$B$84)","v":0},{"$f":"COUNTIFS('WHS Event Log'!$E$3:$E$502,H$83,'WHS Event Log'!$O$3:$O$502,StagingTables!$B$84)","v":0},{"$f":"COUNTIFS('WHS Event Log'!$E$3:$E$502,I$83,'WHS Event Log'!$O$3:$O$502,StagingTables!$B$84)","v":0},{"$f":"COUNTIFS('WHS Event Log'!$E$3:$E$502,J$83,'WHS Event Log'!$O$3:$O$502,StagingTables!$B$84)","v":0},{"$f":"COUNTIFS('WHS Event Log'!$E$3:$E$502,K$83,'WHS Event Log'!$O$3:$O$502,StagingTables!$B$84)","v":0},{"$f":"COUNTIFS('WHS Event Log'!$E$3:$E$502,L$83,'WHS Event Log'!$O$3:$O$502,StagingTables!$B$84)","v":0},{"$f":"COUNTIFS('WHS Event Log'!$E$3:$E$502,M$83,'WHS Event Log'!$O$3:$O$502,StagingTables!$B$84)","v":0},{"$f":"COUNTIFS('WHS Event Log'!$E$3:$E$502,N$83,'WHS Event Log'!$O$3:$O$502,StagingTables!$B$84)","v":0},{"$f":"SUM(C84:N84)","v":0}]
[null,"Residual",{"$f":"COUNTIFS('WHS Event Log'!$E$3:$E$502,C$83,'WHS Event Log'!$Y$3:$Y$502,StagingTables!$B$84)","v":0},{"$f":"COUNTIFS('WHS Event Log'!$E$3:$E$502,D$83,'WHS Event Log'!$Y$3:$Y$502,StagingTables!$B$84)","v":0},{"$f":"COUNTIFS('WHS Event Log'!$E$3:$E$502,E$83,'WHS Event Log'!$Y$3:$Y$502,StagingTables!$B$84)","v":0},{"$f":"COUNTIFS('WHS Event Log'!$E$3:$E$502,F$83,'WHS Event Log'!$Y$3:$Y$502,StagingTables!$B$84)","v":0},{"$f":"COUNTIFS('WHS Event Log'!$E$3:$E$502,G$83,'WHS Event Log'!$Y$3:$Y$502,StagingTables!$B$84)","v":0},{"$f":"COUNTIFS('WHS Event Log'!$E$3:$E$502,H$83,'WHS Event Log'!$Y$3:$Y$502,StagingTables!$B$84)","v":0},{"$f":"COUNTIFS('WHS Event Log'!$E$3:$E$502,I$83,'WHS Event Log'!$Y$3:$Y$502,StagingTables!$B$84)","v":0},{"$f":"COUNTIFS('WHS Event Log'!$E$3:$E$502,J$83,'WHS Event Log'!$Y$3:$Y$502,StagingTables!$B$84)","v":0},{"$f":"COUNTIFS('WHS Event Log'!$E$3:$E$502,K$83,'WHS Event Log'!$Y$3:$Y$502,StagingTables!$B$84)","v":0},{"$f":"COUNTIFS('WHS Event Log'!$E$3:$E$502,L$83,'WHS Event Log'!$Y$3:$Y$502,StagingTables!$B$84)","v":0},{"$f":"COUNTIFS('WHS Event Log'!$E$3:$E$502,M$83,'WHS Event Log'!$Y$3:$Y$502,StagingTables!$B$84)","v":0},{"$f":"COUNTIFS('WHS Event Log'!$E$3:$E$502,N$83,'WHS Event Log'!$Y$3:$Y$502,StagingTables!$B$84)","v":0},0]
[null,"Moderate",{"$f":"COUNTIFS('WHS Event Log'!$E$3:$E$502,C$83,'WHS Event Log'!$O$3:$O$502,StagingTables!$B$86)","v":0},{"$f":"COUNTIFS('WHS Event Log'!$E$3:$E$502,D$83,'WHS Event Log'!$O$3:$O$502,StagingTables!$B$86)","v":0},{"$f":"COUNTIFS('WHS Event Log'!$E$3:$E$502,E$83,'WHS Event Log'!$O$3:$O$502,StagingTables!$B$86)","v":0},{"$f":"COUNTIFS('WHS Event Log'!$E$3:$E$502,F$83,'WHS Event Log'!$O$3:$O$502,StagingTables!$B$86)","v":0},{"$f":"COUNTIFS('WHS Event Log'!$E$3:$E$502,G$83,'WHS Event Log'!$O$3:$O$502,StagingTables!$B$86)","v":0},{"$f":"COUNTIFS('WHS Event Log'!$E$3:$E$502,H$83,'WHS Event Log'!$O$3:$O$502,StagingTables!$B$86)","v":0},{"$f":"COUNTIFS('WHS Event Log'!$E$3:$E$502,I$83,'WHS Event Log'!$O$3:$O$502,StagingTables!$B$86)","v":0},{"$f":"COUNTIFS('WHS Event Log'!$E$3:$E$502,J$83,'WHS Event Log'!$O$3:$O$502,StagingTables!$B$86)","v":0},{"$f":"COUNTIFS('WHS Event Log'!$E$3:$E$502,K$83,'WHS Event Log'!$O$3:$O$502,StagingTables!$B$86)","v":0},{"$f":"COUNTIFS('WHS Event Log'!$E$3:$E$502,L$83,'WHS Event Log'!$O$3:$O$502,StagingTables!$B$86)","v":0},{"$f":"COUNTIFS('WHS Event Log'!$E$3:$E$502,M$83,'WHS Event Log'!$O$3:$O$502,StagingTables!$B$86)","v":0},{"$f":"COUNTIFS('WHS Event Log'!$E$3:$E$502,N$83,'WHS Event Log'!$O$3:$O$502,StagingTables!$B$86)","v":0},0]
[null,"Residual",{"$f":"COUNTIFS('WHS Event Log'!$E$3:$E$502,C$83,'WHS Event Log'!$Y$3:$Y$502,StagingTables!$B$86)","v":0},{"$f":"COUNTIFS('WHS Event Log'!$E$3:$E$502,D$83,'WHS Event Log'!$Y$3:$Y$502,StagingTables!$B$86)","v":0},{"$f":"COUNTIFS('WHS Event Log'!$E$3:$E$502,E$83,'WHS Event Log'!$Y$3:$Y$502,StagingTables!$B$86)","v":0},{"$f":"COUNTIFS('WHS Event Log'!$E$3:$E$502,F$83,'WHS Event Log'!$Y$3:$Y$502,StagingTables!$B$86)","v":0},{"$f":"COUNTIFS('WHS Event Log'!$E$3:$E$502,G$83,'WHS Event Log'!$Y$3:$Y$502,StagingTables!$B$86)","v":0},{"$f":"COUNTIFS('WHS Event Log'!$E$3:$E$502,H$83,'WHS Event Log'!$Y$3:$Y$502,StagingTables!$B$86)","v":0},{"$f":"COUNTIFS('WHS Event Log'!$E$3:$E$502,I$83,'WHS Event Log'!$Y$3:$Y$502,StagingTables!$B$86)","v":0},{"$f":"COUNTIFS('WHS Event Log'!$E$3:$E$502,J$83,'WHS Event Log'!$Y$3:$Y$502,StagingTables!$B$86)","v":0},{"$f":"COUNTIFS('WHS Event Log'!$E$3:$E$502,K$83,'WHS Event Log'!$Y$3:$Y$502,StagingTables!$B$86)","v":0},{"$f":"COUNTIFS('WHS Event Log'!$E$3:$E$502,L$83,'WHS Event Log'!$Y$3:$Y$502,StagingTables!$B$86)","v":0},{"$f":"COUNTIFS('WHS Event Log'!$E$3:$E$502,M$83,'WHS Event Log'!$Y$3:$Y$502,StagingTables!$B$86)","v":0},{"$f":"COUNTIFS('WHS Event Log'!$E$3:$E$502,N$83,'WHS Event Log'!$Y$3:$Y$502,StagingTables!$B$86)","v":0},0]
[null,"High",{"$f":"COUNTIFS('WHS Event Log'!$E$3:$E$502,C$83,'WHS Event Log'!$O$3:$O$502,StagingTables!$B$88)","v":0},{"$f":"COUNTIFS('WHS Event Log'!$E$3:$E$502,D$83,'WHS Event Log'!$O$3:$O$502,StagingTables!$B$88)","v":0},{"$f":"COUNTIFS('WHS Event Log'!$E$3:$E$502,E$83,'WHS Event Log'!$O$3:$O$502,StagingTables!$B$88)","v":0},{"$f":"COUNTIFS('WHS Event Log'!$E$3:$E$502,F$83,'WHS Event Log'!$O$3:$O$502,StagingTables!$B$88)","v":0},{"$f":"COUNTIFS('WHS Event Log'!$E$3:$E$502,G$83,'WHS Event Log'!$O$3:$O$502,StagingTables!$B$88)","v":0},{"$f":"COUNTIFS('WHS Event Log'!$E$3:$E$502,H$83,'WHS Event Log'!$O$3:$O$502,StagingTables!$B$88)","v":0},{"$f":"COUNTIFS('WHS Event Log'!$E$3:$E$502,I$83,'WHS Event Log'!$O$3:$O$502,StagingTables!$B$88)","v":0},{"$f":"COUNTIFS('WHS Event Log'!$E$3:$E$502,J$83,'WHS Event Log'!$O$3:$O$502,StagingTables!$B$88)","v":0},{"$f":"COUNTIFS('WHS Event Log'!$E$3:$E$502,K$83,'WHS Event Log'!$O$3:$O$502,StagingTables!$B$88)","v":0},{"$f":"COUNTIFS('WHS Event Log'!$E$3:$E$502,L$83,'WHS Event Log'!$O$3:$O$502,StagingTables!$B$88)","v":0},{"$f":"COUNTIFS('WHS Event Log'!$E$3:$E$502,M$83,'WHS Event Log'!$O$3:$O$502,StagingTables!$B$88)","v":0},{"$f":"COUNTIFS('WHS Event Log'!$E$3:$E$502,N$83,'WHS Event Log'!$O$3:$O$502,StagingTables!$B$88)","v":0},0]
[null,"Residual",{"$f":"COUNTIFS('WHS Event Log'!$E$3:$E$502,C$83,'WHS Event Log'!$Y$3:$Y$502,StagingTables!$B$88)","v":0},{"$f":"COUNTIFS('WHS Event Log'!$E$3:$E$502,D$83,'WHS Event Log'!$Y$3:$Y$502,StagingTables!$B$88)","v":0},{"$f":"COUNTIFS('WHS Event Log'!$E$3:$E$502,E$83,'WHS Event Log'!$Y$3:$Y$502,StagingTables!$B$88)","v":0},{"$f":"COUNTIFS('WHS Event Log'!$E$3:$E$502,F$83,'WHS Event Log'!$Y$3:$Y$502,StagingTables!$B$88)","v":0},{"$f":"COUNTIFS('WHS Event Log'!$E$3:$E$502,G$83,'WHS Event Log'!$Y$3:$Y$502,StagingTables!$B$88)","v":0},{"$f":"COUNTIFS('WHS Event Log'!$E$3:$E$502,H$83,'WHS Event Log'!$Y$3:$Y$502,StagingTables!$B$88)","v":0},{"$f":"COUNTIFS('WHS Event Log'!$E$3:$E$502,I$83,'WHS Event Log'!$Y$3:$Y$502,StagingTables!$B$88)","v":0},{"$f":"COUNTIFS('WHS Event Log'!$E$3:$E$502,J$83,'WHS Event Log'!$Y$3:$Y$502,StagingTables!$B$88)","v":0},{"$f":"COUNTIFS('WHS Event Log'!$E$3:$E$502,K$83,'WHS Event Log'!$Y$3:$Y$502,StagingTables!$B$88)","v":0},{"$f":"COUNTIFS('WHS Event Log'!$E$3:$E$502,L$83,'WHS Event Log'!$Y$3:$Y$502,StagingTables!$B$88)","v":0},{"$f":"COUNTIFS('WHS Event Log'!$E$3:$E$502,M$83,'WHS Event Log'!$Y$3:$Y$502,StagingTables!$B$88)","v":0},{"$f":"COUNTIFS('WHS Event Log'!$E$3:$E$502,N$83,'WHS Event Log'!$Y$3:$Y$502,StagingTables!$B$88)","v":0},0]
[null,"Extreme",{"$f":"COUNTIFS('WHS Event Log'!$E$3:$E$502,C$83,'WHS Event Log'!$O$3:$O$502,StagingTables!$B$90)","v":0},{"$f":"COUNTIFS('WHS Event Log'!$E$3:$E$502,D$83,'WHS Event Log'!$O$3:$O$502,StagingTables!$B$90)","v":0},{"$f":"COUNTIFS('WHS Event Log'!$E$3:$E$502,E$83,'WHS Event Log'!$O$3:$O$502,StagingTables!$B$90)","v":0},{"$f":"COUNTIFS('WHS Event Log'!$E$3:$E$502,F$83,'WHS Event Log'!$O$3:$O$502,StagingTables!$B$90)","v":0},{"$f":"COUNTIFS('WHS Event Log'!$E$3:$E$502,G$83,'WHS Event Log'!$O$3:$O$502,StagingTables!$B$90)","v":0},{"$f":"COUNTIFS('WHS Event Log'!$E$3:$E$502,H$83,'WHS Event Log'!$O$3:$O$502,StagingTables!$B$90)","v":0},{"$f":"COUNTIFS('WHS Event Log'!$E$3:$E$502,I$83,'WHS Event Log'!$O$3:$O$502,StagingTables!$B$90)","v":0},{"$f":"COUNTIFS('WHS Event Log'!$E$3:$E$502,J$83,'WHS Event Log'!$O$3:$O$502,StagingTables!$B$90)","v":0},{"$f":"COUNTIFS('WHS Event Log'!$E$3:$E$502,K$83,'WHS Event Log'!$O$3:$O$502,StagingTables!$B$90)","v":0},{"$f":"COUNTIFS('WHS Event Log'!$E$3:$E$502,L$83,'WHS Event Log'!$O$3:$O$502,StagingTables!$B$90)","v":0},{"$f":"COUNTIFS('WHS Event Log'!$E$3:$E$502,M$83,'WHS Event Log'!$O$3:$O$502,StagingTables!$B$90)","v":0},{"$f":"COUNTIFS('WHS Event Log'!$E$3:$E$502,N$83,'WHS Event Log'!$O$3:$O$502,StagingTables!$B$90)","v":0},0]
[null,"Residual",{"$f":"COUNTIFS('WHS Event Log'!$E$3:$E$502,C$83,'WHS Event Log'!$Y$3:$Y$502,StagingTables!$B$90)","v":0},{"$f":"COUNTIFS('WHS Event Log'!$E$3:$E$502,D$83,'WHS Event Log'!$Y$3:$Y$502,StagingTables!$B$90)","v":0},{"$f":"COUNTIFS('WHS Event Log'!$E$3:$E$502,E$83,'WHS Event Log'!$Y$3:$Y$502,StagingTables!$B$90)","v":0},{"$f":"COUNTIFS('WHS Event Log'!$E$3:$E$502,F$83,'WHS Event Log'!$Y$3:$Y$502,StagingTables!$B$90)","v":0},{"$f":"COUNTIFS('WHS Event Log'!$E$3:$E$502,G$83,'WHS Event Log'!$Y$3:$Y$502,StagingTables!$B$90)","v":0},{"$f":"COUNTIFS('WHS Event Log'!$E$3:$E$502,H$83,'WHS Event Log'!$Y$3:$Y$502,StagingTables!$B$90)","v":0},{"$f":"COUNTIFS('WHS Event Log'!$E$3:$E$502,I$83,'WHS Event Log'!$Y$3:$Y$502,StagingTables!$B$90)","v":0},{"$f":"COUNTIFS('WHS Event Log'!$E$3:$E$502,J$83,'WHS Event Log'!$Y$3:$Y$502,StagingTables!$B$90)","v":0},{"$f":"COUNTIFS('WHS Event Log'!$E$3:$E$502,K$83,'WHS Event Log'!$Y$3:$Y$502,StagingTables!$B$90)","v":0},{"$f":"COUNTIFS('WHS Event Log'!$E$3:$E$502,L$83,'WHS Event Log'!$Y$3:$Y$502,StagingTables!$B$90)","v":0},{"$f":"COUNTIFS('WHS Event Log'!$E$3:$E$502,M$83,'WHS Event Log'!$Y$3:$Y$502,StagingTables!$B$90)","v":0},{"$f":"COUNTIFS('WHS Event Log'!$E$3:$E$502,N$83,'WHS Event Log'!$Y$3:$Y$502,StagingTables!$B$90)","v":0},0]
[]
[]
[null,"Tally of Hazard Risk Ratings","Total","Residual","Days","Ave","Closed",">30"]
[null,"Low",{"$f":"O84","v":0},{"$f":"O85","v":0},{"$f":"SUMIF('WHS Event Log'!$O$3:$O$502,$B$96,'WHS Event Log'!$Z$3:$Z$502)","v":0},{"$f":"SUM(E95/C95)","v":{"$error":"#DIV/0!"}},{"$f":"COUNTIFS('WHS Event Log'!$AA$3:$AA$502,$G$94,'WHS Event Log'!$O$3:$O$502,StagingTables!$B$95)","v":0},{"$f":"'WHS Event Log'!Y508","v":0}]
[null,"Moderate",{"$f":"O86","v":0},{"$f":"O87","v":0},{"$f":"SUMIF('WHS Event Log'!$O$3:$O$502,$B$96,'WHS Event Log'!$Z$3:$Z$502)","v":0},{"$f":"SUM(E96/C96)","v":{"$error":"#DIV/0!"}},{"$f":"COUNTIFS('WHS Event Log'!$AA$3:$AA$502,$G$94,'WHS Event Log'!$O$3:$O$502,StagingTables!$B$96)","v":0},{"$f":"'WHS Event Log'!Y509","v":0}]
[null,"High",{"$f":"O88","v":0},{"$f":"O89","v":0},{"$f":"SUMIF('WHS Event Log'!$O$3:$O$502,$B$97,'WHS Event Log'!$Z$3:$Z$502)","v":0},{"$f":"SUM(E97/C97)","v":{"$error":"#DIV/0!"}},{"$f":"COUNTIFS('WHS Event Log'!$AA$3:$AA$502,$G$94,'WHS Event Log'!$O$3:$O$502,StagingTables!$B$97)","v":0},{"$f":"'WHS Event Log'!Y510","v":0}]
[null,"Extreme",{"$f":"O90","v":0},{"$f":"O91","v":0},{"$f":"SUMIF('WHS Event Log'!$O$3:$O$502,$B$98,'WHS Event Log'!$Z$3:$Z$502)","v":0},{"$f":"SUM(E98/C98)","v":{"$error":"#DIV/0!"}},{"$f":"COUNTIFS('WHS Event Log'!$AA$3:$AA$502,$G$94,'WHS Event Log'!$O$3:$O$502,StagingTables!$B$98)","v":0},{"$f":"'WHS Event Log'!Y511","v":0}]
[]
[]
[null,"Injury Sustained Day/Shift","Sun","Mon","Tues","Wed","Thurs","Fri","Sat","Am Early","Am Late","PM Early","PM Late","Total","Claim"]
[null,"Abdomen",{"$f":"COUNTIFS('WHS Event Log'!$C$3:$C$502,C$101,'WHS Event Log'!$P$3:$P$502,StagingTables!$B102)","v":0},{"$f":"COUNTIFS('WHS Event Log'!$C$3:$C$502,D$101,'WHS Event Log'!$P$3:$P$502,StagingTables!$B102)","v":0},{"$f":"COUNTIFS('WHS Event Log'!$C$3:$C$502,E$101,'WHS Event Log'!$P$3:$P$502,StagingTables!$B102)","v":0},{"$f":"COUNTIFS('WHS Event Log'!$C$3:$C$502,F$101,'WHS Event Log'!$P$3:$P$502,StagingTables!$B102)","v":0},{"$f":"COUNTIFS('WHS Event Log'!$C$3:$C$502,G$101,'WHS Event Log'!$P$3:$P$502,StagingTables!$B102)","v":0},{"$f":"COUNTIFS('WHS Event Log'!$C$3:$C$502,H$101,'WHS Event Log'!$P$3:$P$502,StagingTables!$B102)","v":0},{"$f":"COUNTIFS('WHS Event Log'!$C$3:$C$502,I$101,'WHS Event Log'!$P$3:$P$502,StagingTables!$B102)","v":0},{"$f":"COUNTIFS('WHS Event Log'!$F$3:$F$502,J$101,'WHS Event Log'!$P$3:$P$502,StagingTables!$B102)","v":0},{"$f":"COUNTIFS('WHS Event Log'!$F$3:$F$502,K$101,'WHS Event Log'!$P$3:$P$502,StagingTables!$B102)","v":0},{"$f":"COUNTIFS('WHS Event Log'!$F$3:$F$502,L$101,'WHS Event Log'!$P$3:$P$502,StagingTables!$B102)","v":0},{"$f":"COUNTIFS('WHS Event Log'!$F$3:$F$502,M$101,'WHS Event Log'!$P$3:$P$502,StagingTables!$B102)","v":0},{"$f":"SUM(C102:I102)","v":0},{"$f":"COUNTIFS('WHS Event Log'!$P$3:$P$502,$B102,'WHS Event Log'!$S$3:$S$502,Lists!$E$3)","v":0}]
[null,"Ankle",{"$f":"COUNTIFS('WHS Event Log'!$C$3:$C$502,C$101,'WHS Event Log'!$P$3:$P$502,StagingTables!$B103)","v":0},{"$f":"COUNTIFS('WHS Event Log'!$C$3:$C$502,D$101,'WHS Event Log'!$P$3:$P$502,StagingTables!$B103)","v":0},{"$f":"COUNTIFS('WHS Event Log'!$C$3:$C$502,E$101,'WHS Event Log'!$P$3:$P$502,StagingTables!$B103)","v":0},{"$f":"COUNTIFS('WHS Event Log'!$C$3:$C$502,F$101,'WHS Event Log'!$P$3:$P$502,StagingTables!$B103)","v":0},{"$f":"COUNTIFS('WHS Event Log'!$C$3:$C$502,G$101,'WHS Event Log'!$P$3:$P$502,StagingTables!$B103)","v":0},{"$f":"COUNTIFS('WHS Event Log'!$C$3:$C$502,H$101,'WHS Event Log'!$P$3:$P$502,StagingTables!$B103)","v":0},{"$f":"COUNTIFS('WHS Event Log'!$C$3:$C$502,I$101,'WHS Event Log'!$P$3:$P$502,StagingTables!$B103)","v":0},{"$f":"COUNTIFS('WHS Event Log'!$F$3:$F$502,J$101,'WHS Event Log'!$P$3:$P$502,StagingTables!$B103)","v":0},{"$f":"COUNTIFS('WHS Event Log'!$F$3:$F$502,K$101,'WHS Event Log'!$P$3:$P$502,StagingTables!$B103)","v":0},{"$f":"COUNTIFS('WHS Event Log'!$F$3:$F$502,L$101,'WHS Event Log'!$P$3:$P$502,StagingTables!$B103)","v":0},{"$f":"COUNTIFS('WHS Event Log'!$F$3:$F$502,M$101,'WHS Event Log'!$P$3:$P$502,StagingTables!$B103)","v":0},{"$f":"SUM(C103:I103)","v":0},{"$f":"COUNTIFS('WHS Event Log'!$P$3:$P$502,$B103,'WHS Event Log'!$S$3:$S$502,Lists!$E$3)","v":0}]
[null,"Buttock",{"$f":"COUNTIFS('WHS Event Log'!$C$3:$C$502,C$101,'WHS Event Log'!$P$3:$P$502,StagingTables!$B104)","v":0},{"$f":"COUNTIFS('WHS Event Log'!$C$3:$C$502,D$101,'WHS Event Log'!$P$3:$P$502,StagingTables!$B104)","v":0},{"$f":"COUNTIFS('WHS Event Log'!$C$3:$C$502,E$101,'WHS Event Log'!$P$3:$P$502,StagingTables!$B104)","v":0},{"$f":"COUNTIFS('WHS Event Log'!$C$3:$C$502,F$101,'WHS Event Log'!$P$3:$P$502,StagingTables!$B104)","v":0},{"$f":"COUNTIFS('WHS Event Log'!$C$3:$C$502,G$101,'WHS Event Log'!$P$3:$P$502,StagingTables!$B104)","v":0},{"$f":"COUNTIFS('WHS Event Log'!$C$3:$C$502,H$101,'WHS Event Log'!$P$3:$P$502,StagingTables!$B104)","v":0},{"$f":"COUNTIFS('WHS Event Log'!$C$3:$C$502,I$101,'WHS Event Log'!$P$3:$P$502,StagingTables!$B104)","v":0},{"$f":"COUNTIFS('WHS Event Log'!$F$3:$F$502,J$101,'WHS Event Log'!$P$3:$P$502,StagingTables!$B104)","v":0},{"$f":"COUNTIFS('WHS Event Log'!$F$3:$F$502,K$101,'WHS Event Log'!$P$3:$P$502,StagingTables!$B104)","v":0},{"$f":"COUNTIFS('WHS Event Log'!$F$3:$F$502,L$101,'WHS Event Log'!$P$3:$P$502,StagingTables!$B104)","v":0},{"$f":"COUNTIFS('WHS Event Log'!$F$3:$F$502,M$101,'WHS Event Log'!$P$3:$P$502,StagingTables!$B104)","v":0},0,{"$f":"COUNTIFS('WHS Event Log'!$P$3:$P$502,$B104,'WHS Event Log'!$S$3:$S$502,Lists!$E$3)","v":0}]
[null,"Chest",{"$f":"COUNTIFS('WHS Event Log'!$C$3:$C$502,C$101,'WHS Event Log'!$P$3:$P$502,StagingTables!$B105)","v":0},{"$f":"COUNTIFS('WHS Event Log'!$C$3:$C$502,D$101,'WHS Event Log'!$P$3:$P$502,StagingTables!$B105)","v":0},{"$f":"COUNTIFS('WHS Event Log'!$C$3:$C$502,E$101,'WHS Event Log'!$P$3:$P$502,StagingTables!$B105)","v":0},{"$f":"COUNTIFS('WHS Event Log'!$C$3:$C$502,F$101,'WHS Event Log'!$P$3:$P$502,StagingTables!$B105)","v":0},{"$f":"COUNTIFS('WHS Event Log'!$C$3:$C$502,G$101,'WHS Event Log'!$P$3:$P$502,StagingTables!$B105)","v":0},{"$f":"COUNTIFS('WHS Event Log'!$C$3:$C$502,H$101,'WHS Event Log'!$P$3:$P$502,StagingTables!$B105)","v":0},{"$f":"COUNTIFS('WHS Event Log'!$C$3:$C$502,I$101,'WHS Event Log'!$P$3:$P$502,StagingTables!$B105)","v":0},{"$f":"COUNTIFS('WHS Event Log'!$F$3:$F$502,J$101,'WHS Event Log'!$P$3:$P$502,StagingTables!$B105)","v":0},{"$f":"COUNTIFS('WHS Event Log'!$F$3:$F$502,K$101,'WHS Event Log'!$P$3:$P$502,StagingTables!$B105)","v":0},{"$f":"COUNTIFS('WHS Event Log'!$F$3:$F$502,L$101,'WHS Event Log'!$P$3:$P$502,StagingTables!$B105)","v":0},{"$f":"COUNTIFS('WHS Event Log'!$F$3:$F$502,M$101,'WHS Event Log'!$P$3:$P$502,StagingTables!$B105)","v":0},0,{"$f":"COUNTIFS('WHS Event Log'!$P$3:$P$502,$B105,'WHS Event Log'!$S$3:$S$502,Lists!$E$3)","v":0}]
[null,"Cognitive",{"$f":"COUNTIFS('WHS Event Log'!$C$3:$C$502,C$101,'WHS Event Log'!$P$3:$P$502,StagingTables!$B106)","v":0},{"$f":"COUNTIFS('WHS Event Log'!$C$3:$C$502,D$101,'WHS Event Log'!$P$3:$P$502,StagingTables!$B106)","v":0},{"$f":"COUNTIFS('WHS Event Log'!$C$3:$C$502,E$101,'WHS Event Log'!$P$3:$P$502,StagingTables!$B106)","v":0},{"$f":"COUNTIFS('WHS Event Log'!$C$3:$C$502,F$101,'WHS Event Log'!$P$3:$P$502,StagingTables!$B106)","v":0},{"$f":"COUNTIFS('WHS Event Log'!$C$3:$C$502,G$101,'WHS Event Log'!$P$3:$P$502,StagingTables!$B106)","v":0},{"$f":"COUNTIFS('WHS Event Log'!$C$3:$C$502,H$101,'WHS Event Log'!$P$3:$P$502,StagingTables!$B106)","v":0},{"$f":"COUNTIFS('WHS Event Log'!$C$3:$C$502,I$101,'WHS Event Log'!$P$3:$P$502,StagingTables!$B106)","v":0},{"$f":"COUNTIFS('WHS Event Log'!$F$3:$F$502,J$101,'WHS Event Log'!$P$3:$P$502,StagingTables!$B106)","v":0},{"$f":"COUNTIFS('WHS Event Log'!$F$3:$F$502,K$101,'WHS Event Log'!$P$3:$P$502,StagingTables!$B106)","v":0},{"$f":"COUNTIFS('WHS Event Log'!$F$3:$F$502,L$101,'WHS Event Log'!$P$3:$P$502,StagingTables!$B106)","v":0},{"$f":"COUNTIFS('WHS Event Log'!$F$3:$F$502,M$101,'WHS Event Log'!$P$3:$P$502,StagingTables!$B106)","v":0},0,{"$f":"COUNTIFS('WHS Event Log'!$P$3:$P$502,$B106,'WHS Event Log'!$S$3:$S$502,Lists!$E$3)","v":0}]
[null,"Ear",{"$f":"COUNTIFS('WHS Event Log'!$C$3:$C$502,C$101,'WHS Event Log'!$P$3:$P$502,StagingTables!$B107)","v":0},{"$f":"COUNTIFS('WHS Event Log'!$C$3:$C$502,D$101,'WHS Event Log'!$P$3:$P$502,StagingTables!$B107)","v":0},{"$f":"COUNTIFS('WHS Event Log'!$C$3:$C$502,E$101,'WHS Event Log'!$P$3:$P$502,StagingTables!$B107)","v":0},{"$f":"COUNTIFS('WHS Event Log'!$C$3:$C$502,F$101,'WHS Event Log'!$P$3:$P$502,StagingTables!$B107)","v":0},{"$f":"COUNTIFS('WHS Event Log'!$C$3:$C$502,G$101,'WHS Event Log'!$P$3:$P$502,StagingTables!$B107)","v":0},{"$f":"COUNTIFS('WHS Event Log'!$C$3:$C$502,H$101,'WHS Event Log'!$P$3:$P$502,StagingTables!$B107)","v":0},{"$f":"COUNTIFS('WHS Event Log'!$C$3:$C$502,I$101,'WHS Event Log'!$P$3:$P$502,StagingTables!$B107)","v":0},{"$f":"COUNTIFS('WHS Event Log'!$F$3:$F$502,J$101,'WHS Event Log'!$P$3:$P$502,StagingTables!$B107)","v":0},{"$f":"COUNTIFS('WHS Event Log'!$F$3:$F$502,K$101,'WHS Event Log'!$P$3:$P$502,StagingTables!$B107)","v":0},{"$f":"COUNTIFS('WHS Event Log'!$F$3:$F$502,L$101,'WHS Event Log'!$P$3:$P$502,StagingTables!$B107)","v":0},{"$f":"COUNTIFS('WHS Event Log'!$F$3:$F$502,M$101,'WHS Event Log'!$P$3:$P$502,StagingTables!$B107)","v":0},0,{"$f":"COUNTIFS('WHS Event Log'!$P$3:$P$502,$B107,'WHS Event Log'!$S$3:$S$502,Lists!$E$3)","v":0}]
[null,"Elbow",{"$f":"COUNTIFS('WHS Event Log'!$C$3:$C$502,C$101,'WHS Event Log'!$P$3:$P$502,StagingTables!$B108)","v":0},{"$f":"COUNTIFS('WHS Event Log'!$C$3:$C$502,D$101,'WHS Event Log'!$P$3:$P$502,StagingTables!$B108)","v":0},{"$f":"COUNTIFS('WHS Event Log'!$C$3:$C$502,E$101,'WHS Event Log'!$P$3:$P$502,StagingTables!$B108)","v":0},{"$f":"COUNTIFS('WHS Event Log'!$C$3:$C$502,F$101,'WHS Event Log'!$P$3:$P$502,StagingTables!$B108)","v":0},{"$f":"COUNTIFS('WHS Event Log'!$C$3:$C$502,G$101,'WHS Event Log'!$P$3:$P$502,StagingTables!$B108)","v":0},{"$f":"COUNTIFS('WHS Event Log'!$C$3:$C$502,H$101,'WHS Event Log'!$P$3:$P$502,StagingTables!$B108)","v":0},{"$f":"COUNTIFS('WHS Event Log'!$C$3:$C$502,I$101,'WHS Event Log'!$P$3:$P$502,StagingTables!$B108)","v":0},{"$f":"COUNTIFS('WHS Event Log'!$F$3:$F$502,J$101,'WHS Event Log'!$P$3:$P$502,StagingTables!$B108)","v":0},{"$f":"COUNTIFS('WHS Event Log'!$F$3:$F$502,K$101,'WHS Event Log'!$P$3:$P$502,StagingTables!$B108)","v":0},{"$f":"COUNTIFS('WHS Event Log'!$F$3:$F$502,L$101,'WHS Event Log'!$P$3:$P$502,StagingTables!$B108)","v":0},{"$f":"COUNTIFS('WHS Event Log'!$F$3:$F$502,M$101,'WHS Event Log'!$P$3:$P$502,StagingTables!$B108)","v":0},0,{"$f":"COUNTIFS('WHS Event Log'!$P$3:$P$502,$B108,'WHS Event Log'!$S$3:$S$502,Lists!$E$3)","v":0}]
[null,"Eye",{"$f":"COUNTIFS('WHS Event Log'!$C$3:$C$502,C$101,'WHS Event Log'!$P$3:$P$502,StagingTables!$B109)","v":0},{"$f":"COUNTIFS('WHS Event Log'!$C$3:$C$502,D$101,'WHS Event Log'!$P$3:$P$502,StagingTables!$B109)","v":0},{"$f":"COUNTIFS('WHS Event Log'!$C$3:$C$502,E$101,'WHS Event Log'!$P$3:$P$502,StagingTables!$B109)","v":0},{"$f":"COUNTIFS('WHS Event Log'!$C$3:$C$502,F$101,'WHS Event Log'!$P$3:$P$502,StagingTables!$B109)","v":0},{"$f":"COUNTIFS('WHS Event Log'!$C$3:$C$502,G$101,'WHS Event Log'!$P$3:$P$502,StagingTables!$B109)","v":0},{"$f":"COUNTIFS('WHS Event Log'!$C$3:$C$502,H$101,'WHS Event Log'!$P$3:$P$502,StagingTables!$B109)","v":0},{"$f":"COUNTIFS('WHS Event Log'!$C$3:$C$502,I$101,'WHS Event Log'!$P$3:$P$502,StagingTables!$B109)","v":0},{"$f":"COUNTIFS('WHS Event Log'!$F$3:$F$502,J$101,'WHS Event Log'!$P$3:$P$502,StagingTables!$B109)","v":0},{"$f":"COUNTIFS('WHS Event Log'!$F$3:$F$502,K$101,'WHS Event Log'!$P$3:$P$502,StagingTables!$B109)","v":0},{"$f":"COUNTIFS('WHS Event Log'!$F$3:$F$502,L$101,'WHS Event Log'!$P$3:$P$502,StagingTables!$B109)","v":0},{"$f":"COUNTIFS('WHS Event Log'!$F$3:$F$502,M$101,'WHS Event Log'!$P$3:$P$502,StagingTables!$B109)","v":0},0,{"$f":"COUNTIFS('WHS Event Log'!$P$3:$P$502,$B109,'WHS Event Log'!$S$3:$S$502,Lists!$E$3)","v":0}]
[null,"Face",{"$f":"COUNTIFS('WHS Event Log'!$C$3:$C$502,C$101,'WHS Event Log'!$P$3:$P$502,StagingTables!$B110)","v":0},{"$f":"COUNTIFS('WHS Event Log'!$C$3:$C$502,D$101,'WHS Event Log'!$P$3:$P$502,StagingTables!$B110)","v":0},{"$f":"COUNTIFS('WHS Event Log'!$C$3:$C$502,E$101,'WHS Event Log'!$P$3:$P$502,StagingTables!$B110)","v":0},{"$f":"COUNTIFS('WHS Event Log'!$C$3:$C$502,F$101,'WHS Event Log'!$P$3:$P$502,StagingTables!$B110)","v":0},{"$f":"COUNTIFS('WHS Event Log'!$C$3:$C$502,G$101,'WHS Event Log'!$P$3:$P$502,StagingTables!$B110)","v":0},{"$f":"COUNTIFS('WHS Event Log'!$C$3:$C$502,H$101,'WHS Event Log'!$P$3:$P$502,StagingTables!$B110)","v":0},{"$f":"COUNTIFS('WHS Event Log'!$C$3:$C$502,I$101,'WHS Event Log'!$P$3:$P$502,StagingTables!$B110)","v":0},{"$f":"COUNTIFS('WHS Event Log'!$F$3:$F$502,J$101,'WHS Event Log'!$P$3:$P$502,StagingTables!$B110)","v":0},{"$f":"COUNTIFS('WHS Event Log'!$F$3:$F$502,K$101,'WHS Event Log'!$P$3:$P$502,StagingTables!$B110)","v":0},{"$f":"COUNTIFS('WHS Event Log'!$F$3:$F$502,L$101,'WHS Event Log'!$P$3:$P$502,StagingTables!$B110)","v":0},{"$f":"COUNTIFS('WHS Event Log'!$F$3:$F$502,M$101,'WHS Event Log'!$P$3:$P$502,StagingTables!$B110)","v":0},0,{"$f":"COUNTIFS('WHS Event Log'!$P$3:$P$502,$B110,'WHS Event Log'!$S$3:$S$502,Lists!$E$3)","v":0}]
[null,"Finger",{"$f":"COUNTIFS('WHS Event Log'!$C$3:$C$502,C$101,'WHS Event Log'!$P$3:$P$502,StagingTables!$B111)","v":0},{"$f":"COUNTIFS('WHS Event Log'!$C$3:$C$502,D$101,'WHS Event Log'!$P$3:$P$502,StagingTables!$B111)","v":0},{"$f":"COUNTIFS('WHS Event Log'!$C$3:$C$502,E$101,'WHS Event Log'!$P$3:$P$502,StagingTables!$B111)","v":0},{"$f":"COUNTIFS('WHS Event Log'!$C$3:$C$502,F$101,'WHS Event Log'!$P$3:$P$502,StagingTables!$B111)","v":0},{"$f":"COUNTIFS('WHS Event Log'!$C$3:$C$502,G$101,'WHS Event Log'!$P$3:$P$502,StagingTables!$B111)","v":0},{"$f":"COUNTIFS('WHS Event Log'!$C$3:$C$502,H$101,'WHS Event Log'!$P$3:$P$502,StagingTables!$B111)","v":0},{"$f":"COUNTIFS('WHS Event Log'!$C$3:$C$502,I$101,'WHS Event Log'!$P$3:$P$502,StagingTables!$B111)","v":0},{"$f":"COUNTIFS('WHS Event Log'!$F$3:$F$502,J$101,'WHS Event Log'!$P$3:$P$502,StagingTables!$B111)","v":0},{"$f":"COUNTIFS('WHS Event Log'!$F$3:$F$502,K$101,'WHS Event Log'!$P$3:$P$502,StagingTables!$B111)","v":0},{"$f":"COUNTIFS('WHS Event Log'!$F$3:$F$502,L$101,'WHS Event Log'!$P$3:$P$502,StagingTables!$B111)","v":0},{"$f":"COUNTIFS('WHS Event Log'!$F$3:$F$502,M$101,'WHS Event Log'!$P$3:$P$502,StagingTables!$B111)","v":0},0,{"$f":"COUNTIFS('WHS Event Log'!$P$3:$P$502,$B111,'WHS Event Log'!$S$3:$S$502,Lists!$E$3)","v":0}]
[null,"Foot",{"$f":"COUNTIFS('WHS Event Log'!$C$3:$C$502,C$101,'WHS Event Log'!$P$3:$P$502,StagingTables!$B112)","v":0},{"$f":"COUNTIFS('WHS Event Log'!$C$3:$C$502,D$101,'WHS Event Log'!$P$3:$P$502,StagingTables!$B112)","v":0},{"$f":"COUNTIFS('WHS Event Log'!$C$3:$C$502,E$101,'WHS Event Log'!$P$3:$P$502,StagingTables!$B112)","v":0},{"$f":"COUNTIFS('WHS Event Log'!$C$3:$C$502,F$101,'WHS Event Log'!$P$3:$P$502,StagingTables!$B112)","v":0},{"$f":"COUNTIFS('WHS Event Log'!$C$3:$C$502,G$101,'WHS Event Log'!$P$3:$P$502,StagingTables!$B112)","v":0},{"$f":"COUNTIFS('WHS Event Log'!$C$3:$C$502,H$101,'WHS Event Log'!$P$3:$P$502,StagingTables!$B112)","v":0},{"$f":"COUNTIFS('WHS Event Log'!$C$3:$C$502,I$101,'WHS Event Log'!$P$3:$P$502,StagingTables!$B112)","v":0},{"$f":"COUNTIFS('WHS Event Log'!$F$3:$F$502,J$101,'WHS Event Log'!$P$3:$P$502,StagingTables!$B112)","v":0},{"$f":"COUNTIFS('WHS Event Log'!$F$3:$F$502,K$101,'WHS Event Log'!$P$3:$P$502,StagingTables!$B112)","v":0},{"$f":"COUNTIFS('WHS Event Log'!$F$3:$F$502,L$101,'WHS Event Log'!$P$3:$P$502,StagingTables!$B112)","v":0},{"$f":"COUNTIFS('WHS Event Log'!$F$3:$F$502,M$101,'WHS Event Log'!$P$3:$P$502,StagingTables!$B112)","v":0},0,{"$f":"COUNTIFS('WHS Event Log'!$P$3:$P$502,$B112,'WHS Event Log'!$S$3:$S$502,Lists!$E$3)","v":0}]
[null,"Groin",{"$f":"COUNTIFS('WHS Event Log'!$C$3:$C$502,C$101,'WHS Event Log'!$P$3:$P$502,StagingTables!$B113)","v":0},{"$f":"COUNTIFS('WHS Event Log'!$C$3:$C$502,D$101,'WHS Event Log'!$P$3:$P$502,StagingTables!$B113)","v":0},{"$f":"COUNTIFS('WHS Event Log'!$C$3:$C$502,E$101,'WHS Event Log'!$P$3:$P$502,StagingTables!$B113)","v":0},{"$f":"COUNTIFS('WHS Event Log'!$C$3:$C$502,F$101,'WHS Event Log'!$P$3:$P$502,StagingTables!$B113)","v":0},{"$f":"COUNTIFS('WHS Event Log'!$C$3:$C$502,G$101,'WHS Event Log'!$P$3:$P$502,StagingTables!$B113)","v":0},{"$f":"COUNTIFS('WHS Event Log'!$C$3:$C$502,H$101,'WHS Event Log'!$P$3:$P$502,StagingTables!$B113)","v":0},{"$f":"COUNTIFS('WHS Event Log'!$C$3:$C$502,I$101,'WHS Event Log'!$P$3:$P$502,StagingTables!$B113)","v":0},{"$f":"COUNTIFS('WHS Event Log'!$F$3:$F$502,J$101,'WHS Event Log'!$P$3:$P$502,StagingTables!$B113)","v":0},{"$f":"COUNTIFS('WHS Event Log'!$F$3:$F$502,K$101,'WHS Event Log'!$P$3:$P$502,StagingTables!$B113)","v":0},{"$f":"COUNTIFS('WHS Event Log'!$F$3:$F$502,L$101,'WHS Event Log'!$P$3:$P$502,StagingTables!$B113)","v":0},{"$f":"COUNTIFS('WHS Event Log'!$F$3:$F$502,M$101,'WHS Event Log'!$P$3:$P$502,StagingTables!$B113)","v":0},0,{"$f":"COUNTIFS('WHS Event Log'!$P$3:$P$502,$B113,'WHS Event Log'!$S$3:$S$502,Lists!$E$3)","v":0}]
[null,"Hand",{"$f":"COUNTIFS('WHS Event Log'!$C$3:$C$502,C$101,'WHS Event Log'!$P$3:$P$502,StagingTables!$B114)","v":0},{"$f":"COUNTIFS('WHS Event Log'!$C$3:$C$502,D$101,'WHS Event Log'!$P$3:$P$502,StagingTables!$B114)","v":0},{"$f":"COUNTIFS('WHS Event Log'!$C$3:$C$502,E$101,'WHS Event Log'!$P$3:$P$502,StagingTables!$B114)","v":0},{"$f":"COUNTIFS('WHS Event Log'!$C$3:$C$502,F$101,'WHS Event Log'!$P$3:$P$502,StagingTables!$B114)","v":0},{"$f":"COUNTIFS('WHS Event Log'!$C$3:$C$502,G$101,'WHS Event Log'!$P$3:$P$502,StagingTables!$B114)","v":0},{"$f":"COUNTIFS('WHS Event Log'!$C$3:$C$502,H$101,'WHS Event Log'!$P$3:$P$502,StagingTables!$B114)","v":0},{"$f":"COUNTIFS('WHS Event Log'!$C$3:$C$502,I$101,'WHS Event Log'!$P$3:$P$502,StagingTables!$B114)","v":0},{"$f":"COUNTIFS('WHS Event Log'!$F$3:$F$502,J$101,'WHS Event Log'!$P$3:$P$502,StagingTables!$B114)","v":0},{"$f":"COUNTIFS('WHS Event Log'!$F$3:$F$502,K$101,'WHS Event Log'!$P$3:$P$502,StagingTables!$B114)","v":0},{"$f":"COUNTIFS('WHS Event Log'!$F$3:$F$502,L$101,'WHS Event Log'!$P$3:$P$502,StagingTables!$B114)","v":0},{"$f":"COUNTIFS('WHS Event Log'!$F$3:$F$502,M$101,'WHS Event Log'!$P$3:$P$502,StagingTables!$B114)","v":0},0,{"$f":"COUNTIFS('WHS Event Log'!$P$3:$P$502,$B114,'WHS Event Log'!$S$3:$S$502,Lists!$E$3)","v":0}]
[null,"Head",{"$f":"COUNTIFS('WHS Event Log'!$C$3:$C$502,C$101,'WHS Event Log'!$P$3:$P$502,StagingTables!$B115)","v":0},{"$f":"COUNTIFS('WHS Event Log'!$C$3:$C$502,D$101,'WHS Event Log'!$P$3:$P$502,StagingTables!$B115)","v":0},{"$f":"COUNTIFS('WHS Event Log'!$C$3:$C$502,E$101,'WHS Event Log'!$P$3:$P$502,StagingTables!$B115)","v":0},{"$f":"COUNTIFS('WHS Event Log'!$C$3:$C$502,F$101,'WHS Event Log'!$P$3:$P$502,StagingTables!$B115)","v":0},{"$f":"COUNTIFS('WHS Event Log'!$C$3:$C$502,G$101,'WHS Event Log'!$P$3:$P$502,StagingTables!$B115)","v":0},{"$f":"COUNTIFS('WHS Event Log'!$C$3:$C$502,H$101,'WHS Event Log'!$P$3:$P$502,StagingTables!$B115)","v":0},{"$f":"COUNTIFS('WHS Event Log'!$C$3:$C$502,I$101,'WHS Event Log'!$P$3:$P$502,StagingTables!$B115)","v":0},{"$f":"COUNTIFS('WHS Event Log'!$F$3:$F$502,J$101,'WHS Event Log'!$P$3:$P$502,StagingTables!$B115)","v":0},{"$f":"COUNTIFS('WHS Event Log'!$F$3:$F$502,K$101,'WHS Event Log'!$P$3:$P$502,StagingTables!$B115)","v":0},{"$f":"COUNTIFS('WHS Event Log'!$F$3:$F$502,L$101,'WHS Event Log'!$P$3:$P$502,StagingTables!$B115)","v":0},{"$f":"COUNTIFS('WHS Event Log'!$F$3:$F$502,M$101,'WHS Event Log'!$P$3:$P$502,StagingTables!$B115)","v":0},0,{"$f":"COUNTIFS('WHS Event Log'!$P$3:$P$502,$B115,'WHS Event Log'!$S$3:$S$502,Lists!$E$3)","v":0}]
[null,"Hip",{"$f":"COUNTIFS('WHS Event Log'!$C$3:$C$502,C$101,'WHS Event Log'!$P$3:$P$502,StagingTables!$B116)","v":0},{"$f":"COUNTIFS('WHS Event Log'!$C$3:$C$502,D$101,'WHS Event Log'!$P$3:$P$502,StagingTables!$B116)","v":0},{"$f":"COUNTIFS('WHS Event Log'!$C$3:$C$502,E$101,'WHS Event Log'!$P$3:$P$502,StagingTables!$B116)","v":0},{"$f":"COUNTIFS('WHS Event Log'!$C$3:$C$502,F$101,'WHS Event Log'!$P$3:$P$502,StagingTables!$B116)","v":0},{"$f":"COUNTIFS('WHS Event Log'!$C$3:$C$502,G$101,'WHS Event Log'!$P$3:$P$502,StagingTables!$B116)","v":0},{"$f":"COUNTIFS('WHS Event Log'!$C$3:$C$502,H$101,'WHS Event Log'!$P$3:$P$502,StagingTables!$B116)","v":0},{"$f":"COUNTIFS('WHS Event Log'!$C$3:$C$502,I$101,'WHS Event Log'!$P$3:$P$502,StagingTables!$B116)","v":0},{"$f":"COUNTIFS('WHS Event Log'!$C$3:$C$502,J$101,'WHS Event Log'!$P$3:$P$502,StagingTables!$B116)","v":0},{"$f":"COUNTIFS('WHS Event Log'!$C$3:$C$502,K$101,'WHS Event Log'!$P$3:$P$502,StagingTables!$B116)","v":0},{"$f":"COUNTIFS('WHS Event Log'!$C$3:$C$502,L$101,'WHS Event Log'!$P$3:$P$502,StagingTables!$B116)","v":0},{"$f":"COUNTIFS('WHS Event Log'!$C$3:$C$502,M$101,'WHS Event Log'!$P$3:$P$502,StagingTables!$B116)","v":0},0,{"$f":"COUNTIFS('WHS Event Log'!$P$3:$P$502,$B116,'WHS Event Log'!$S$3:$S$502,Lists!$E$3)","v":0}]
[null,"Internal",{"$f":"COUNTIFS('WHS Event Log'!$C$3:$C$502,C$101,'WHS Event Log'!$P$3:$P$502,StagingTables!$B117)","v":0},{"$f":"COUNTIFS('WHS Event Log'!$C$3:$C$502,D$101,'WHS Event Log'!$P$3:$P$502,StagingTables!$B117)","v":0},{"$f":"COUNTIFS('WHS Event Log'!$C$3:$C$502,E$101,'WHS Event Log'!$P$3:$P$502,StagingTables!$B117)","v":0},{"$f":"COUNTIFS('WHS Event Log'!$C$3:$C$502,F$101,'WHS Event Log'!$P$3:$P$502,StagingTables!$B117)","v":0},{"$f":"COUNTIFS('WHS Event Log'!$C$3:$C$502,G$101,'WHS Event Log'!$P$3:$P$502,StagingTables!$B117)","v":0},{"$f":"COUNTIFS('WHS Event Log'!$C$3:$C$502,H$101,'WHS Event Log'!$P$3:$P$502,StagingTables!$B117)","v":0},{"$f":"COUNTIFS('WHS Event Log'!$C$3:$C$502,I$101,'WHS Event Log'!$P$3:$P$502,StagingTables!$B117)","v":0},{"$f":"COUNTIFS('WHS Event Log'!$F$3:$F$502,J$101,'WHS Event Log'!$P$3:$P$502,StagingTables!$B117)","v":0},{"$f":"COUNTIFS('WHS Event Log'!$F$3:$F$502,K$101,'WHS Event Log'!$P$3:$P$502,StagingTables!$B117)","v":0},{"$f":"COUNTIFS('WHS Event Log'!$F$3:$F$502,L$101,'WHS Event Log'!$P$3:$P$502,StagingTables!$B117)","v":0},{"$f":"COUNTIFS('WHS Event Log'!$F$3:$F$502,M$101,'WHS Event Log'!$P$3:$P$502,StagingTables!$B117)","v":0},0,{"$f":"COUNTIFS('WHS Event Log'!$P$3:$P$502,$B117,'WHS Event Log'!$S$3:$S$502,Lists!$E$3)","v":0}]
[null,"Knee",{"$f":"COUNTIFS('WHS Event Log'!$C$3:$C$502,C$101,'WHS Event Log'!$P$3:$P$502,StagingTables!$B118)","v":0},{"$f":"COUNTIFS('WHS Event Log'!$C$3:$C$502,D$101,'WHS Event Log'!$P$3:$P$502,StagingTables!$B118)","v":0},{"$f":"COUNTIFS('WHS Event Log'!$C$3:$C$502,E$101,'WHS Event Log'!$P$3:$P$502,StagingTables!$B118)","v":0},{"$f":"COUNTIFS('WHS Event Log'!$C$3:$C$502,F$101,'WHS Event Log'!$P$3:$P$502,StagingTables!$B118)","v":0},{"$f":"COUNTIFS('WHS Event Log'!$C$3:$C$502,G$101,'WHS Event Log'!$P$3:$P$502,StagingTables!$B118)","v":0},{"$f":"COUNTIFS('WHS Event Log'!$C$3:$C$502,H$101,'WHS Event Log'!$P$3:$P$502,StagingTables!$B118)","v":0},{"$f":"COUNTIFS('WHS Event Log'!$C$3:$C$502,I$101,'WHS Event Log'!$P$3:$P$502,StagingTables!$B118)","v":0},{"$f":"COUNTIFS('WHS Event Log'!$F$3:$F$502,J$101,'WHS Event Log'!$P$3:$P$502,StagingTables!$B118)","v":0},{"$f":"COUNTIFS('WHS Event Log'!$F$3:$F$502,K$101,'WHS Event Log'!$P$3:$P$502,StagingTables!$B118)","v":0},{"$f":"COUNTIFS('WHS Event Log'!$F$3:$F$502,L$101,'WHS Event Log'!$P$3:$P$502,StagingTables!$B118)","v":0},{"$f":"COUNTIFS('WHS Event Log'!$F$3:$F$502,M$101,'WHS Event Log'!$P$3:$P$502,StagingTables!$B118)","v":0},0,{"$f":"COUNTIFS('WHS Event Log'!$P$3:$P$502,$B118,'WHS Event Log'!$S$3:$S$502,Lists!$E$3)","v":0}]
[null,"Lower Arm",{"$f":"COUNTIFS('WHS Event Log'!$C$3:$C$502,C$101,'WHS Event Log'!$P$3:$P$502,StagingTables!$B119)","v":0},{"$f":"COUNTIFS('WHS Event Log'!$C$3:$C$502,D$101,'WHS Event Log'!$P$3:$P$502,StagingTables!$B119)","v":0},{"$f":"COUNTIFS('WHS Event Log'!$C$3:$C$502,E$101,'WHS Event Log'!$P$3:$P$502,StagingTables!$B119)","v":0},{"$f":"COUNTIFS('WHS Event Log'!$C$3:$C$502,F$101,'WHS Event Log'!$P$3:$P$502,StagingTables!$B119)","v":0},{"$f":"COUNTIFS('WHS Event Log'!$C$3:$C$502,G$101,'WHS Event Log'!$P$3:$P$502,StagingTables!$B119)","v":0},{"$f":"COUNTIFS('WHS Event Log'!$C$3:$C$502,H$101,'WHS Event Log'!$P$3:$P$502,StagingTables!$B119)","v":0},{"$f":"COUNTIFS('WHS Event Log'!$C$3:$C$502,I$101,'WHS Event Log'!$P$3:$P$502,StagingTables!$B119)","v":0},{"$f":"COUNTIFS('WHS Event Log'!$F$3:$F$502,J$101,'WHS Event Log'!$P$3:$P$502,StagingTables!$B119)","v":0},{"$f":"COUNTIFS('WHS Event Log'!$F$3:$F$502,K$101,'WHS Event Log'!$P$3:$P$502,StagingTables!$B119)","v":0},{"$f":"COUNTIFS('WHS Event Log'!$F$3:$F$502,L$101,'WHS Event Log'!$P$3:$P$502,StagingTables!$B119)","v":0},{"$f":"COUNTIFS('WHS Event Log'!$F$3:$F$502,M$101,'WHS Event Log'!$P$3:$P$502,StagingTables!$B119)","v":0},0,{"$f":"COUNTIFS('WHS Event Log'!$P$3:$P$502,$B119,'WHS Event Log'!$S$3:$S$502,Lists!$E$3)","v":0}]
[null,"Lower Back",{"$f":"COUNTIFS('WHS Event Log'!$C$3:$C$502,C$101,'WHS Event Log'!$P$3:$P$502,StagingTables!$B120)","v":0},{"$f":"COUNTIFS('WHS Event Log'!$C$3:$C$502,D$101,'WHS Event Log'!$P$3:$P$502,StagingTables!$B120)","v":0},{"$f":"COUNTIFS('WHS Event Log'!$C$3:$C$502,E$101,'WHS Event Log'!$P$3:$P$502,StagingTables!$B120)","v":0},{"$f":"COUNTIFS('WHS Event Log'!$C$3:$C$502,F$101,'WHS Event Log'!$P$3:$P$502,StagingTables!$B120)","v":0},{"$f":"COUNTIFS('WHS Event Log'!$C$3:$C$502,G$101,'WHS Event Log'!$P$3:$P$502,StagingTables!$B120)","v":0},{"$f":"COUNTIFS('WHS Event Log'!$C$3:$C$502,H$101,'WHS Event Log'!$P$3:$P$502,StagingTables!$B120)","v":0},{"$f":"COUNTIFS('WHS Event Log'!$C$3:$C$502,I$101,'WHS Event Log'!$P$3:$P$502,StagingTables!$B120)","v":0},{"$f":"COUNTIFS('WHS Event Log'!$F$3:$F$502,J$101,'WHS Event Log'!$P$3:$P$502,StagingTables!$B120)","v":0},{"$f":"COUNTIFS('WHS Event Log'!$F$3:$F$502,K$101,'WHS Event Log'!$P$3:$P$502,StagingTables!$B120)","v":0},{"$f":"COUNTIFS('WHS Event Log'!$F$3:$F$502,L$101,'WHS Event Log'!$P$3:$P$502,StagingTables!$B120)","v":0},{"$f":"COUNTIFS('WHS Event Log'!$F$3:$F$502,M$101,'WHS Event Log'!$P$3:$P$502,StagingTables!$B120)","v":0},0,{"$f":"COUNTIFS('WHS Event Log'!$P$3:$P$502,$B120,'WHS Event Log'!$S$3:$S$502,Lists!$E$3)","v":0}]
[null,"Lower Leg",{"$f":"COUNTIFS('WHS Event Log'!$C$3:$C$502,C$101,'WHS Event Log'!$P$3:$P$502,StagingTables!$B121)","v":0},{"$f":"COUNTIFS('WHS Event Log'!$C$3:$C$502,D$101,'WHS Event Log'!$P$3:$P$502,StagingTables!$B121)","v":0},{"$f":"COUNTIFS('WHS Event Log'!$C$3:$C$502,E$101,'WHS Event Log'!$P$3:$P$502,StagingTables!$B121)","v":0},{"$f":"COUNTIFS('WHS Event Log'!$C$3:$C$502,F$101,'WHS Event Log'!$P$3:$P$502,StagingTables!$B121)","v":0},{"$f":"COUNTIFS('WHS Event Log'!$C$3:$C$502,G$101,'WHS Event Log'!$P$3:$P$502,StagingTables!$B121)","v":0},{"$f":"COUNTIFS('WHS Event Log'!$C$3:$C$502,H$101,'WHS Event Log'!$P$3:$P$502,StagingTables!$B121)","v":0},{"$f":"COUNTIFS('WHS Event Log'!$C$3:$C$502,I$101,'WHS Event Log'!$P$3:$P$502,StagingTables!$B121)","v":0},{"$f":"COUNTIFS('WHS Event Log'!$F$3:$F$502,J$101,'WHS Event Log'!$P$3:$P$502,StagingTables!$B121)","v":0},{"$f":"COUNTIFS('WHS Event Log'!$F$3:$F$502,K$101,'WHS Event Log'!$P$3:$P$502,StagingTables!$B121)","v":0},{"$f":"COUNTIFS('WHS Event Log'!$F$3:$F$502,L$101,'WHS Event Log'!$P$3:$P$502,StagingTables!$B121)","v":0},{"$f":"COUNTIFS('WHS Event Log'!$F$3:$F$502,M$101,'WHS Event Log'!$P$3:$P$502,StagingTables!$B121)","v":0},0,{"$f":"COUNTIFS('WHS Event Log'!$P$3:$P$502,$B121,'WHS Event Log'!$S$3:$S$502,Lists!$E$3)","v":0}]
[null,"Mouth",{"$f":"COUNTIFS('WHS Event Log'!$C$3:$C$502,C$101,'WHS Event Log'!$P$3:$P$502,StagingTables!$B122)","v":0},{"$f":"COUNTIFS('WHS Event Log'!$C$3:$C$502,D$101,'WHS Event Log'!$P$3:$P$502,StagingTables!$B122)","v":0},{"$f":"COUNTIFS('WHS Event Log'!$C$3:$C$502,E$101,'WHS Event Log'!$P$3:$P$502,StagingTables!$B122)","v":0},{"$f":"COUNTIFS('WHS Event Log'!$C$3:$C$502,F$101,'WHS Event Log'!$P$3:$P$502,StagingTables!$B122)","v":0},{"$f":"COUNTIFS('WHS Event Log'!$C$3:$C$502,G$101,'WHS Event Log'!$P$3:$P$502,StagingTables!$B122)","v":0},{"$f":"COUNTIFS('WHS Event Log'!$C$3:$C$502,H$101,'WHS Event Log'!$P$3:$P$502,StagingTables!$B122)","v":0},{"$f":"COUNTIFS('WHS Event Log'!$C$3:$C$502,I$101,'WHS Event Log'!$P$3:$P$502,StagingTables!$B122)","v":0},{"$f":"COUNTIFS('WHS Event Log'!$F$3:$F$502,J$101,'WHS Event Log'!$P$3:$P$502,StagingTables!$B122)","v":0},{"$f":"COUNTIFS('WHS Event Log'!$F$3:$F$502,K$101,'WHS Event Log'!$P$3:$P$502,StagingTables!$B122)","v":0},{"$f":"COUNTIFS('WHS Event Log'!$F$3:$F$502,L$101,'WHS Event Log'!$P$3:$P$502,StagingTables!$B122)","v":0},{"$f":"COUNTIFS('WHS Event Log'!$F$3:$F$502,M$101,'WHS Event Log'!$P$3:$P$502,StagingTables!$B122)","v":0},0,{"$f":"COUNTIFS('WHS Event Log'!$P$3:$P$502,$B122,'WHS Event Log'!$S$3:$S$502,Lists!$E$3)","v":0}]
[null,"Neck",{"$f":"COUNTIFS('WHS Event Log'!$C$3:$C$502,C$101,'WHS Event Log'!$P$3:$P$502,StagingTables!$B123)","v":0},{"$f":"COUNTIFS('WHS Event Log'!$C$3:$C$502,D$101,'WHS Event Log'!$P$3:$P$502,StagingTables!$B123)","v":0},{"$f":"COUNTIFS('WHS Event Log'!$C$3:$C$502,E$101,'WHS Event Log'!$P$3:$P$502,StagingTables!$B123)","v":0},{"$f":"COUNTIFS('WHS Event Log'!$C$3:$C$502,F$101,'WHS Event Log'!$P$3:$P$502,StagingTables!$B123)","v":0},{"$f":"COUNTIFS('WHS Event Log'!$C$3:$C$502,G$101,'WHS Event Log'!$P$3:$P$502,StagingTables!$B123)","v":0},{"$f":"COUNTIFS('WHS Event Log'!$C$3:$C$502,H$101,'WHS Event Log'!$P$3:$P$502,StagingTables!$B123)","v":0},{"$f":"COUNTIFS('WHS Event Log'!$C$3:$C$502,I$101,'WHS Event Log'!$P$3:$P$502,StagingTables!$B123)","v":0},{"$f":"COUNTIFS('WHS Event Log'!$F$3:$F$502,J$101,'WHS Event Log'!$P$3:$P$502,StagingTables!$B123)","v":0},{"$f":"COUNTIFS('WHS Event Log'!$F$3:$F$502,K$101,'WHS Event Log'!$P$3:$P$502,StagingTables!$B123)","v":0},{"$f":"COUNTIFS('WHS Event Log'!$F$3:$F$502,L$101,'WHS Event Log'!$P$3:$P$502,StagingTables!$B123)","v":0},{"$f":"COUNTIFS('WHS Event Log'!$F$3:$F$502,M$101,'WHS Event Log'!$P$3:$P$502,StagingTables!$B123)","v":0},0,{"$f":"COUNTIFS('WHS Event Log'!$P$3:$P$502,$B123,'WHS Event Log'!$S$3:$S$502,Lists!$E$3)","v":0}]
[null,"Nose",{"$f":"COUNTIFS('WHS Event Log'!$C$3:$C$502,C$101,'WHS Event Log'!$P$3:$P$502,StagingTables!$B124)","v":0},{"$f":"COUNTIFS('WHS Event Log'!$C$3:$C$502,D$101,'WHS Event Log'!$P$3:$P$502,StagingTables!$B124)","v":0},{"$f":"COUNTIFS('WHS Event Log'!$C$3:$C$502,E$101,'WHS Event Log'!$P$3:$P$502,StagingTables!$B124)","v":0},{"$f":"COUNTIFS('WHS Event Log'!$C$3:$C$502,F$101,'WHS Event Log'!$P$3:$P$502,StagingTables!$B124)","v":0},{"$f":"COUNTIFS('WHS Event Log'!$C$3:$C$502,G$101,'WHS Event Log'!$P$3:$P$502,StagingTables!$B124)","v":0},{"$f":"COUNTIFS('WHS Event Log'!$C$3:$C$502,H$101,'WHS Event Log'!$P$3:$P$502,StagingTables!$B124)","v":0},{"$f":"COUNTIFS('WHS Event Log'!$C$3:$C$502,I$101,'WHS Event Log'!$P$3:$P$502,StagingTables!$B124)","v":0},{"$f":"COUNTIFS('WHS Event Log'!$C$3:$C$502,J$101,'WHS Event Log'!$P$3:$P$502,StagingTables!$B124)","v":0},{"$f":"COUNTIFS('WHS Event Log'!$C$3:$C$502,K$101,'WHS Event Log'!$P$3:$P$502,StagingTables!$B124)","v":0},{"$f":"COUNTIFS('WHS Event Log'!$C$3:$C$502,L$101,'WHS Event Log'!$P$3:$P$502,StagingTables!$B124)","v":0},{"$f":"COUNTIFS('WHS Event Log'!$C$3:$C$502,M$101,'WHS Event Log'!$P$3:$P$502,StagingTables!$B124)","v":0},0,{"$f":"COUNTIFS('WHS Event Log'!$P$3:$P$502,$B124,'WHS Event Log'!$S$3:$S$502,Lists!$E$3)","v":0}]
[null,"Scalp",{"$f":"COUNTIFS('WHS Event Log'!$C$3:$C$502,C$101,'WHS Event Log'!$P$3:$P$502,StagingTables!$B125)","v":0},{"$f":"COUNTIFS('WHS Event Log'!$C$3:$C$502,D$101,'WHS Event Log'!$P$3:$P$502,StagingTables!$B125)","v":0},{"$f":"COUNTIFS('WHS Event Log'!$C$3:$C$502,E$101,'WHS Event Log'!$P$3:$P$502,StagingTables!$B125)","v":0},{"$f":"COUNTIFS('WHS Event Log'!$C$3:$C$502,F$101,'WHS Event Log'!$P$3:$P$502,StagingTables!$B125)","v":0},{"$f":"COUNTIFS('WHS Event Log'!$C$3:$C$502,G$101,'WHS Event Log'!$P$3:$P$502,StagingTables!$B125)","v":0},{"$f":"COUNTIFS('WHS Event Log'!$C$3:$C$502,H$101,'WHS Event Log'!$P$3:$P$502,StagingTables!$B125)","v":0},{"$f":"COUNTIFS('WHS Event Log'!$C$3:$C$502,I$101,'WHS Event Log'!$P$3:$P$502,StagingTables!$B125)","v":0},{"$f":"COUNTIFS('WHS Event Log'!$C$3:$C$502,J$101,'WHS Event Log'!$P$3:$P$502,StagingTables!$B125)","v":0},{"$f":"COUNTIFS('WHS Event Log'!$C$3:$C$502,K$101,'WHS Event Log'!$P$3:$P$502,StagingTables!$B125)","v":0},{"$f":"COUNTIFS('WHS Event Log'!$C$3:$C$502,L$101,'WHS Event Log'!$P$3:$P$502,StagingTables!$B125)","v":0},{"$f":"COUNTIFS('WHS Event Log'!$C$3:$C$502,M$101,'WHS Event Log'!$P$3:$P$502,StagingTables!$B125)","v":0},0,{"$f":"COUNTIFS('WHS Event Log'!$P$3:$P$502,$B125,'WHS Event Log'!$S$3:$S$502,Lists!$E$3)","v":0}]
[null,"Shoulder",{"$f":"COUNTIFS('WHS Event Log'!$C$3:$C$502,C$101,'WHS Event Log'!$P$3:$P$502,StagingTables!$B126)","v":0},{"$f":"COUNTIFS('WHS Event Log'!$C$3:$C$502,D$101,'WHS Event Log'!$P$3:$P$502,StagingTables!$B126)","v":0},{"$f":"COUNTIFS('WHS Event Log'!$C$3:$C$502,E$101,'WHS Event Log'!$P$3:$P$502,StagingTables!$B126)","v":0},{"$f":"COUNTIFS('WHS Event Log'!$C$3:$C$502,F$101,'WHS Event Log'!$P$3:$P$502,StagingTables!$B126)","v":0},{"$f":"COUNTIFS('WHS Event Log'!$C$3:$C$502,G$101,'WHS Event Log'!$P$3:$P$502,StagingTables!$B126)","v":0},{"$f":"COUNTIFS('WHS Event Log'!$C$3:$C$502,H$101,'WHS Event Log'!$P$3:$P$502,StagingTables!$B126)","v":0},{"$f":"COUNTIFS('WHS Event Log'!$C$3:$C$502,I$101,'WHS Event Log'!$P$3:$P$502,StagingTables!$B126)","v":0},{"$f":"COUNTIFS('WHS Event Log'!$C$3:$C$502,J$101,'WHS Event Log'!$P$3:$P$502,StagingTables!$B126)","v":0},{"$f":"COUNTIFS('WHS Event Log'!$C$3:$C$502,K$101,'WHS Event Log'!$P$3:$P$502,StagingTables!$B126)","v":0},{"$f":"COUNTIFS('WHS Event Log'!$C$3:$C$502,L$101,'WHS Event Log'!$P$3:$P$502,StagingTables!$B126)","v":0},{"$f":"COUNTIFS('WHS Event Log'!$C$3:$C$502,M$101,'WHS Event Log'!$P$3:$P$502,StagingTables!$B126)","v":0},0,{"$f":"COUNTIFS('WHS Event Log'!$P$3:$P$502,$B126,'WHS Event Log'!$S$3:$S$502,Lists!$E$3)","v":0}]
[null,"Throat",{"$f":"COUNTIFS('WHS Event Log'!$C$3:$C$502,C$101,'WHS Event Log'!$P$3:$P$502,StagingTables!$B127)","v":0},{"$f":"COUNTIFS('WHS Event Log'!$C$3:$C$502,D$101,'WHS Event Log'!$P$3:$P$502,StagingTables!$B127)","v":0},{"$f":"COUNTIFS('WHS Event Log'!$C$3:$C$502,E$101,'WHS Event Log'!$P$3:$P$502,StagingTables!$B127)","v":0},{"$f":"COUNTIFS('WHS Event Log'!$C$3:$C$502,F$101,'WHS Event Log'!$P$3:$P$502,StagingTables!$B127)","v":0},{"$f":"COUNTIFS('WHS Event Log'!$C$3:$C$502,G$101,'WHS Event Log'!$P$3:$P$502,StagingTables!$B127)","v":0},{"$f":"COUNTIFS('WHS Event Log'!$C$3:$C$502,H$101,'WHS Event Log'!$P$3:$P$502,StagingTables!$B127)","v":0},{"$f":"COUNTIFS('WHS Event Log'!$C$3:$C$502,I$101,'WHS Event Log'!$P$3:$P$502,StagingTables!$B127)","v":0},{"$f":"COUNTIFS('WHS Event Log'!$C$3:$C$502,J$101,'WHS Event Log'!$P$3:$P$502,StagingTables!$B127)","v":0},{"$f":"COUNTIFS('WHS Event Log'!$C$3:$C$502,K$101,'WHS Event Log'!$P$3:$P$502,StagingTables!$B127)","v":0},{"$f":"COUNTIFS('WHS Event Log'!$C$3:$C$502,L$101,'WHS Event Log'!$P$3:$P$502,StagingTables!$B127)","v":0},{"$f":"COUNTIFS('WHS Event Log'!$C$3:$C$502,M$101,'WHS Event Log'!$P$3:$P$502,StagingTables!$B127)","v":0},0,{"$f":"COUNTIFS('WHS Event Log'!$P$3:$P$502,$B127,'WHS Event Log'!$S$3:$S$502,Lists!$E$3)","v":0}]
[null,"Toe",{"$f":"COUNTIFS('WHS Event Log'!$C$3:$C$502,C$101,'WHS Event Log'!$P$3:$P$502,StagingTables!$B128)","v":0},{"$f":"COUNTIFS('WHS Event Log'!$C$3:$C$502,D$101,'WHS Event Log'!$P$3:$P$502,StagingTables!$B128)","v":0},{"$f":"COUNTIFS('WHS Event Log'!$C$3:$C$502,E$101,'WHS Event Log'!$P$3:$P$502,StagingTables!$B128)","v":0},{"$f":"COUNTIFS('WHS Event Log'!$C$3:$C$502,F$101,'WHS Event Log'!$P$3:$P$502,StagingTables!$B128)","v":0},{"$f":"COUNTIFS('WHS Event Log'!$C$3:$C$502,G$101,'WHS Event Log'!$P$3:$P$502,StagingTables!$B128)","v":0},{"$f":"COUNTIFS('WHS Event Log'!$C$3:$C$502,H$101,'WHS Event Log'!$P$3:$P$502,StagingTables!$B128)","v":0},{"$f":"COUNTIFS('WHS Event Log'!$C$3:$C$502,I$101,'WHS Event Log'!$P$3:$P$502,StagingTables!$B128)","v":0},{"$f":"COUNTIFS('WHS Event Log'!$C$3:$C$502,J$101,'WHS Event Log'!$P$3:$P$502,StagingTables!$B128)","v":0},{"$f":"COUNTIFS('WHS Event Log'!$C$3:$C$502,K$101,'WHS Event Log'!$P$3:$P$502,StagingTables!$B128)","v":0},{"$f":"COUNTIFS('WHS Event Log'!$C$3:$C$502,L$101,'WHS Event Log'!$P$3:$P$502,StagingTables!$B128)","v":0},{"$f":"COUNTIFS('WHS Event Log'!$C$3:$C$502,M$101,'WHS Event Log'!$P$3:$P$502,StagingTables!$B128)","v":0},0,{"$f":"COUNTIFS('WHS Event Log'!$P$3:$P$502,$B128,'WHS Event Log'!$S$3:$S$502,Lists!$E$3)","v":0}]
[null,"Upper Arm",{"$f":"COUNTIFS('WHS Event Log'!$C$3:$C$502,C$101,'WHS Event Log'!$P$3:$P$502,StagingTables!$B129)","v":0},{"$f":"COUNTIFS('WHS Event Log'!$C$3:$C$502,D$101,'WHS Event Log'!$P$3:$P$502,StagingTables!$B129)","v":0},{"$f":"COUNTIFS('WHS Event Log'!$C$3:$C$502,E$101,'WHS Event Log'!$P$3:$P$502,StagingTables!$B129)","v":0},{"$f":"COUNTIFS('WHS Event Log'!$C$3:$C$502,F$101,'WHS Event Log'!$P$3:$P$502,StagingTables!$B129)","v":0},{"$f":"COUNTIFS('WHS Event Log'!$C$3:$C$502,G$101,'WHS Event Log'!$P$3:$P$502,StagingTables!$B129)","v":0},{"$f":"COUNTIFS('WHS Event Log'!$C$3:$C$502,H$101,'WHS Event Log'!$P$3:$P$502,StagingTables!$B129)","v":0},{"$f":"COUNTIFS('WHS Event Log'!$C$3:$C$502,I$101,'WHS Event Log'!$P$3:$P$502,StagingTables!$B129)","v":0},{"$f":"COUNTIFS('WHS Event Log'!$C$3:$C$502,J$101,'WHS Event Log'!$P$3:$P$502,StagingTables!$B129)","v":0},{"$f":"COUNTIFS('WHS Event Log'!$C$3:$C$502,K$101,'WHS Event Log'!$P$3:$P$502,StagingTables!$B129)","v":0},{"$f":"COUNTIFS('WHS Event Log'!$C$3:$C$502,L$101,'WHS Event Log'!$P$3:$P$502,StagingTables!$B129)","v":0},{"$f":"COUNTIFS('WHS Event Log'!$C$3:$C$502,M$101,'WHS Event Log'!$P$3:$P$502,StagingTables!$B129)","v":0},0,{"$f":"COUNTIFS('WHS Event Log'!$P$3:$P$502,$B129,'WHS Event Log'!$S$3:$S$502,Lists!$E$3)","v":0}]
[null,"Upper Back",{"$f":"COUNTIFS('WHS Event Log'!$C$3:$C$502,C$101,'WHS Event Log'!$P$3:$P$502,StagingTables!$B130)","v":0},{"$f":"COUNTIFS('WHS Event Log'!$C$3:$C$502,D$101,'WHS Event Log'!$P$3:$P$502,StagingTables!$B130)","v":0},{"$f":"COUNTIFS('WHS Event Log'!$C$3:$C$502,E$101,'WHS Event Log'!$P$3:$P$502,StagingTables!$B130)","v":0},{"$f":"COUNTIFS('WHS Event Log'!$C$3:$C$502,F$101,'WHS Event Log'!$P$3:$P$502,StagingTables!$B130)","v":0},{"$f":"COUNTIFS('WHS Event Log'!$C$3:$C$502,G$101,'WHS Event Log'!$P$3:$P$502,StagingTables!$B130)","v":0},{"$f":"COUNTIFS('WHS Event Log'!$C$3:$C$502,H$101,'WHS Event Log'!$P$3:$P$502,StagingTables!$B130)","v":0},{"$f":"COUNTIFS('WHS Event Log'!$C$3:$C$502,I$101,'WHS Event Log'!$P$3:$P$502,StagingTables!$B130)","v":0},{"$f":"COUNTIFS('WHS Event Log'!$C$3:$C$502,J$101,'WHS Event Log'!$P$3:$P$502,StagingTables!$B130)","v":0},{"$f":"COUNTIFS('WHS Event Log'!$C$3:$C$502,K$101,'WHS Event Log'!$P$3:$P$502,StagingTables!$B130)","v":0},{"$f":"COUNTIFS('WHS Event Log'!$C$3:$C$502,L$101,'WHS Event Log'!$P$3:$P$502,StagingTables!$B130)","v":0},{"$f":"COUNTIFS('WHS Event Log'!$C$3:$C$502,M$101,'WHS Event Log'!$P$3:$P$502,StagingTables!$B130)","v":0},0,{"$f":"COUNTIFS('WHS Event Log'!$P$3:$P$502,$B130,'WHS Event Log'!$S$3:$S$502,Lists!$E$3)","v":0}]
[null,"Upper Leg",{"$f":"COUNTIFS('WHS Event Log'!$C$3:$C$502,C$101,'WHS Event Log'!$P$3:$P$502,StagingTables!$B131)","v":0},{"$f":"COUNTIFS('WHS Event Log'!$C$3:$C$502,D$101,'WHS Event Log'!$P$3:$P$502,StagingTables!$B131)","v":0},{"$f":"COUNTIFS('WHS Event Log'!$C$3:$C$502,E$101,'WHS Event Log'!$P$3:$P$502,StagingTables!$B131)","v":0},{"$f":"COUNTIFS('WHS Event Log'!$C$3:$C$502,F$101,'WHS Event Log'!$P$3:$P$502,StagingTables!$B131)","v":0},{"$f":"COUNTIFS('WHS Event Log'!$C$3:$C$502,G$101,'WHS Event Log'!$P$3:$P$502,StagingTables!$B131)","v":0},{"$f":"COUNTIFS('WHS Event Log'!$C$3:$C$502,H$101,'WHS Event Log'!$P$3:$P$502,StagingTables!$B131)","v":0},{"$f":"COUNTIFS('WHS Event Log'!$C$3:$C$502,I$101,'WHS Event Log'!$P$3:$P$502,StagingTables!$B131)","v":0},{"$f":"COUNTIFS('WHS Event Log'!$C$3:$C$502,J$101,'WHS Event Log'!$P$3:$P$502,StagingTables!$B131)","v":0},{"$f":"COUNTIFS('WHS Event Log'!$C$3:$C$502,K$101,'WHS Event Log'!$P$3:$P$502,StagingTables!$B131)","v":0},{"$f":"COUNTIFS('WHS Event Log'!$C$3:$C$502,L$101,'WHS Event Log'!$P$3:$P$502,StagingTables!$B131)","v":0},{"$f":"COUNTIFS('WHS Event Log'!$C$3:$C$502,M$101,'WHS Event Log'!$P$3:$P$502,StagingTables!$B131)","v":0},0,{"$f":"COUNTIFS('WHS Event Log'!$P$3:$P$502,$B131,'WHS Event Log'!$S$3:$S$502,Lists!$E$3)","v":0}]
[null,"Wrist",{"$f":"COUNTIFS('WHS Event Log'!$C$3:$C$502,C$101,'WHS Event Log'!$P$3:$P$502,StagingTables!$B132)","v":0},{"$f":"COUNTIFS('WHS Event Log'!$C$3:$C$502,D$101,'WHS Event Log'!$P$3:$P$502,StagingTables!$B132)","v":0},{"$f":"COUNTIFS('WHS Event Log'!$C$3:$C$502,E$101,'WHS Event Log'!$P$3:$P$502,StagingTables!$B132)","v":0},{"$f":"COUNTIFS('WHS Event Log'!$C$3:$C$502,F$101,'WHS Event Log'!$P$3:$P$502,StagingTables!$B132)","v":0},{"$f":"COUNTIFS('WHS Event Log'!$C$3:$C$502,G$101,'WHS Event Log'!$P$3:$P$502,StagingTables!$B132)","v":0},{"$f":"COUNTIFS('WHS Event Log'!$C$3:$C$502,H$101,'WHS Event Log'!$P$3:$P$502,StagingTables!$B132)","v":0},{"$f":"COUNTIFS('WHS Event Log'!$C$3:$C$502,I$101,'WHS Event Log'!$P$3:$P$502,StagingTables!$B132)","v":0},{"$f":"COUNTIFS('WHS Event Log'!$C$3:$C$502,J$101,'WHS Event Log'!$P$3:$P$502,StagingTables!$B132)","v":0},{"$f":"COUNTIFS('WHS Event Log'!$C$3:$C$502,K$101,'WHS Event Log'!$P$3:$P$502,StagingTables!$B132)","v":0},{"$f":"COUNTIFS('WHS Event Log'!$C$3:$C$502,L$101,'WHS Event Log'!$P$3:$P$502,StagingTables!$B132)","v":0},{"$f":"COUNTIFS('WHS Event Log'!$C$3:$C$502,M$101,'WHS Event Log'!$P$3:$P$502,StagingTables!$B132)","v":0},0,{"$f":"COUNTIFS('WHS Event Log'!$P$3:$P$502,$B132,'WHS Event Log'!$S$3:$S$502,Lists!$E$3)","v":0}]
[null,"Unspecified",{"$f":"COUNTIFS('WHS Event Log'!$C$3:$C$502,C$101,'WHS Event Log'!$P$3:$P$502,StagingTables!$B133)","v":0},{"$f":"COUNTIFS('WHS Event Log'!$C$3:$C$502,D$101,'WHS Event Log'!$P$3:$P$502,StagingTables!$B133)","v":0},{"$f":"COUNTIFS('WHS Event Log'!$C$3:$C$502,E$101,'WHS Event Log'!$P$3:$P$502,StagingTables!$B133)","v":0},{"$f":"COUNTIFS('WHS Event Log'!$C$3:$C$502,F$101,'WHS Event Log'!$P$3:$P$502,StagingTables!$B133)","v":0},{"$f":"COUNTIFS('WHS Event Log'!$C$3:$C$502,G$101,'WHS Event Log'!$P$3:$P$502,StagingTables!$B133)","v":0},{"$f":"COUNTIFS('WHS Event Log'!$C$3:$C$502,H$101,'WHS Event Log'!$P$3:$P$502,StagingTables!$B133)","v":0},{"$f":"COUNTIFS('WHS Event Log'!$C$3:$C$502,I$101,'WHS Event Log'!$P$3:$P$502,StagingTables!$B133)","v":0},{"$f":"COUNTIFS('WHS Event Log'!$C$3:$C$502,J$101,'WHS Event Log'!$P$3:$P$502,StagingTables!$B133)","v":0},{"$f":"COUNTIFS('WHS Event Log'!$C$3:$C$502,K$101,'WHS Event Log'!$P$3:$P$502,StagingTables!$B133)","v":0},{"$f":"COUNTIFS('WHS Event Log'!$C$3:$C$502,L$101,'WHS Event Log'!$P$3:$P$502,StagingTables!$B133)","v":0},{"$f":"COUNTIFS('WHS Event Log'!$C$3:$C$502,M$101,'WHS Event Log'!$P$3:$P$502,StagingTables!$B133)","v":0},0,{"$f":"COUNTIFS('WHS Event Log'!$P$3:$P$502,$B133,'WHS Event Log'!$S$3:$S$502,Lists!$E$3)","v":0}]
[null,"Other",{"$f":"COUNTIFS('WHS Event Log'!$C$3:$C$502,C$101,'WHS Event Log'!$P$3:$P$502,StagingTables!$B134)","v":0},{"$f":"COUNTIFS('WHS Event Log'!$C$3:$C$502,D$101,'WHS Event Log'!$P$3:$P$502,StagingTables!$B134)","v":0},{"$f":"COUNTIFS('WHS Event Log'!$C$3:$C$502,E$101,'WHS Event Log'!$P$3:$P$502,StagingTables!$B134)","v":0},{"$f":"COUNTIFS('WHS Event Log'!$C$3:$C$502,F$101,'WHS Event Log'!$P$3:$P$502,StagingTables!$B134)","v":0},{"$f":"COUNTIFS('WHS Event Log'!$C$3:$C$502,G$101,'WHS Event Log'!$P$3:$P$502,StagingTables!$B134)","v":0},{"$f":"COUNTIFS('WHS Event Log'!$C$3:$C$502,H$101,'WHS Event Log'!$P$3:$P$502,StagingTables!$B134)","v":0},{"$f":"COUNTIFS('WHS Event Log'!$C$3:$C$502,I$101,'WHS Event Log'!$P$3:$P$502,StagingTables!$B134)","v":0},{"$f":"COUNTIFS('WHS Event Log'!$C$3:$C$502,J$101,'WHS Event Log'!$P$3:$P$502,StagingTables!$B134)","v":0},{"$f":"COUNTIFS('WHS Event Log'!$C$3:$C$502,K$101,'WHS Event Log'!$P$3:$P$502,StagingTables!$B134)","v":0},{"$f":"COUNTIFS('WHS Event Log'!$C$3:$C$502,L$101,'WHS Event Log'!$P$3:$P$502,StagingTables!$B134)","v":0},{"$f":"COUNTIFS('WHS Event Log'!$C$3:$C$502,M$101,'WHS Event Log'!$P$3:$P$502,StagingTables!$B134)","v":0},0,{"$f":"COUNTIFS('WHS Event Log'!$P$3:$P$502,$B134,'WHS Event Log'!$S$3:$S$502,Lists!$E$3)","v":0}]
[null,null,{"$f":"SUM(C102:C134)","v":0},0,0,0,0,0,0,0,0,0,0,0,{"$f":"SUM(O103:O134)","v":0}]
[]
[]
[null,"Injury Sustained Month","January","February","March","April","May","June","July","August","September","October","November","December","Total","Claim"]
[null,"Abdomen",{"$f":"COUNTIFS('WHS Event Log'!$E$3:$E$502,C$138,'WHS Event Log'!$P$3:$P$502,StagingTables!$B139)","v":0},{"$f":"COUNTIFS('WHS Event Log'!$E$3:$E$502,D$138,'WHS Event Log'!$P$3:$P$502,StagingTables!$B139)","v":0},{"$f":"COUNTIFS('WHS Event Log'!$E$3:$E$502,E$138,'WHS Event Log'!$P$3:$P$502,StagingTables!$B139)","v":0},{"$f":"COUNTIFS('WHS Event Log'!$E$3:$E$502,F$138,'WHS Event Log'!$P$3:$P$502,StagingTables!$B139)","v":0},{"$f":"COUNTIFS('WHS Event Log'!$E$3:$E$502,G$138,'WHS Event Log'!$P$3:$P$502,StagingTables!$B139)","v":0},{"$f":"COUNTIFS('WHS Event Log'!$E$3:$E$502,H$138,'WHS Event Log'!$P$3:$P$502,StagingTables!$B139)","v":0},{"$f":"COUNTIFS('WHS Event Log'!$E$3:$E$502,I$138,'WHS Event Log'!$P$3:$P$502,StagingTables!$B139)","v":0},{"$f":"COUNTIFS('WHS Event Log'!$E$3:$E$502,J$138,'WHS Event Log'!$P$3:$P$502,StagingTables!$B139)","v":0},{"$f":"COUNTIFS('WHS Event Log'!$E$3:$E$502,K$138,'WHS Event Log'!$P$3:$P$502,StagingTables!$B139)","v":0},{"$f":"COUNTIFS('WHS Event Log'!$E$3:$E$502,L$138,'WHS Event Log'!$P$3:$P$502,StagingTables!$B139)","v":0},{"$f":"COUNTIFS('WHS Event Log'!$E$3:$E$502,M$138,'WHS Event Log'!$P$3:$P$502,StagingTables!$B139)","v":0},{"$f":"COUNTIFS('WHS Event Log'!$E$3:$E$502,N$138,'WHS Event Log'!$P$3:$P$502,StagingTables!$B139)","v":0},{"$f":"SUM(C139:N139)","v":0},{"$f":"COUNTIFS('WHS Event Log'!$P$3:$P$502,$B139,'WHS Event Log'!$S$3:$S$502,Lists!$E$3)","v":0}]
[null,"Ankle",{"$f":"COUNTIFS('WHS Event Log'!$E$3:$E$502,C$138,'WHS Event Log'!$P$3:$P$502,StagingTables!$B140)","v":0},{"$f":"COUNTIFS('WHS Event Log'!$E$3:$E$502,D$138,'WHS Event Log'!$P$3:$P$502,StagingTables!$B140)","v":0},{"$f":"COUNTIFS('WHS Event Log'!$E$3:$E$502,E$138,'WHS Event Log'!$P$3:$P$502,StagingTables!$B140)","v":0},{"$f":"COUNTIFS('WHS Event Log'!$E$3:$E$502,F$138,'WHS Event Log'!$P$3:$P$502,StagingTables!$B140)","v":0},{"$f":"COUNTIFS('WHS Event Log'!$E$3:$E$502,G$138,'WHS Event Log'!$P$3:$P$502,StagingTables!$B140)","v":0},{"$f":"COUNTIFS('WHS Event Log'!$E$3:$E$502,H$138,'WHS Event Log'!$P$3:$P$502,StagingTables!$B140)","v":0},{"$f":"COUNTIFS('WHS Event Log'!$E$3:$E$502,I$138,'WHS Event Log'!$P$3:$P$502,StagingTables!$B140)","v":0},{"$f":"COUNTIFS('WHS Event Log'!$E$3:$E$502,J$138,'WHS Event Log'!$P$3:$P$502,StagingTables!$B140)","v":0},{"$f":"COUNTIFS('WHS Event Log'!$E$3:$E$502,K$138,'WHS Event Log'!$P$3:$P$502,StagingTables!$B140)","v":0},{"$f":"COUNTIFS('WHS Event Log'!$E$3:$E$502,L$138,'WHS Event Log'!$P$3:$P$502,StagingTables!$B140)","v":0},{"$f":"COUNTIFS('WHS Event Log'!$E$3:$E$502,M$138,'WHS Event Log'!$P$3:$P$502,StagingTables!$B140)","v":0},{"$f":"COUNTIFS('WHS Event Log'!$E$3:$E$502,N$138,'WHS Event Log'!$P$3:$P$502,StagingTables!$B140)","v":0},{"$f":"SUM(C140:N140)","v":0},{"$f":"COUNTIFS('WHS Event Log'!$P$3:$P$502,$B140,'WHS Event Log'!$S$3:$S$502,Lists!$E$3)","v":0}]
[null,"Buttock",{"$f":"COUNTIFS('WHS Event Log'!$E$3:$E$502,C$138,'WHS Event Log'!$P$3:$P$502,StagingTables!$B141)","v":0},{"$f":"COUNTIFS('WHS Event Log'!$E$3:$E$502,D$138,'WHS Event Log'!$P$3:$P$502,StagingTables!$B141)","v":0},{"$f":"COUNTIFS('WHS Event Log'!$E$3:$E$502,E$138,'WHS Event Log'!$P$3:$P$502,StagingTables!$B141)","v":0},{"$f":"COUNTIFS('WHS Event Log'!$E$3:$E$502,F$138,'WHS Event Log'!$P$3:$P$502,StagingTables!$B141)","v":0},{"$f":"COUNTIFS('WHS Event Log'!$E$3:$E$502,G$138,'WHS Event Log'!$P$3:$P$502,StagingTables!$B141)","v":0},{"$f":"COUNTIFS('WHS Event Log'!$E$3:$E$502,H$138,'WHS Event Log'!$P$3:$P$502,StagingTables!$B141)","v":0},{"$f":"COUNTIFS('WHS Event Log'!$E$3:$E$502,I$138,'WHS Event Log'!$P$3:$P$502,StagingTables!$B141)","v":0},{"$f":"COUNTIFS('WHS Event Log'!$E$3:$E$502,J$138,'WHS Event Log'!$P$3:$P$502,StagingTables!$B141)","v":0},{"$f":"COUNTIFS('WHS Event Log'!$E$3:$E$502,K$138,'WHS Event Log'!$P$3:$P$502,StagingTables!$B141)","v":0},{"$f":"COUNTIFS('WHS Event Log'!$E$3:$E$502,L$138,'WHS Event Log'!$P$3:$P$502,StagingTables!$B141)","v":0},{"$f":"COUNTIFS('WHS Event Log'!$E$3:$E$502,M$138,'WHS Event Log'!$P$3:$P$502,StagingTables!$B141)","v":0},{"$f":"COUNTIFS('WHS Event Log'!$E$3:$E$502,N$138,'WHS Event Log'!$P$3:$P$502,StagingTables!$B141)","v":0},0,{"$f":"COUNTIFS('WHS Event Log'!$P$3:$P$502,$B141,'WHS Event Log'!$S$3:$S$502,Lists!$E$3)","v":0}]
[null,"Chest",{"$f":"COUNTIFS('WHS Event Log'!$E$3:$E$502,C$138,'WHS Event Log'!$P$3:$P$502,StagingTables!$B142)","v":0},{"$f":"COUNTIFS('WHS Event Log'!$E$3:$E$502,D$138,'WHS Event Log'!$P$3:$P$502,StagingTables!$B142)","v":0},{"$f":"COUNTIFS('WHS Event Log'!$E$3:$E$502,E$138,'WHS Event Log'!$P$3:$P$502,StagingTables!$B142)","v":0},{"$f":"COUNTIFS('WHS Event Log'!$E$3:$E$502,F$138,'WHS Event Log'!$P$3:$P$502,StagingTables!$B142)","v":0},{"$f":"COUNTIFS('WHS Event Log'!$E$3:$E$502,G$138,'WHS Event Log'!$P$3:$P$502,StagingTables!$B142)","v":0},{"$f":"COUNTIFS('WHS Event Log'!$E$3:$E$502,H$138,'WHS Event Log'!$P$3:$P$502,StagingTables!$B142)","v":0},{"$f":"COUNTIFS('WHS Event Log'!$E$3:$E$502,I$138,'WHS Event Log'!$P$3:$P$502,StagingTables!$B142)","v":0},{"$f":"COUNTIFS('WHS Event Log'!$E$3:$E$502,J$138,'WHS Event Log'!$P$3:$P$502,StagingTables!$B142)","v":0},{"$f":"COUNTIFS('WHS Event Log'!$E$3:$E$502,K$138,'WHS Event Log'!$P$3:$P$502,StagingTables!$B142)","v":0},{"$f":"COUNTIFS('WHS Event Log'!$E$3:$E$502,L$138,'WHS Event Log'!$P$3:$P$502,StagingTables!$B142)","v":0},{"$f":"COUNTIFS('WHS Event Log'!$E$3:$E$502,M$138,'WHS Event Log'!$P$3:$P$502,StagingTables!$B142)","v":0},{"$f":"COUNTIFS('WHS Event Log'!$E$3:$E$502,N$138,'WHS Event Log'!$P$3:$P$502,StagingTables!$B142)","v":0},0,{"$f":"COUNTIFS('WHS Event Log'!$P$3:$P$502,$B142,'WHS Event Log'!$S$3:$S$502,Lists!$E$3)","v":0}]
[null,"Cognitive",{"$f":"COUNTIFS('WHS Event Log'!$E$3:$E$502,C$138,'WHS Event Log'!$P$3:$P$502,StagingTables!$B143)","v":0},{"$f":"COUNTIFS('WHS Event Log'!$E$3:$E$502,D$138,'WHS Event Log'!$P$3:$P$502,StagingTables!$B143)","v":0},{"$f":"COUNTIFS('WHS Event Log'!$E$3:$E$502,E$138,'WHS Event Log'!$P$3:$P$502,StagingTables!$B143)","v":0},{"$f":"COUNTIFS('WHS Event Log'!$E$3:$E$502,F$138,'WHS Event Log'!$P$3:$P$502,StagingTables!$B143)","v":0},{"$f":"COUNTIFS('WHS Event Log'!$E$3:$E$502,G$138,'WHS Event Log'!$P$3:$P$502,StagingTables!$B143)","v":0},{"$f":"COUNTIFS('WHS Event Log'!$E$3:$E$502,H$138,'WHS Event Log'!$P$3:$P$502,StagingTables!$B143)","v":0},{"$f":"COUNTIFS('WHS Event Log'!$E$3:$E$502,I$138,'WHS Event Log'!$P$3:$P$502,StagingTables!$B143)","v":0},{"$f":"COUNTIFS('WHS Event Log'!$E$3:$E$502,J$138,'WHS Event Log'!$P$3:$P$502,StagingTables!$B143)","v":0},{"$f":"COUNTIFS('WHS Event Log'!$E$3:$E$502,K$138,'WHS Event Log'!$P$3:$P$502,StagingTables!$B143)","v":0},{"$f":"COUNTIFS('WHS Event Log'!$E$3:$E$502,L$138,'WHS Event Log'!$P$3:$P$502,StagingTables!$B143)","v":0},{"$f":"COUNTIFS('WHS Event Log'!$E$3:$E$502,M$138,'WHS Event Log'!$P$3:$P$502,StagingTables!$B143)","v":0},{"$f":"COUNTIFS('WHS Event Log'!$E$3:$E$502,N$138,'WHS Event Log'!$P$3:$P$502,StagingTables!$B143)","v":0},0,{"$f":"COUNTIFS('WHS Event Log'!$P$3:$P$502,$B143,'WHS Event Log'!$S$3:$S$502,Lists!$E$3)","v":0}]
[null,"Ear",{"$f":"COUNTIFS('WHS Event Log'!$E$3:$E$502,C$138,'WHS Event Log'!$P$3:$P$502,StagingTables!$B144)","v":0},{"$f":"COUNTIFS('WHS Event Log'!$E$3:$E$502,D$138,'WHS Event Log'!$P$3:$P$502,StagingTables!$B144)","v":0},{"$f":"COUNTIFS('WHS Event Log'!$E$3:$E$502,E$138,'WHS Event Log'!$P$3:$P$502,StagingTables!$B144)","v":0},{"$f":"COUNTIFS('WHS Event Log'!$E$3:$E$502,F$138,'WHS Event Log'!$P$3:$P$502,StagingTables!$B144)","v":0},{"$f":"COUNTIFS('WHS Event Log'!$E$3:$E$502,G$138,'WHS Event Log'!$P$3:$P$502,StagingTables!$B144)","v":0},{"$f":"COUNTIFS('WHS Event Log'!$E$3:$E$502,H$138,'WHS Event Log'!$P$3:$P$502,StagingTables!$B144)","v":0},{"$f":"COUNTIFS('WHS Event Log'!$E$3:$E$502,I$138,'WHS Event Log'!$P$3:$P$502,StagingTables!$B144)","v":0},{"$f":"COUNTIFS('WHS Event Log'!$E$3:$E$502,J$138,'WHS Event Log'!$P$3:$P$502,StagingTables!$B144)","v":0},{"$f":"COUNTIFS('WHS Event Log'!$E$3:$E$502,K$138,'WHS Event Log'!$P$3:$P$502,StagingTables!$B144)","v":0},{"$f":"COUNTIFS('WHS Event Log'!$E$3:$E$502,L$138,'WHS Event Log'!$P$3:$P$502,StagingTables!$B144)","v":0},{"$f":"COUNTIFS('WHS Event Log'!$E$3:$E$502,M$138,'WHS Event Log'!$P$3:$P$502,StagingTables!$B144)","v":0},{"$f":"COUNTIFS('WHS Event Log'!$E$3:$E$502,N$138,'WHS Event Log'!$P$3:$P$502,StagingTables!$B144)","v":0},0,{"$f":"COUNTIFS('WHS Event Log'!$P$3:$P$502,$B144,'WHS Event Log'!$S$3:$S$502,Lists!$E$3)","v":0}]
[null,"Elbow",{"$f":"COUNTIFS('WHS Event Log'!$E$3:$E$502,C$138,'WHS Event Log'!$P$3:$P$502,StagingTables!$B145)","v":0},{"$f":"COUNTIFS('WHS Event Log'!$E$3:$E$502,D$138,'WHS Event Log'!$P$3:$P$502,StagingTables!$B145)","v":0},{"$f":"COUNTIFS('WHS Event Log'!$E$3:$E$502,E$138,'WHS Event Log'!$P$3:$P$502,StagingTables!$B145)","v":0},{"$f":"COUNTIFS('WHS Event Log'!$E$3:$E$502,F$138,'WHS Event Log'!$P$3:$P$502,StagingTables!$B145)","v":0},{"$f":"COUNTIFS('WHS Event Log'!$E$3:$E$502,G$138,'WHS Event Log'!$P$3:$P$502,StagingTables!$B145)","v":0},{"$f":"COUNTIFS('WHS Event Log'!$E$3:$E$502,H$138,'WHS Event Log'!$P$3:$P$502,StagingTables!$B145)","v":0},{"$f":"COUNTIFS('WHS Event Log'!$E$3:$E$502,I$138,'WHS Event Log'!$P$3:$P$502,StagingTables!$B145)","v":0},{"$f":"COUNTIFS('WHS Event Log'!$E$3:$E$502,J$138,'WHS Event Log'!$P$3:$P$502,StagingTables!$B145)","v":0},{"$f":"COUNTIFS('WHS Event Log'!$E$3:$E$502,K$138,'WHS Event Log'!$P$3:$P$502,StagingTables!$B145)","v":0},{"$f":"COUNTIFS('WHS Event Log'!$E$3:$E$502,L$138,'WHS Event Log'!$P$3:$P$502,StagingTables!$B145)","v":0},{"$f":"COUNTIFS('WHS Event Log'!$E$3:$E$502,M$138,'WHS Event Log'!$P$3:$P$502,StagingTables!$B145)","v":0},{"$f":"COUNTIFS('WHS Event Log'!$E$3:$E$502,N$138,'WHS Event Log'!$P$3:$P$502,StagingTables!$B145)","v":0},0,{"$f":"COUNTIFS('WHS Event Log'!$P$3:$P$502,$B145,'WHS Event Log'!$S$3:$S$502,Lists!$E$3)","v":0}]
[null,"Eye",{"$f":"COUNTIFS('WHS Event Log'!$E$3:$E$502,C$138,'WHS Event Log'!$P$3:$P$502,StagingTables!$B146)","v":0},{"$f":"COUNTIFS('WHS Event Log'!$E$3:$E$502,D$138,'WHS Event Log'!$P$3:$P$502,StagingTables!$B146)","v":0},{"$f":"COUNTIFS('WHS Event Log'!$E$3:$E$502,E$138,'WHS Event Log'!$P$3:$P$502,StagingTables!$B146)","v":0},{"$f":"COUNTIFS('WHS Event Log'!$E$3:$E$502,F$138,'WHS Event Log'!$P$3:$P$502,StagingTables!$B146)","v":0},{"$f":"COUNTIFS('WHS Event Log'!$E$3:$E$502,G$138,'WHS Event Log'!$P$3:$P$502,StagingTables!$B146)","v":0},{"$f":"COUNTIFS('WHS Event Log'!$E$3:$E$502,H$138,'WHS Event Log'!$P$3:$P$502,StagingTables!$B146)","v":0},{"$f":"COUNTIFS('WHS Event Log'!$E$3:$E$502,I$138,'WHS Event Log'!$P$3:$P$502,StagingTables!$B146)","v":0},{"$f":"COUNTIFS('WHS Event Log'!$E$3:$E$502,J$138,'WHS Event Log'!$P$3:$P$502,StagingTables!$B146)","v":0},{"$f":"COUNTIFS('WHS Event Log'!$E$3:$E$502,K$138,'WHS Event Log'!$P$3:$P$502,StagingTables!$B146)","v":0},{"$f":"COUNTIFS('WHS Event Log'!$E$3:$E$502,L$138,'WHS Event Log'!$P$3:$P$502,StagingTables!$B146)","v":0},{"$f":"COUNTIFS('WHS Event Log'!$E$3:$E$502,M$138,'WHS Event Log'!$P$3:$P$502,StagingTables!$B146)","v":0},{"$f":"COUNTIFS('WHS Event Log'!$E$3:$E$502,N$138,'WHS Event Log'!$P$3:$P$502,StagingTables!$B146)","v":0},0,{"$f":"COUNTIFS('WHS Event Log'!$P$3:$P$502,$B146,'WHS Event Log'!$S$3:$S$502,Lists!$E$3)","v":0}]
[null,"Face",{"$f":"COUNTIFS('WHS Event Log'!$E$3:$E$502,C$138,'WHS Event Log'!$P$3:$P$502,StagingTables!$B147)","v":0},{"$f":"COUNTIFS('WHS Event Log'!$E$3:$E$502,D$138,'WHS Event Log'!$P$3:$P$502,StagingTables!$B147)","v":0},{"$f":"COUNTIFS('WHS Event Log'!$E$3:$E$502,E$138,'WHS Event Log'!$P$3:$P$502,StagingTables!$B147)","v":0},{"$f":"COUNTIFS('WHS Event Log'!$E$3:$E$502,F$138,'WHS Event Log'!$P$3:$P$502,StagingTables!$B147)","v":0},{"$f":"COUNTIFS('WHS Event Log'!$E$3:$E$502,G$138,'WHS Event Log'!$P$3:$P$502,StagingTables!$B147)","v":0},{"$f":"COUNTIFS('WHS Event Log'!$E$3:$E$502,H$138,'WHS Event Log'!$P$3:$P$502,StagingTables!$B147)","v":0},{"$f":"COUNTIFS('WHS Event Log'!$E$3:$E$502,I$138,'WHS Event Log'!$P$3:$P$502,StagingTables!$B147)","v":0},{"$f":"COUNTIFS('WHS Event Log'!$E$3:$E$502,J$138,'WHS Event Log'!$P$3:$P$502,StagingTables!$B147)","v":0},{"$f":"COUNTIFS('WHS Event Log'!$E$3:$E$502,K$138,'WHS Event Log'!$P$3:$P$502,StagingTables!$B147)","v":0},{"$f":"COUNTIFS('WHS Event Log'!$E$3:$E$502,L$138,'WHS Event Log'!$P$3:$P$502,StagingTables!$B147)","v":0},{"$f":"COUNTIFS('WHS Event Log'!$E$3:$E$502,M$138,'WHS Event Log'!$P$3:$P$502,StagingTables!$B147)","v":0},{"$f":"COUNTIFS('WHS Event Log'!$E$3:$E$502,N$138,'WHS Event Log'!$P$3:$P$502,StagingTables!$B147)","v":0},0,{"$f":"COUNTIFS('WHS Event Log'!$P$3:$P$502,$B147,'WHS Event Log'!$S$3:$S$502,Lists!$E$3)","v":0}]
[null,"Finger",{"$f":"COUNTIFS('WHS Event Log'!$E$3:$E$502,C$138,'WHS Event Log'!$P$3:$P$502,StagingTables!$B148)","v":0},{"$f":"COUNTIFS('WHS Event Log'!$E$3:$E$502,D$138,'WHS Event Log'!$P$3:$P$502,StagingTables!$B148)","v":0},{"$f":"COUNTIFS('WHS Event Log'!$E$3:$E$502,E$138,'WHS Event Log'!$P$3:$P$502,StagingTables!$B148)","v":0},{"$f":"COUNTIFS('WHS Event Log'!$E$3:$E$502,F$138,'WHS Event Log'!$P$3:$P$502,StagingTables!$B148)","v":0},{"$f":"COUNTIFS('WHS Event Log'!$E$3:$E$502,G$138,'WHS Event Log'!$P$3:$P$502,StagingTables!$B148)","v":0},{"$f":"COUNTIFS('WHS Event Log'!$E$3:$E$502,H$138,'WHS Event Log'!$P$3:$P$502,StagingTables!$B148)","v":0},{"$f":"COUNTIFS('WHS Event Log'!$E$3:$E$502,I$138,'WHS Event Log'!$P$3:$P$502,StagingTables!$B148)","v":0},{"$f":"COUNTIFS('WHS Event Log'!$E$3:$E$502,J$138,'WHS Event Log'!$P$3:$P$502,StagingTables!$B148)","v":0},{"$f":"COUNTIFS('WHS Event Log'!$E$3:$E$502,K$138,'WHS Event Log'!$P$3:$P$502,StagingTables!$B148)","v":0},{"$f":"COUNTIFS('WHS Event Log'!$E$3:$E$502,L$138,'WHS Event Log'!$P$3:$P$502,StagingTables!$B148)","v":0},{"$f":"COUNTIFS('WHS Event Log'!$E$3:$E$502,M$138,'WHS Event Log'!$P$3:$P$502,StagingTables!$B148)","v":0},{"$f":"COUNTIFS('WHS Event Log'!$E$3:$E$502,N$138,'WHS Event Log'!$P$3:$P$502,StagingTables!$B148)","v":0},0,{"$f":"COUNTIFS('WHS Event Log'!$P$3:$P$502,$B148,'WHS Event Log'!$S$3:$S$502,Lists!$E$3)","v":0}]
[null,"Foot",{"$f":"COUNTIFS('WHS Event Log'!$E$3:$E$502,C$138,'WHS Event Log'!$P$3:$P$502,StagingTables!$B149)","v":0},{"$f":"COUNTIFS('WHS Event Log'!$E$3:$E$502,D$138,'WHS Event Log'!$P$3:$P$502,StagingTables!$B149)","v":0},{"$f":"COUNTIFS('WHS Event Log'!$E$3:$E$502,E$138,'WHS Event Log'!$P$3:$P$502,StagingTables!$B149)","v":0},{"$f":"COUNTIFS('WHS Event Log'!$E$3:$E$502,F$138,'WHS Event Log'!$P$3:$P$502,StagingTables!$B149)","v":0},{"$f":"COUNTIFS('WHS Event Log'!$E$3:$E$502,G$138,'WHS Event Log'!$P$3:$P$502,StagingTables!$B149)","v":0},{"$f":"COUNTIFS('WHS Event Log'!$E$3:$E$502,H$138,'WHS Event Log'!$P$3:$P$502,StagingTables!$B149)","v":0},{"$f":"COUNTIFS('WHS Event Log'!$E$3:$E$502,I$138,'WHS Event Log'!$P$3:$P$502,StagingTables!$B149)","v":0},{"$f":"COUNTIFS('WHS Event Log'!$E$3:$E$502,J$138,'WHS Event Log'!$P$3:$P$502,StagingTables!$B149)","v":0},{"$f":"COUNTIFS('WHS Event Log'!$E$3:$E$502,K$138,'WHS Event Log'!$P$3:$P$502,StagingTables!$B149)","v":0},{"$f":"COUNTIFS('WHS Event Log'!$E$3:$E$502,L$138,'WHS Event Log'!$P$3:$P$502,StagingTables!$B149)","v":0},{"$f":"COUNTIFS('WHS Event Log'!$E$3:$E$502,M$138,'WHS Event Log'!$P$3:$P$502,StagingTables!$B149)","v":0},{"$f":"COUNTIFS('WHS Event Log'!$E$3:$E$502,N$138,'WHS Event Log'!$P$3:$P$502,StagingTables!$B149)","v":0},0,{"$f":"COUNTIFS('WHS Event Log'!$P$3:$P$502,$B149,'WHS Event Log'!$S$3:$S$502,Lists!$E$3)","v":0}]
[null,"Groin",{"$f":"COUNTIFS('WHS Event Log'!$E$3:$E$502,C$138,'WHS Event Log'!$P$3:$P$502,StagingTables!$B150)","v":0},{"$f":"COUNTIFS('WHS Event Log'!$E$3:$E$502,D$138,'WHS Event Log'!$P$3:$P$502,StagingTables!$B150)","v":0},{"$f":"COUNTIFS('WHS Event Log'!$E$3:$E$502,E$138,'WHS Event Log'!$P$3:$P$502,StagingTables!$B150)","v":0},{"$f":"COUNTIFS('WHS Event Log'!$E$3:$E$502,F$138,'WHS Event Log'!$P$3:$P$502,StagingTables!$B150)","v":0},{"$f":"COUNTIFS('WHS Event Log'!$E$3:$E$502,G$138,'WHS Event Log'!$P$3:$P$502,StagingTables!$B150)","v":0},{"$f":"COUNTIFS('WHS Event Log'!$E$3:$E$502,H$138,'WHS Event Log'!$P$3:$P$502,StagingTables!$B150)","v":0},{"$f":"COUNTIFS('WHS Event Log'!$E$3:$E$502,I$138,'WHS Event Log'!$P$3:$P$502,StagingTables!$B150)","v":0},{"$f":"COUNTIFS('WHS Event Log'!$E$3:$E$502,J$138,'WHS Event Log'!$P$3:$P$502,StagingTables!$B150)","v":0},{"$f":"COUNTIFS('WHS Event Log'!$E$3:$E$502,K$138,'WHS Event Log'!$P$3:$P$502,StagingTables!$B150)","v":0},{"$f":"COUNTIFS('WHS Event Log'!$E$3:$E$502,L$138,'WHS Event Log'!$P$3:$P$502,StagingTables!$B150)","v":0},{"$f":"COUNTIFS('WHS Event Log'!$E$3:$E$502,M$138,'WHS Event Log'!$P$3:$P$502,StagingTables!$B150)","v":0},{"$f":"COUNTIFS('WHS Event Log'!$E$3:$E$502,N$138,'WHS Event Log'!$P$3:$P$502,StagingTables!$B150)","v":0},0,{"$f":"COUNTIFS('WHS Event Log'!$P$3:$P$502,$B150,'WHS Event Log'!$S$3:$S$502,Lists!$E$3)","v":0}]
[null,"Hand",{"$f":"COUNTIFS('WHS Event Log'!$E$3:$E$502,C$138,'WHS Event Log'!$P$3:$P$502,StagingTables!$B151)","v":0},{"$f":"COUNTIFS('WHS Event Log'!$E$3:$E$502,D$138,'WHS Event Log'!$P$3:$P$502,StagingTables!$B151)","v":0},{"$f":"COUNTIFS('WHS Event Log'!$E$3:$E$502,E$138,'WHS Event Log'!$P$3:$P$502,StagingTables!$B151)","v":0},{"$f":"COUNTIFS('WHS Event Log'!$E$3:$E$502,F$138,'WHS Event Log'!$P$3:$P$502,StagingTables!$B151)","v":0},{"$f":"COUNTIFS('WHS Event Log'!$E$3:$E$502,G$138,'WHS Event Log'!$P$3:$P$502,StagingTables!$B151)","v":0},{"$f":"COUNTIFS('WHS Event Log'!$E$3:$E$502,H$138,'WHS Event Log'!$P$3:$P$502,StagingTables!$B151)","v":0},{"$f":"COUNTIFS('WHS Event Log'!$E$3:$E$502,I$138,'WHS Event Log'!$P$3:$P$502,StagingTables!$B151)","v":0},{"$f":"COUNTIFS('WHS Event Log'!$E$3:$E$502,J$138,'WHS Event Log'!$P$3:$P$502,StagingTables!$B151)","v":0},{"$f":"COUNTIFS('WHS Event Log'!$E$3:$E$502,K$138,'WHS Event Log'!$P$3:$P$502,StagingTables!$B151)","v":0},{"$f":"COUNTIFS('WHS Event Log'!$E$3:$E$502,L$138,'WHS Event Log'!$P$3:$P$502,StagingTables!$B151)","v":0},{"$f":"COUNTIFS('WHS Event Log'!$E$3:$E$502,M$138,'WHS Event Log'!$P$3:$P$502,StagingTables!$B151)","v":0},{"$f":"COUNTIFS('WHS Event Log'!$E$3:$E$502,N$138,'WHS Event Log'!$P$3:$P$502,StagingTables!$B151)","v":0},0,{"$f":"COUNTIFS('WHS Event Log'!$P$3:$P$502,$B151,'WHS Event Log'!$S$3:$S$502,Lists!$E$3)","v":0}]
[null,"Head",{"$f":"COUNTIFS('WHS Event Log'!$E$3:$E$502,C$138,'WHS Event Log'!$P$3:$P$502,StagingTables!$B152)","v":0},{"$f":"COUNTIFS('WHS Event Log'!$E$3:$E$502,D$138,'WHS Event Log'!$P$3:$P$502,StagingTables!$B152)","v":0},{"$f":"COUNTIFS('WHS Event Log'!$E$3:$E$502,E$138,'WHS Event Log'!$P$3:$P$502,StagingTables!$B152)","v":0},{"$f":"COUNTIFS('WHS Event Log'!$E$3:$E$502,F$138,'WHS Event Log'!$P$3:$P$502,StagingTables!$B152)","v":0},{"$f":"COUNTIFS('WHS Event Log'!$E$3:$E$502,G$138,'WHS Event Log'!$P$3:$P$502,StagingTables!$B152)","v":0},{"$f":"COUNTIFS('WHS Event Log'!$E$3:$E$502,H$138,'WHS Event Log'!$P$3:$P$502,StagingTables!$B152)","v":0},{"$f":"COUNTIFS('WHS Event Log'!$E$3:$E$502,I$138,'WHS Event Log'!$P$3:$P$502,StagingTables!$B152)","v":0},{"$f":"COUNTIFS('WHS Event Log'!$E$3:$E$502,J$138,'WHS Event Log'!$P$3:$P$502,StagingTables!$B152)","v":0},{"$f":"COUNTIFS('WHS Event Log'!$E$3:$E$502,K$138,'WHS Event Log'!$P$3:$P$502,StagingTables!$B152)","v":0},{"$f":"COUNTIFS('WHS Event Log'!$E$3:$E$502,L$138,'WHS Event Log'!$P$3:$P$502,StagingTables!$B152)","v":0},{"$f":"COUNTIFS('WHS Event Log'!$E$3:$E$502,M$138,'WHS Event Log'!$P$3:$P$502,StagingTables!$B152)","v":0},{"$f":"COUNTIFS('WHS Event Log'!$E$3:$E$502,N$138,'WHS Event Log'!$P$3:$P$502,StagingTables!$B152)","v":0},0,{"$f":"COUNTIFS('WHS Event Log'!$P$3:$P$502,$B152,'WHS Event Log'!$S$3:$S$502,Lists!$E$3)","v":0}]
[null,"Hip",{"$f":"COUNTIFS('WHS Event Log'!$E$3:$E$502,C$138,'WHS Event Log'!$P$3:$P$502,StagingTables!$B153)","v":0},{"$f":"COUNTIFS('WHS Event Log'!$E$3:$E$502,D$138,'WHS Event Log'!$P$3:$P$502,StagingTables!$B153)","v":0},{"$f":"COUNTIFS('WHS Event Log'!$E$3:$E$502,E$138,'WHS Event Log'!$P$3:$P$502,StagingTables!$B153)","v":0},{"$f":"COUNTIFS('WHS Event Log'!$E$3:$E$502,F$138,'WHS Event Log'!$P$3:$P$502,StagingTables!$B153)","v":0},{"$f":"COUNTIFS('WHS Event Log'!$E$3:$E$502,G$138,'WHS Event Log'!$P$3:$P$502,StagingTables!$B153)","v":0},{"$f":"COUNTIFS('WHS Event Log'!$E$3:$E$502,H$138,'WHS Event Log'!$P$3:$P$502,StagingTables!$B153)","v":0},{"$f":"COUNTIFS('WHS Event Log'!$E$3:$E$502,I$138,'WHS Event Log'!$P$3:$P$502,StagingTables!$B153)","v":0},{"$f":"COUNTIFS('WHS Event Log'!$E$3:$E$502,J$138,'WHS Event Log'!$P$3:$P$502,StagingTables!$B153)","v":0},{"$f":"COUNTIFS('WHS Event Log'!$E$3:$E$502,K$138,'WHS Event Log'!$P$3:$P$502,StagingTables!$B153)","v":0},{"$f":"COUNTIFS('WHS Event Log'!$E$3:$E$502,L$138,'WHS Event Log'!$P$3:$P$502,StagingTables!$B153)","v":0},{"$f":"COUNTIFS('WHS Event Log'!$E$3:$E$502,M$138,'WHS Event Log'!$P$3:$P$502,StagingTables!$B153)","v":0},{"$f":"COUNTIFS('WHS Event Log'!$E$3:$E$502,N$138,'WHS Event Log'!$P$3:$P$502,StagingTables!$B153)","v":0},0,{"$f":"COUNTIFS('WHS Event Log'!$P$3:$P$502,$B153,'WHS Event Log'!$S$3:$S$502,Lists!$E$3)","v":0}]
[null,"Internal",{"$f":"COUNTIFS('WHS Event Log'!$E$3:$E$502,C$138,'WHS Event Log'!$P$3:$P$502,StagingTables!$B154)","v":0},{"$f":"COUNTIFS('WHS Event Log'!$E$3:$E$502,D$138,'WHS Event Log'!$P$3:$P$502,StagingTables!$B154)","v":0},{"$f":"COUNTIFS('WHS Event Log'!$E$3:$E$502,E$138,'WHS Event Log'!$P$3:$P$502,StagingTables!$B154)","v":0},{"$f":"COUNTIFS('WHS Event Log'!$E$3:$E$502,F$138,'WHS Event Log'!$P$3:$P$502,StagingTables!$B154)","v":0},{"$f":"COUNTIFS('WHS Event Log'!$E$3:$E$502,G$138,'WHS Event Log'!$P$3:$P$502,StagingTables!$B154)","v":0},{"$f":"COUNTIFS('WHS Event Log'!$E$3:$E$502,H$138,'WHS Event Log'!$P$3:$P$502,StagingTables!$B154)","v":0},{"$f":"COUNTIFS('WHS Event Log'!$E$3:$E$502,I$138,'WHS Event Log'!$P$3:$P$502,StagingTables!$B154)","v":0},{"$f":"COUNTIFS('WHS Event Log'!$E$3:$E$502,J$138,'WHS Event Log'!$P$3:$P$502,StagingTables!$B154)","v":0},{"$f":"COUNTIFS('WHS Event Log'!$E$3:$E$502,K$138,'WHS Event Log'!$P$3:$P$502,StagingTables!$B154)","v":0},{"$f":"COUNTIFS('WHS Event Log'!$E$3:$E$502,L$138,'WHS Event Log'!$P$3:$P$502,StagingTables!$B154)","v":0},{"$f":"COUNTIFS('WHS Event Log'!$E$3:$E$502,M$138,'WHS Event Log'!$P$3:$P$502,StagingTables!$B154)","v":0},{"$f":"COUNTIFS('WHS Event Log'!$E$3:$E$502,N$138,'WHS Event Log'!$P$3:$P$502,StagingTables!$B154)","v":0},0,{"$f":"COUNTIFS('WHS Event Log'!$P$3:$P$502,$B154,'WHS Event Log'!$S$3:$S$502,Lists!$E$3)","v":0}]
[null,"Knee",{"$f":"COUNTIFS('WHS Event Log'!$E$3:$E$502,C$138,'WHS Event Log'!$P$3:$P$502,StagingTables!$B155)","v":0},{"$f":"COUNTIFS('WHS Event Log'!$E$3:$E$502,D$138,'WHS Event Log'!$P$3:$P$502,StagingTables!$B155)","v":0},{"$f":"COUNTIFS('WHS Event Log'!$E$3:$E$502,E$138,'WHS Event Log'!$P$3:$P$502,StagingTables!$B155)","v":0},{"$f":"COUNTIFS('WHS Event Log'!$E$3:$E$502,F$138,'WHS Event Log'!$P$3:$P$502,StagingTables!$B155)","v":0},{"$f":"COUNTIFS('WHS Event Log'!$E$3:$E$502,G$138,'WHS Event Log'!$P$3:$P$502,StagingTables!$B155)","v":0},{"$f":"COUNTIFS('WHS Event Log'!$E$3:$E$502,H$138,'WHS Event Log'!$P$3:$P$502,StagingTables!$B155)","v":0},{"$f":"COUNTIFS('WHS Event Log'!$E$3:$E$502,I$138,'WHS Event Log'!$P$3:$P$502,StagingTables!$B155)","v":0},{"$f":"COUNTIFS('WHS Event Log'!$E$3:$E$502,J$138,'WHS Event Log'!$P$3:$P$502,StagingTables!$B155)","v":0},{"$f":"COUNTIFS('WHS Event Log'!$E$3:$E$502,K$138,'WHS Event Log'!$P$3:$P$502,StagingTables!$B155)","v":0},{"$f":"COUNTIFS('WHS Event Log'!$E$3:$E$502,L$138,'WHS Event Log'!$P$3:$P$502,StagingTables!$B155)","v":0},{"$f":"COUNTIFS('WHS Event Log'!$E$3:$E$502,M$138,'WHS Event Log'!$P$3:$P$502,StagingTables!$B155)","v":0},{"$f":"COUNTIFS('WHS Event Log'!$E$3:$E$502,N$138,'WHS Event Log'!$P$3:$P$502,StagingTables!$B155)","v":0},0,{"$f":"COUNTIFS('WHS Event Log'!$P$3:$P$502,$B155,'WHS Event Log'!$S$3:$S$502,Lists!$E$3)","v":0}]
[null,"Lower Arm",{"$f":"COUNTIFS('WHS Event Log'!$E$3:$E$502,C$138,'WHS Event Log'!$P$3:$P$502,StagingTables!$B156)","v":0},{"$f":"COUNTIFS('WHS Event Log'!$E$3:$E$502,D$138,'WHS Event Log'!$P$3:$P$502,StagingTables!$B156)","v":0},{"$f":"COUNTIFS('WHS Event Log'!$E$3:$E$502,E$138,'WHS Event Log'!$P$3:$P$502,StagingTables!$B156)","v":0},{"$f":"COUNTIFS('WHS Event Log'!$E$3:$E$502,F$138,'WHS Event Log'!$P$3:$P$502,StagingTables!$B156)","v":0},{"$f":"COUNTIFS('WHS Event Log'!$E$3:$E$502,G$138,'WHS Event Log'!$P$3:$P$502,StagingTables!$B156)","v":0},{"$f":"COUNTIFS('WHS Event Log'!$E$3:$E$502,H$138,'WHS Event Log'!$P$3:$P$502,StagingTables!$B156)","v":0},{"$f":"COUNTIFS('WHS Event Log'!$E$3:$E$502,I$138,'WHS Event Log'!$P$3:$P$502,StagingTables!$B156)","v":0},{"$f":"COUNTIFS('WHS Event Log'!$E$3:$E$502,J$138,'WHS Event Log'!$P$3:$P$502,StagingTables!$B156)","v":0},{"$f":"COUNTIFS('WHS Event Log'!$E$3:$E$502,K$138,'WHS Event Log'!$P$3:$P$502,StagingTables!$B156)","v":0},{"$f":"COUNTIFS('WHS Event Log'!$E$3:$E$502,L$138,'WHS Event Log'!$P$3:$P$502,StagingTables!$B156)","v":0},{"$f":"COUNTIFS('WHS Event Log'!$E$3:$E$502,M$138,'WHS Event Log'!$P$3:$P$502,StagingTables!$B156)","v":0},{"$f":"COUNTIFS('WHS Event Log'!$E$3:$E$502,N$138,'WHS Event Log'!$P$3:$P$502,StagingTables!$B156)","v":0},0,{"$f":"COUNTIFS('WHS Event Log'!$P$3:$P$502,$B156,'WHS Event Log'!$S$3:$S$502,Lists!$E$3)","v":0}]
[null,"Lower Back",{"$f":"COUNTIFS('WHS Event Log'!$E$3:$E$502,C$138,'WHS Event Log'!$P$3:$P$502,StagingTables!$B157)","v":0},{"$f":"COUNTIFS('WHS Event Log'!$E$3:$E$502,D$138,'WHS Event Log'!$P$3:$P$502,StagingTables!$B157)","v":0},{"$f":"COUNTIFS('WHS Event Log'!$E$3:$E$502,E$138,'WHS Event Log'!$P$3:$P$502,StagingTables!$B157)","v":0},{"$f":"COUNTIFS('WHS Event Log'!$E$3:$E$502,F$138,'WHS Event Log'!$P$3:$P$502,StagingTables!$B157)","v":0},{"$f":"COUNTIFS('WHS Event Log'!$E$3:$E$502,G$138,'WHS Event Log'!$P$3:$P$502,StagingTables!$B157)","v":0},{"$f":"COUNTIFS('WHS Event Log'!$E$3:$E$502,H$138,'WHS Event Log'!$P$3:$P$502,StagingTables!$B157)","v":0},{"$f":"COUNTIFS('WHS Event Log'!$E$3:$E$502,I$138,'WHS Event Log'!$P$3:$P$502,StagingTables!$B157)","v":0},{"$f":"COUNTIFS('WHS Event Log'!$E$3:$E$502,J$138,'WHS Event Log'!$P$3:$P$502,StagingTables!$B157)","v":0},{"$f":"COUNTIFS('WHS Event Log'!$E$3:$E$502,K$138,'WHS Event Log'!$P$3:$P$502,StagingTables!$B157)","v":0},{"$f":"COUNTIFS('WHS Event Log'!$E$3:$E$502,L$138,'WHS Event Log'!$P$3:$P$502,StagingTables!$B157)","v":0},{"$f":"COUNTIFS('WHS Event Log'!$E$3:$E$502,M$138,'WHS Event Log'!$P$3:$P$502,StagingTables!$B157)","v":0},{"$f":"COUNTIFS('WHS Event Log'!$E$3:$E$502,N$138,'WHS Event Log'!$P$3:$P$502,StagingTables!$B157)","v":0},0,{"$f":"COUNTIFS('WHS Event Log'!$P$3:$P$502,$B157,'WHS Event Log'!$S$3:$S$502,Lists!$E$3)","v":0}]
[null,"Lower Leg",{"$f":"COUNTIFS('WHS Event Log'!$E$3:$E$502,C$138,'WHS Event Log'!$P$3:$P$502,StagingTables!$B158)","v":0},{"$f":"COUNTIFS('WHS Event Log'!$E$3:$E$502,D$138,'WHS Event Log'!$P$3:$P$502,StagingTables!$B158)","v":0},{"$f":"COUNTIFS('WHS Event Log'!$E$3:$E$502,E$138,'WHS Event Log'!$P$3:$P$502,StagingTables!$B158)","v":0},{"$f":"COUNTIFS('WHS Event Log'!$E$3:$E$502,F$138,'WHS Event Log'!$P$3:$P$502,StagingTables!$B158)","v":0},{"$f":"COUNTIFS('WHS Event Log'!$E$3:$E$502,G$138,'WHS Event Log'!$P$3:$P$502,StagingTables!$B158)","v":0},{"$f":"COUNTIFS('WHS Event Log'!$E$3:$E$502,H$138,'WHS Event Log'!$P$3:$P$502,StagingTables!$B158)","v":0},{"$f":"COUNTIFS('WHS Event Log'!$E$3:$E$502,I$138,'WHS Event Log'!$P$3:$P$502,StagingTables!$B158)","v":0},{"$f":"COUNTIFS('WHS Event Log'!$E$3:$E$502,J$138,'WHS Event Log'!$P$3:$P$502,StagingTables!$B158)","v":0},{"$f":"COUNTIFS('WHS Event Log'!$E$3:$E$502,K$138,'WHS Event Log'!$P$3:$P$502,StagingTables!$B158)","v":0},{"$f":"COUNTIFS('WHS Event Log'!$E$3:$E$502,L$138,'WHS Event Log'!$P$3:$P$502,StagingTables!$B158)","v":0},{"$f":"COUNTIFS('WHS Event Log'!$E$3:$E$502,M$138,'WHS Event Log'!$P$3:$P$502,StagingTables!$B158)","v":0},{"$f":"COUNTIFS('WHS Event Log'!$E$3:$E$502,N$138,'WHS Event Log'!$P$3:$P$502,StagingTables!$B158)","v":0},0,{"$f":"COUNTIFS('WHS Event Log'!$P$3:$P$502,$B158,'WHS Event Log'!$S$3:$S$502,Lists!$E$3)","v":0}]
[null,"Mouth",{"$f":"COUNTIFS('WHS Event Log'!$E$3:$E$502,C$138,'WHS Event Log'!$P$3:$P$502,StagingTables!$B159)","v":0},{"$f":"COUNTIFS('WHS Event Log'!$E$3:$E$502,D$138,'WHS Event Log'!$P$3:$P$502,StagingTables!$B159)","v":0},{"$f":"COUNTIFS('WHS Event Log'!$E$3:$E$502,E$138,'WHS Event Log'!$P$3:$P$502,StagingTables!$B159)","v":0},{"$f":"COUNTIFS('WHS Event Log'!$E$3:$E$502,F$138,'WHS Event Log'!$P$3:$P$502,StagingTables!$B159)","v":0},{"$f":"COUNTIFS('WHS Event Log'!$E$3:$E$502,G$138,'WHS Event Log'!$P$3:$P$502,StagingTables!$B159)","v":0},{"$f":"COUNTIFS('WHS Event Log'!$E$3:$E$502,H$138,'WHS Event Log'!$P$3:$P$502,StagingTables!$B159)","v":0},{"$f":"COUNTIFS('WHS Event Log'!$E$3:$E$502,I$138,'WHS Event Log'!$P$3:$P$502,StagingTables!$B159)","v":0},{"$f":"COUNTIFS('WHS Event Log'!$E$3:$E$502,J$138,'WHS Event Log'!$P$3:$P$502,StagingTables!$B159)","v":0},{"$f":"COUNTIFS('WHS Event Log'!$E$3:$E$502,K$138,'WHS Event Log'!$P$3:$P$502,StagingTables!$B159)","v":0},{"$f":"COUNTIFS('WHS Event Log'!$E$3:$E$502,L$138,'WHS Event Log'!$P$3:$P$502,StagingTables!$B159)","v":0},{"$f":"COUNTIFS('WHS Event Log'!$E$3:$E$502,M$138,'WHS Event Log'!$P$3:$P$502,StagingTables!$B159)","v":0},{"$f":"COUNTIFS('WHS Event Log'!$E$3:$E$502,N$138,'WHS Event Log'!$P$3:$P$502,StagingTables!$B159)","v":0},0,{"$f":"COUNTIFS('WHS Event Log'!$P$3:$P$502,$B159,'WHS Event Log'!$S$3:$S$502,Lists!$E$3)","v":0}]
[null,"Neck",{"$f":"COUNTIFS('WHS Event Log'!$E$3:$E$502,C$138,'WHS Event Log'!$P$3:$P$502,StagingTables!$B160)","v":0},{"$f":"COUNTIFS('WHS Event Log'!$E$3:$E$502,D$138,'WHS Event Log'!$P$3:$P$502,StagingTables!$B160)","v":0},{"$f":"COUNTIFS('WHS Event Log'!$E$3:$E$502,E$138,'WHS Event Log'!$P$3:$P$502,StagingTables!$B160)","v":0},{"$f":"COUNTIFS('WHS Event Log'!$E$3:$E$502,F$138,'WHS Event Log'!$P$3:$P$502,StagingTables!$B160)","v":0},{"$f":"COUNTIFS('WHS Event Log'!$E$3:$E$502,G$138,'WHS Event Log'!$P$3:$P$502,StagingTables!$B160)","v":0},{"$f":"COUNTIFS('WHS Event Log'!$E$3:$E$502,H$138,'WHS Event Log'!$P$3:$P$502,StagingTables!$B160)","v":0},{"$f":"COUNTIFS('WHS Event Log'!$E$3:$E$502,I$138,'WHS Event Log'!$P$3:$P$502,StagingTables!$B160)","v":0},{"$f":"COUNTIFS('WHS Event Log'!$E$3:$E$502,J$138,'WHS Event Log'!$P$3:$P$502,StagingTables!$B160)","v":0},{"$f":"COUNTIFS('WHS Event Log'!$E$3:$E$502,K$138,'WHS Event Log'!$P$3:$P$502,StagingTables!$B160)","v":0},{"$f":"COUNTIFS('WHS Event Log'!$E$3:$E$502,L$138,'WHS Event Log'!$P$3:$P$502,StagingTables!$B160)","v":0},{"$f":"COUNTIFS('WHS Event Log'!$E$3:$E$502,M$138,'WHS Event Log'!$P$3:$P$502,StagingTables!$B160)","v":0},{"$f":"COUNTIFS('WHS Event Log'!$E$3:$E$502,N$138,'WHS Event Log'!$P$3:$P$502,StagingTables!$B160)","v":0},0,{"$f":"COUNTIFS('WHS Event Log'!$P$3:$P$502,$B160,'WHS Event Log'!$S$3:$S$502,Lists!$E$3)","v":0}]
[null,"Nose",{"$f":"COUNTIFS('WHS Event Log'!$E$3:$E$502,C$138,'WHS Event Log'!$P$3:$P$502,StagingTables!$B161)","v":0},{"$f":"COUNTIFS('WHS Event Log'!$E$3:$E$502,D$138,'WHS Event Log'!$P$3:$P$502,StagingTables!$B161)","v":0},{"$f":"COUNTIFS('WHS Event Log'!$E$3:$E$502,E$138,'WHS Event Log'!$P$3:$P$502,StagingTables!$B161)","v":0},{"$f":"COUNTIFS('WHS Event Log'!$E$3:$E$502,F$138,'WHS Event Log'!$P$3:$P$502,StagingTables!$B161)","v":0},{"$f":"COUNTIFS('WHS Event Log'!$E$3:$E$502,G$138,'WHS Event Log'!$P$3:$P$502,StagingTables!$B161)","v":0},{"$f":"COUNTIFS('WHS Event Log'!$E$3:$E$502,H$138,'WHS Event Log'!$P$3:$P$502,StagingTables!$B161)","v":0},{"$f":"COUNTIFS('WHS Event Log'!$E$3:$E$502,I$138,'WHS Event Log'!$P$3:$P$502,StagingTables!$B161)","v":0},{"$f":"COUNTIFS('WHS Event Log'!$E$3:$E$502,J$138,'WHS Event Log'!$P$3:$P$502,StagingTables!$B161)","v":0},{"$f":"COUNTIFS('WHS Event Log'!$E$3:$E$502,K$138,'WHS Event Log'!$P$3:$P$502,StagingTables!$B161)","v":0},{"$f":"COUNTIFS('WHS Event Log'!$E$3:$E$502,L$138,'WHS Event Log'!$P$3:$P$502,StagingTables!$B161)","v":0},{"$f":"COUNTIFS('WHS Event Log'!$E$3:$E$502,M$138,'WHS Event Log'!$P$3:$P$502,StagingTables!$B161)","v":0},{"$f":"COUNTIFS('WHS Event Log'!$E$3:$E$502,N$138,'WHS Event Log'!$P$3:$P$502,StagingTables!$B161)","v":0},0,{"$f":"COUNTIFS('WHS Event Log'!$P$3:$P$502,$B161,'WHS Event Log'!$S$3:$S$502,Lists!$E$3)","v":0}]
[null,"Scalp",{"$f":"COUNTIFS('WHS Event Log'!$E$3:$E$502,C$138,'WHS Event Log'!$P$3:$P$502,StagingTables!$B162)","v":0},{"$f":"COUNTIFS('WHS Event Log'!$E$3:$E$502,D$138,'WHS Event Log'!$P$3:$P$502,StagingTables!$B162)","v":0},{"$f":"COUNTIFS('WHS Event Log'!$E$3:$E$502,E$138,'WHS Event Log'!$P$3:$P$502,StagingTables!$B162)","v":0},{"$f":"COUNTIFS('WHS Event Log'!$E$3:$E$502,F$138,'WHS Event Log'!$P$3:$P$502,StagingTables!$B162)","v":0},{"$f":"COUNTIFS('WHS Event Log'!$E$3:$E$502,G$138,'WHS Event Log'!$P$3:$P$502,StagingTables!$B162)","v":0},{"$f":"COUNTIFS('WHS Event Log'!$E$3:$E$502,H$138,'WHS Event Log'!$P$3:$P$502,StagingTables!$B162)","v":0},{"$f":"COUNTIFS('WHS Event Log'!$E$3:$E$502,I$138,'WHS Event Log'!$P$3:$P$502,StagingTables!$B162)","v":0},{"$f":"COUNTIFS('WHS Event Log'!$E$3:$E$502,J$138,'WHS Event Log'!$P$3:$P$502,StagingTables!$B162)","v":0},{"$f":"COUNTIFS('WHS Event Log'!$E$3:$E$502,K$138,'WHS Event Log'!$P$3:$P$502,StagingTables!$B162)","v":0},{"$f":"COUNTIFS('WHS Event Log'!$E$3:$E$502,L$138,'WHS Event Log'!$P$3:$P$502,StagingTables!$B162)","v":0},{"$f":"COUNTIFS('WHS Event Log'!$E$3:$E$502,M$138,'WHS Event Log'!$P$3:$P$502,StagingTables!$B162)","v":0},{"$f":"COUNTIFS('WHS Event Log'!$E$3:$E$502,N$138,'WHS Event Log'!$P$3:$P$502,StagingTables!$B162)","v":0},0,{"$f":"COUNTIFS('WHS Event Log'!$P$3:$P$502,$B162,'WHS Event Log'!$S$3:$S$502,Lists!$E$3)","v":0}]
[null,"Shoulder",{"$f":"COUNTIFS('WHS Event Log'!$E$3:$E$502,C$138,'WHS Event Log'!$P$3:$P$502,StagingTables!$B163)","v":0},{"$f":"COUNTIFS('WHS Event Log'!$E$3:$E$502,D$138,'WHS Event Log'!$P$3:$P$502,StagingTables!$B163)","v":0},{"$f":"COUNTIFS('WHS Event Log'!$E$3:$E$502,E$138,'WHS Event Log'!$P$3:$P$502,StagingTables!$B163)","v":0},{"$f":"COUNTIFS('WHS Event Log'!$E$3:$E$502,F$138,'WHS Event Log'!$P$3:$P$502,StagingTables!$B163)","v":0},{"$f":"COUNTIFS('WHS Event Log'!$E$3:$E$502,G$138,'WHS Event Log'!$P$3:$P$502,StagingTables!$B163)","v":0},{"$f":"COUNTIFS('WHS Event Log'!$E$3:$E$502,H$138,'WHS Event Log'!$P$3:$P$502,StagingTables!$B163)","v":0},{"$f":"COUNTIFS('WHS Event Log'!$E$3:$E$502,I$138,'WHS Event Log'!$P$3:$P$502,StagingTables!$B163)","v":0},{"$f":"COUNTIFS('WHS Event Log'!$E$3:$E$502,J$138,'WHS Event Log'!$P$3:$P$502,StagingTables!$B163)","v":0},{"$f":"COUNTIFS('WHS Event Log'!$E$3:$E$502,K$138,'WHS Event Log'!$P$3:$P$502,StagingTables!$B163)","v":0},{"$f":"COUNTIFS('WHS Event Log'!$E$3:$E$502,L$138,'WHS Event Log'!$P$3:$P$502,StagingTables!$B163)","v":0},{"$f":"COUNTIFS('WHS Event Log'!$E$3:$E$502,M$138,'WHS Event Log'!$P$3:$P$502,StagingTables!$B163)","v":0},{"$f":"COUNTIFS('WHS Event Log'!$E$3:$E$502,N$138,'WHS Event Log'!$P$3:$P$502,StagingTables!$B163)","v":0},0,{"$f":"COUNTIFS('WHS Event Log'!$P$3:$P$502,$B163,'WHS Event Log'!$S$3:$S$502,Lists!$E$3)","v":0}]
[null,"Throat",{"$f":"COUNTIFS('WHS Event Log'!$E$3:$E$502,C$138,'WHS Event Log'!$P$3:$P$502,StagingTables!$B164)","v":0},{"$f":"COUNTIFS('WHS Event Log'!$E$3:$E$502,D$138,'WHS Event Log'!$P$3:$P$502,StagingTables!$B164)","v":0},{"$f":"COUNTIFS('WHS Event Log'!$E$3:$E$502,E$138,'WHS Event Log'!$P$3:$P$502,StagingTables!$B164)","v":0},{"$f":"COUNTIFS('WHS Event Log'!$E$3:$E$502,F$138,'WHS Event Log'!$P$3:$P$502,StagingTables!$B164)","v":0},{"$f":"COUNTIFS('WHS Event Log'!$E$3:$E$502,G$138,'WHS Event Log'!$P$3:$P$502,StagingTables!$B164)","v":0},{"$f":"COUNTIFS('WHS Event Log'!$E$3:$E$502,H$138,'WHS Event Log'!$P$3:$P$502,StagingTables!$B164)","v":0},{"$f":"COUNTIFS('WHS Event Log'!$E$3:$E$502,I$138,'WHS Event Log'!$P$3:$P$502,StagingTables!$B164)","v":0},{"$f":"COUNTIFS('WHS Event Log'!$E$3:$E$502,J$138,'WHS Event Log'!$P$3:$P$502,StagingTables!$B164)","v":0},{"$f":"COUNTIFS('WHS Event Log'!$E$3:$E$502,K$138,'WHS Event Log'!$P$3:$P$502,StagingTables!$B164)","v":0},{"$f":"COUNTIFS('WHS Event Log'!$E$3:$E$502,L$138,'WHS Event Log'!$P$3:$P$502,StagingTables!$B164)","v":0},{"$f":"COUNTIFS('WHS Event Log'!$E$3:$E$502,M$138,'WHS Event Log'!$P$3:$P$502,StagingTables!$B164)","v":0},{"$f":"COUNTIFS('WHS Event Log'!$E$3:$E$502,N$138,'WHS Event Log'!$P$3:$P$502,StagingTables!$B164)","v":0},0,{"$f":"COUNTIFS('WHS Event Log'!$P$3:$P$502,$B164,'WHS Event Log'!$S$3:$S$502,Lists!$E$3)","v":0}]
[null,"Toe",{"$f":"COUNTIFS('WHS Event Log'!$E$3:$E$502,C$138,'WHS Event Log'!$P$3:$P$502,StagingTables!$B165)","v":0},{"$f":"COUNTIFS('WHS Event Log'!$E$3:$E$502,D$138,'WHS Event Log'!$P$3:$P$502,StagingTables!$B165)","v":0},{"$f":"COUNTIFS('WHS Event Log'!$E$3:$E$502,E$138,'WHS Event Log'!$P$3:$P$502,StagingTables!$B165)","v":0},{"$f":"COUNTIFS('WHS Event Log'!$E$3:$E$502,F$138,'WHS Event Log'!$P$3:$P$502,StagingTables!$B165)","v":0},{"$f":"COUNTIFS('WHS Event Log'!$E$3:$E$502,G$138,'WHS Event Log'!$P$3:$P$502,StagingTables!$B165)","v":0},{"$f":"COUNTIFS('WHS Event Log'!$E$3:$E$502,H$138,'WHS Event Log'!$P$3:$P$502,StagingTables!$B165)","v":0},{"$f":"COUNTIFS('WHS Event Log'!$E$3:$E$502,I$138,'WHS Event Log'!$P$3:$P$502,StagingTables!$B165)","v":0},{"$f":"COUNTIFS('WHS Event Log'!$E$3:$E$502,J$138,'WHS Event Log'!$P$3:$P$502,StagingTables!$B165)","v":0},{"$f":"COUNTIFS('WHS Event Log'!$E$3:$E$502,K$138,'WHS Event Log'!$P$3:$P$502,StagingTables!$B165)","v":0},{"$f":"COUNTIFS('WHS Event Log'!$E$3:$E$502,L$138,'WHS Event Log'!$P$3:$P$502,StagingTables!$B165)","v":0},{"$f":"COUNTIFS('WHS Event Log'!$E$3:$E$502,M$138,'WHS Event Log'!$P$3:$P$502,StagingTables!$B165)","v":0},{"$f":"COUNTIFS('WHS Event Log'!$E$3:$E$502,N$138,'WHS Event Log'!$P$3:$P$502,StagingTables!$B165)","v":0},0,{"$f":"COUNTIFS('WHS Event Log'!$P$3:$P$502,$B165,'WHS Event Log'!$S$3:$S$502,Lists!$E$3)","v":0}]
[null,"Upper Arm",{"$f":"COUNTIFS('WHS Event Log'!$E$3:$E$502,C$138,'WHS Event Log'!$P$3:$P$502,StagingTables!$B166)","v":0},{"$f":"COUNTIFS('WHS Event Log'!$E$3:$E$502,D$138,'WHS Event Log'!$P$3:$P$502,StagingTables!$B166)","v":0},{"$f":"COUNTIFS('WHS Event Log'!$E$3:$E$502,E$138,'WHS Event Log'!$P$3:$P$502,StagingTables!$B166)","v":0},{"$f":"COUNTIFS('WHS Event Log'!$E$3:$E$502,F$138,'WHS Event Log'!$P$3:$P$502,StagingTables!$B166)","v":0},{"$f":"COUNTIFS('WHS Event Log'!$E$3:$E$502,G$138,'WHS Event Log'!$P$3:$P$502,StagingTables!$B166)","v":0},{"$f":"COUNTIFS('WHS Event Log'!$E$3:$E$502,H$138,'WHS Event Log'!$P$3:$P$502,StagingTables!$B166)","v":0},{"$f":"COUNTIFS('WHS Event Log'!$E$3:$E$502,I$138,'WHS Event Log'!$P$3:$P$502,StagingTables!$B166)","v":0},{"$f":"COUNTIFS('WHS Event Log'!$E$3:$E$502,J$138,'WHS Event Log'!$P$3:$P$502,StagingTables!$B166)","v":0},{"$f":"COUNTIFS('WHS Event Log'!$E$3:$E$502,K$138,'WHS Event Log'!$P$3:$P$502,StagingTables!$B166)","v":0},{"$f":"COUNTIFS('WHS Event Log'!$E$3:$E$502,L$138,'WHS Event Log'!$P$3:$P$502,StagingTables!$B166)","v":0},{"$f":"COUNTIFS('WHS Event Log'!$E$3:$E$502,M$138,'WHS Event Log'!$P$3:$P$502,StagingTables!$B166)","v":0},{"$f":"COUNTIFS('WHS Event Log'!$E$3:$E$502,N$138,'WHS Event Log'!$P$3:$P$502,StagingTables!$B166)","v":0},0,{"$f":"COUNTIFS('WHS Event Log'!$P$3:$P$502,$B166,'WHS Event Log'!$S$3:$S$502,Lists!$E$3)","v":0}]
[null,"Upper Back",{"$f":"COUNTIFS('WHS Event Log'!$E$3:$E$502,C$138,'WHS Event Log'!$P$3:$P$502,StagingTables!$B167)","v":0},{"$f":"COUNTIFS('WHS Event Log'!$E$3:$E$502,D$138,'WHS Event Log'!$P$3:$P$502,StagingTables!$B167)","v":0},{"$f":"COUNTIFS('WHS Event Log'!$E$3:$E$502,E$138,'WHS Event Log'!$P$3:$P$502,StagingTables!$B167)","v":0},{"$f":"COUNTIFS('WHS Event Log'!$E$3:$E$502,F$138,'WHS Event Log'!$P$3:$P$502,StagingTables!$B167)","v":0},{"$f":"COUNTIFS('WHS Event Log'!$E$3:$E$502,G$138,'WHS Event Log'!$P$3:$P$502,StagingTables!$B167)","v":0},{"$f":"COUNTIFS('WHS Event Log'!$E$3:$E$502,H$138,'WHS Event Log'!$P$3:$P$502,StagingTables!$B167)","v":0},{"$f":"COUNTIFS('WHS Event Log'!$E$3:$E$502,I$138,'WHS Event Log'!$P$3:$P$502,StagingTables!$B167)","v":0},{"$f":"COUNTIFS('WHS Event Log'!$E$3:$E$502,J$138,'WHS Event Log'!$P$3:$P$502,StagingTables!$B167)","v":0},{"$f":"COUNTIFS('WHS Event Log'!$E$3:$E$502,K$138,'WHS Event Log'!$P$3:$P$502,StagingTables!$B167)","v":0},{"$f":"COUNTIFS('WHS Event Log'!$E$3:$E$502,L$138,'WHS Event Log'!$P$3:$P$502,StagingTables!$B167)","v":0},{"$f":"COUNTIFS('WHS Event Log'!$E$3:$E$502,M$138,'WHS Event Log'!$P$3:$P$502,StagingTables!$B167)","v":0},{"$f":"COUNTIFS('WHS Event Log'!$E$3:$E$502,N$138,'WHS Event Log'!$P$3:$P$502,StagingTables!$B167)","v":0},0,{"$f":"COUNTIFS('WHS Event Log'!$P$3:$P$502,$B167,'WHS Event Log'!$S$3:$S$502,Lists!$E$3)","v":0}]
[null,"Upper Leg",{"$f":"COUNTIFS('WHS Event Log'!$E$3:$E$502,C$138,'WHS Event Log'!$P$3:$P$502,StagingTables!$B168)","v":0},{"$f":"COUNTIFS('WHS Event Log'!$E$3:$E$502,D$138,'WHS Event Log'!$P$3:$P$502,StagingTables!$B168)","v":0},{"$f":"COUNTIFS('WHS Event Log'!$E$3:$E$502,E$138,'WHS Event Log'!$P$3:$P$502,StagingTables!$B168)","v":0},{"$f":"COUNTIFS('WHS Event Log'!$E$3:$E$502,F$138,'WHS Event Log'!$P$3:$P$502,StagingTables!$B168)","v":0},{"$f":"COUNTIFS('WHS Event Log'!$E$3:$E$502,G$138,'WHS Event Log'!$P$3:$P$502,StagingTables!$B168)","v":0},{"$f":"COUNTIFS('WHS Event Log'!$E$3:$E$502,H$138,'WHS Event Log'!$P$3:$P$502,StagingTables!$B168)","v":0},{"$f":"COUNTIFS('WHS Event Log'!$E$3:$E$502,I$138,'WHS Event Log'!$P$3:$P$502,StagingTables!$B168)","v":0},{"$f":"COUNTIFS('WHS Event Log'!$E$3:$E$502,J$138,'WHS Event Log'!$P$3:$P$502,StagingTables!$B168)","v":0},{"$f":"COUNTIFS('WHS Event Log'!$E$3:$E$502,K$138,'WHS Event Log'!$P$3:$P$502,StagingTables!$B168)","v":0},{"$f":"COUNTIFS('WHS Event Log'!$E$3:$E$502,L$138,'WHS Event Log'!$P$3:$P$502,StagingTables!$B168)","v":0},{"$f":"COUNTIFS('WHS Event Log'!$E$3:$E$502,M$138,'WHS Event Log'!$P$3:$P$502,StagingTables!$B168)","v":0},{"$f":"COUNTIFS('WHS Event Log'!$E$3:$E$502,N$138,'WHS Event Log'!$P$3:$P$502,StagingTables!$B168)","v":0},0,{"$f":"COUNTIFS('WHS Event Log'!$P$3:$P$502,$B168,'WHS Event Log'!$S$3:$S$502,Lists!$E$3)","v":0}]
[null,"Wrist",{"$f":"COUNTIFS('WHS Event Log'!$E$3:$E$502,C$138,'WHS Event Log'!$P$3:$P$502,StagingTables!$B169)","v":0},{"$f":"COUNTIFS('WHS Event Log'!$E$3:$E$502,D$138,'WHS Event Log'!$P$3:$P$502,StagingTables!$B169)","v":0},{"$f":"COUNTIFS('WHS Event Log'!$E$3:$E$502,E$138,'WHS Event Log'!$P$3:$P$502,StagingTables!$B169)","v":0},{"$f":"COUNTIFS('WHS Event Log'!$E$3:$E$502,F$138,'WHS Event Log'!$P$3:$P$502,StagingTables!$B169)","v":0},{"$f":"COUNTIFS('WHS Event Log'!$E$3:$E$502,G$138,'WHS Event Log'!$P$3:$P$502,StagingTables!$B169)","v":0},{"$f":"COUNTIFS('WHS Event Log'!$E$3:$E$502,H$138,'WHS Event Log'!$P$3:$P$502,StagingTables!$B169)","v":0},{"$f":"COUNTIFS('WHS Event Log'!$E$3:$E$502,I$138,'WHS Event Log'!$P$3:$P$502,StagingTables!$B169)","v":0},{"$f":"COUNTIFS('WHS Event Log'!$E$3:$E$502,J$138,'WHS Event Log'!$P$3:$P$502,StagingTables!$B169)","v":0},{"$f":"COUNTIFS('WHS Event Log'!$E$3:$E$502,K$138,'WHS Event Log'!$P$3:$P$502,StagingTables!$B169)","v":0},{"$f":"COUNTIFS('WHS Event Log'!$E$3:$E$502,L$138,'WHS Event Log'!$P$3:$P$502,StagingTables!$B169)","v":0},{"$f":"COUNTIFS('WHS Event Log'!$E$3:$E$502,M$138,'WHS Event Log'!$P$3:$P$502,StagingTables!$B169)","v":0},{"$f":"COUNTIFS('WHS Event Log'!$E$3:$E$502,N$138,'WHS Event Log'!$P$3:$P$502,StagingTables!$B169)","v":0},0,{"$f":"COUNTIFS('WHS Event Log'!$P$3:$P$502,$B169,'WHS Event Log'!$S$3:$S$502,Lists!$E$3)","v":0}]
[null,"Unspecified",{"$f":"COUNTIFS('WHS Event Log'!$E$3:$E$502,C$138,'WHS Event Log'!$P$3:$P$502,StagingTables!$B170)","v":0},{"$f":"COUNTIFS('WHS Event Log'!$E$3:$E$502,D$138,'WHS Event Log'!$P$3:$P$502,StagingTables!$B170)","v":0},{"$f":"COUNTIFS('WHS Event Log'!$E$3:$E$502,E$138,'WHS Event Log'!$P$3:$P$502,StagingTables!$B170)","v":0},{"$f":"COUNTIFS('WHS Event Log'!$E$3:$E$502,F$138,'WHS Event Log'!$P$3:$P$502,StagingTables!$B170)","v":0},{"$f":"COUNTIFS('WHS Event Log'!$E$3:$E$502,G$138,'WHS Event Log'!$P$3:$P$502,StagingTables!$B170)","v":0},{"$f":"COUNTIFS('WHS Event Log'!$E$3:$E$502,H$138,'WHS Event Log'!$P$3:$P$502,StagingTables!$B170)","v":0},{"$f":"COUNTIFS('WHS Event Log'!$E$3:$E$502,I$138,'WHS Event Log'!$P$3:$P$502,StagingTables!$B170)","v":0},{"$f":"COUNTIFS('WHS Event Log'!$E$3:$E$502,J$138,'WHS Event Log'!$P$3:$P$502,StagingTables!$B170)","v":0},{"$f":"COUNTIFS('WHS Event Log'!$E$3:$E$502,K$138,'WHS Event Log'!$P$3:$P$502,StagingTables!$B170)","v":0},{"$f":"COUNTIFS('WHS Event Log'!$E$3:$E$502,L$138,'WHS Event Log'!$P$3:$P$502,StagingTables!$B170)","v":0},{"$f":"COUNTIFS('WHS Event Log'!$E$3:$E$502,M$138,'WHS Event Log'!$P$3:$P$502,StagingTables!$B170)","v":0},{"$f":"COUNTIFS('WHS Event Log'!$E$3:$E$502,N$138,'WHS Event Log'!$P$3:$P$502,StagingTables!$B170)","v":0},0,{"$f":"COUNTIFS('WHS Event Log'!$P$3:$P$502,$B170,'WHS Event Log'!$S$3:$S$502,Lists!$E$3)","v":0}]
[null,"Other",{"$f":"COUNTIFS('WHS Event Log'!$E$3:$E$502,C$138,'WHS Event Log'!$P$3:$P$502,StagingTables!$B171)","v":0},{"$f":"COUNTIFS('WHS Event Log'!$E$3:$E$502,D$138,'WHS Event Log'!$P$3:$P$502,StagingTables!$B171)","v":0},{"$f":"COUNTIFS('WHS Event Log'!$E$3:$E$502,E$138,'WHS Event Log'!$P$3:$P$502,StagingTables!$B171)","v":0},{"$f":"COUNTIFS('WHS Event Log'!$E$3:$E$502,F$138,'WHS Event Log'!$P$3:$P$502,StagingTables!$B171)","v":0},{"$f":"COUNTIFS('WHS Event Log'!$E$3:$E$502,G$138,'WHS Event Log'!$P$3:$P$502,StagingTables!$B171)","v":0},{"$f":"COUNTIFS('WHS Event Log'!$E$3:$E$502,H$138,'WHS Event Log'!$P$3:$P$502,StagingTables!$B171)","v":0},{"$f":"COUNTIFS('WHS Event Log'!$E$3:$E$502,I$138,'WHS Event Log'!$P$3:$P$502,StagingTables!$B171)","v":0},{"$f":"COUNTIFS('WHS Event Log'!$E$3:$E$502,J$138,'WHS Event Log'!$P$3:$P$502,StagingTables!$B171)","v":0},{"$f":"COUNTIFS('WHS Event Log'!$E$3:$E$502,K$138,'WHS Event Log'!$P$3:$P$502,StagingTables!$B171)","v":0},{"$f":"COUNTIFS('WHS Event Log'!$E$3:$E$502,L$138,'WHS Event Log'!$P$3:$P$502,StagingTables!$B171)","v":0},{"$f":"COUNTIFS('WHS Event Log'!$E$3:$E$502,M$138,'WHS Event Log'!$P$3:$P$502,StagingTables!$B171)","v":0},{"$f":"COUNTIFS('WHS Event Log'!$E$3:$E$502,N$138,'WHS Event Log'!$P$3:$P$502,StagingTables!$B171)","v":0},0,{"$f":"COUNTIFS('WHS Event Log'!$P$3:$P$502,$B171,'WHS Event Log'!$S$3:$S$502,Lists!$E$3)","v":0}]
[null,null,{"$f":"SUM(C140:C171)","v":0},0,0,0,0,0,0,0,0,0,0,0,0,0]
[]
[]
[null,"Notifiable Event","January","February","March","April","May","June","July","August","September","October","November","December","Total","Open"]
[null,"Yes",{"$f":"COUNTIFS('WHS Event Log'!$E$3:$E$502,C$55,'WHS Event Log'!$AB$3:$AB$502,StagingTables!$B176)","v":0},{"$f":"COUNTIFS('WHS Event Log'!$E$3:$E$502,D$55,'WHS Event Log'!$AB$3:$AB$502,StagingTables!$B176)","v":0},{"$f":"COUNTIFS('WHS Event Log'!$E$3:$E$502,E$55,'WHS Event Log'!$AB$3:$AB$502,StagingTables!$B176)","v":0},{"$f":"COUNTIFS('WHS Event Log'!$E$3:$E$502,F$55,'WHS Event Log'!$AB$3:$AB$502,StagingTables!$B176)","v":0},{"$f":"COUNTIFS('WHS Event Log'!$E$3:$E$502,G$55,'WHS Event Log'!$AB$3:$AB$502,StagingTables!$B176)","v":0},{"$f":"COUNTIFS('WHS Event Log'!$E$3:$E$502,H$55,'WHS Event Log'!$AB$3:$AB$502,StagingTables!$B176)","v":0},{"$f":"COUNTIFS('WHS Event Log'!$E$3:$E$502,I$55,'WHS Event Log'!$AB$3:$AB$502,StagingTables!$B176)","v":0},{"$f":"COUNTIFS('WHS Event Log'!$E$3:$E$502,J$55,'WHS Event Log'!$AB$3:$AB$502,StagingTables!$B176)","v":0},{"$f":"COUNTIFS('WHS Event Log'!$E$3:$E$502,K$55,'WHS Event Log'!$AB$3:$AB$502,StagingTables!$B176)","v":0},{"$f":"COUNTIFS('WHS Event Log'!$E$3:$E$502,L$55,'WHS Event Log'!$AB$3:$AB$502,StagingTables!$B176)","v":0},{"$f":"COUNTIFS('WHS Event Log'!$E$3:$E$502,M$55,'WHS Event Log'!$AB$3:$AB$502,StagingTables!$B176)","v":0},{"$f":"COUNTIFS('WHS Event Log'!$E$3:$E$502,N$55,'WHS Event Log'!$AB$3:$AB$502,StagingTables!$B176)","v":0},{"$f":"SUM(C176:N176)","v":0},{"$f":"COUNTIFS('WHS Event Log'!$Q$3:$Q$502,$B176,'WHS Event Log'!$S$3:$S$502,Lists!$E$3,'WHS Event Log'!$T$3:$T$502,Lists!$K$3)","v":0}]
[]
[null,"Controls Applied","January","February","March","April","May","June","July","August","September","October","November","December","Total"]
[null,"Elimination",{"$f":"COUNTIFS('WHS Event Log'!$E$3:$E$502,C$138,'WHS Event Log'!$W$3:$W$502,StagingTables!$B179)","v":0},{"$f":"COUNTIFS('WHS Event Log'!$E$3:$E$502,D$138,'WHS Event Log'!$W$3:$W$502,StagingTables!$B179)","v":0},{"$f":"COUNTIFS('WHS Event Log'!$E$3:$E$502,E$138,'WHS Event Log'!$W$3:$W$502,StagingTables!$B179)","v":0},{"$f":"COUNTIFS('WHS Event Log'!$E$3:$E$502,F$138,'WHS Event Log'!$W$3:$W$502,StagingTables!$B179)","v":0},{"$f":"COUNTIFS('WHS Event Log'!$E$3:$E$502,G$138,'WHS Event Log'!$W$3:$W$502,StagingTables!$B179)","v":0},{"$f":"COUNTIFS('WHS Event Log'!$E$3:$E$502,H$138,'WHS Event Log'!$W$3:$W$502,StagingTables!$B179)","v":0},{"$f":"COUNTIFS('WHS Event Log'!$E$3:$E$502,I$138,'WHS Event Log'!$W$3:$W$502,StagingTables!$B179)","v":0},{"$f":"COUNTIFS('WHS Event Log'!$E$3:$E$502,J$138,'WHS Event Log'!$W$3:$W$502,StagingTables!$B179)","v":0},{"$f":"COUNTIFS('WHS Event Log'!$E$3:$E$502,K$138,'WHS Event Log'!$W$3:$W$502,StagingTables!$B179)","v":0},{"$f":"COUNTIFS('WHS Event Log'!$E$3:$E$502,L$138,'WHS Event Log'!$W$3:$W$502,StagingTables!$B179)","v":0},{"$f":"COUNTIFS('WHS Event Log'!$E$3:$E$502,M$138,'WHS Event Log'!$W$3:$W$502,StagingTables!$B179)","v":0},{"$f":"COUNTIFS('WHS Event Log'!$E$3:$E$502,N$138,'WHS Event Log'!$W$3:$W$502,StagingTables!$B179)","v":0},{"$f":"SUM(C179:N179)","v":0}]
[null,"Substitution",{"$f":"COUNTIFS('WHS Event Log'!$E$3:$E$502,C$138,'WHS Event Log'!$W$3:$W$502,StagingTables!$B180)","v":0},{"$f":"COUNTIFS('WHS Event Log'!$E$3:$E$502,D$138,'WHS Event Log'!$W$3:$W$502,StagingTables!$B180)","v":0},{"$f":"COUNTIFS('WHS Event Log'!$E$3:$E$502,E$138,'WHS Event Log'!$W$3:$W$502,StagingTables!$B180)","v":0},{"$f":"COUNTIFS('WHS Event Log'!$E$3:$E$502,F$138,'WHS Event Log'!$W$3:$W$502,StagingTables!$B180)","v":0},{"$f":"COUNTIFS('WHS Event Log'!$E$3:$E$502,G$138,'WHS Event Log'!$W$3:$W$502,StagingTables!$B180)","v":0},{"$f":"COUNTIFS('WHS Event Log'!$E$3:$E$502,H$138,'WHS Event Log'!$W$3:$W$502,StagingTables!$B180)","v":0},{"$f":"COUNTIFS('WHS Event Log'!$E$3:$E$502,I$138,'WHS Event Log'!$W$3:$W$502,StagingTables!$B180)","v":0},{"$f":"COUNTIFS('WHS Event Log'!$E$3:$E$502,J$138,'WHS Event Log'!$W$3:$W$502,StagingTables!$B180)","v":0},{"$f":"COUNTIFS('WHS Event Log'!$E$3:$E$502,K$138,'WHS Event Log'!$W$3:$W$502,StagingTables!$B180)","v":0},{"$f":"COUNTIFS('WHS Event Log'!$E$3:$E$502,L$138,'WHS Event Log'!$W$3:$W$502,StagingTables!$B180)","v":0},{"$f":"COUNTIFS('WHS Event Log'!$E$3:$E$502,M$138,'WHS Event Log'!$W$3:$W$502,StagingTables!$B180)","v":0},{"$f":"COUNTIFS('WHS Event Log'!$E$3:$E$502,N$138,'WHS Event Log'!$W$3:$W$502,StagingTables!$B180)","v":0},0]
[null,"Isolation",{"$f":"COUNTIFS('WHS Event Log'!$E$3:$E$502,C$138,'WHS Event Log'!$W$3:$W$502,StagingTables!$B181)","v":0},{"$f":"COUNTIFS('WHS Event Log'!$E$3:$E$502,D$138,'WHS Event Log'!$W$3:$W$502,StagingTables!$B181)","v":0},{"$f":"COUNTIFS('WHS Event Log'!$E$3:$E$502,E$138,'WHS Event Log'!$W$3:$W$502,StagingTables!$B181)","v":0},{"$f":"COUNTIFS('WHS Event Log'!$E$3:$E$502,F$138,'WHS Event Log'!$W$3:$W$502,StagingTables!$B181)","v":0},{"$f":"COUNTIFS('WHS Event Log'!$E$3:$E$502,G$138,'WHS Event Log'!$W$3:$W$502,StagingTables!$B181)","v":0},{"$f":"COUNTIFS('WHS Event Log'!$E$3:$E$502,H$138,'WHS Event Log'!$W$3:$W$502,StagingTables!$B181)","v":0},{"$f":"COUNTIFS('WHS Event Log'!$E$3:$E$502,I$138,'WHS Event Log'!$W$3:$W$502,StagingTables!$B181)","v":0},{"$f":"COUNTIFS('WHS Event Log'!$E$3:$E$502,J$138,'WHS Event Log'!$W$3:$W$502,StagingTables!$B181)","v":0},{"$f":"COUNTIFS('WHS Event Log'!$E$3:$E$502,K$138,'WHS Event Log'!$W$3:$W$502,StagingTables!$B181)","v":0},{"$f":"COUNTIFS('WHS Event Log'!$E$3:$E$502,L$138,'WHS Event Log'!$W$3:$W$502,StagingTables!$B181)","v":0},{"$f":"COUNTIFS('WHS Event Log'!$E$3:$E$502,M$138,'WHS Event Log'!$W$3:$W$502,StagingTables!$B181)","v":0},{"$f":"COUNTIFS('WHS Event Log'!$E$3:$E$502,N$138,'WHS Event Log'!$W$3:$W$502,StagingTables!$B181)","v":0},0]
[null,"Engineering",{"$f":"COUNTIFS('WHS Event Log'!$E$3:$E$502,C$138,'WHS Event Log'!$W$3:$W$502,StagingTables!$B182)","v":0},{"$f":"COUNTIFS('WHS Event Log'!$E$3:$E$502,D$138,'WHS Event Log'!$W$3:$W$502,StagingTables!$B182)","v":0},{"$f":"COUNTIFS('WHS Event Log'!$E$3:$E$502,E$138,'WHS Event Log'!$W$3:$W$502,StagingTables!$B182)","v":0},{"$f":"COUNTIFS('WHS Event Log'!$E$3:$E$502,F$138,'WHS Event Log'!$W$3:$W$502,StagingTables!$B182)","v":0},{"$f":"COUNTIFS('WHS Event Log'!$E$3:$E$502,G$138,'WHS Event Log'!$W$3:$W$502,StagingTables!$B182)","v":0},{"$f":"COUNTIFS('WHS Event Log'!$E$3:$E$502,H$138,'WHS Event Log'!$W$3:$W$502,StagingTables!$B182)","v":0},{"$f":"COUNTIFS('WHS Event Log'!$E$3:$E$502,I$138,'WHS Event Log'!$W$3:$W$502,StagingTables!$B182)","v":0},{"$f":"COUNTIFS('WHS Event Log'!$E$3:$E$502,J$138,'WHS Event Log'!$W$3:$W$502,StagingTables!$B182)","v":0},{"$f":"COUNTIFS('WHS Event Log'!$E$3:$E$502,K$138,'WHS Event Log'!$W$3:$W$502,StagingTables!$B182)","v":0},{"$f":"COUNTIFS('WHS Event Log'!$E$3:$E$502,L$138,'WHS Event Log'!$W$3:$W$502,StagingTables!$B182)","v":0},{"$f":"COUNTIFS('WHS Event Log'!$E$3:$E$502,M$138,'WHS Event Log'!$W$3:$W$502,StagingTables!$B182)","v":0},{"$f":"COUNTIFS('WHS Event Log'!$E$3:$E$502,N$138,'WHS Event Log'!$W$3:$W$502,StagingTables!$B182)","v":0},0]
[null,"Administration",{"$f":"COUNTIFS('WHS Event Log'!$E$3:$E$502,C$138,'WHS Event Log'!$W$3:$W$502,StagingTables!$B183)","v":0},{"$f":"COUNTIFS('WHS Event Log'!$E$3:$E$502,D$138,'WHS Event Log'!$W$3:$W$502,StagingTables!$B183)","v":0},{"$f":"COUNTIFS('WHS Event Log'!$E$3:$E$502,E$138,'WHS Event Log'!$W$3:$W$502,StagingTables!$B183)","v":0},{"$f":"COUNTIFS('WHS Event Log'!$E$3:$E$502,F$138,'WHS Event Log'!$W$3:$W$502,StagingTables!$B183)","v":0},{"$f":"COUNTIFS('WHS Event Log'!$E$3:$E$502,G$138,'WHS Event Log'!$W$3:$W$502,StagingTables!$B183)","v":0},{"$f":"COUNTIFS('WHS Event Log'!$E$3:$E$502,H$138,'WHS Event Log'!$W$3:$W$502,StagingTables!$B183)","v":0},{"$f":"COUNTIFS('WHS Event Log'!$E$3:$E$502,I$138,'WHS Event Log'!$W$3:$W$502,StagingTables!$B183)","v":0},{"$f":"COUNTIFS('WHS Event Log'!$E$3:$E$502,J$138,'WHS Event Log'!$W$3:$W$502,StagingTables!$B183)","v":0},{"$f":"COUNTIFS('WHS Event Log'!$E$3:$E$502,K$138,'WHS Event Log'!$W$3:$W$502,StagingTables!$B183)","v":0},{"$f":"COUNTIFS('WHS Event Log'!$E$3:$E$502,L$138,'WHS Event Log'!$W$3:$W$502,StagingTables!$B183)","v":0},{"$f":"COUNTIFS('WHS Event Log'!$E$3:$E$502,M$138,'WHS Event Log'!$W$3:$W$502,StagingTables!$B183)","v":0},{"$f":"COUNTIFS('WHS Event Log'!$E$3:$E$502,N$138,'WHS Event Log'!$W$3:$W$502,StagingTables!$B183)","v":0},0]
[null,"PPE",{"$f":"COUNTIFS('WHS Event Log'!$E$3:$E$502,C$138,'WHS Event Log'!$W$3:$W$502,StagingTables!$B184)","v":0},{"$f":"COUNTIFS('WHS Event Log'!$E$3:$E$502,D$138,'WHS Event Log'!$W$3:$W$502,StagingTables!$B184)","v":0},{"$f":"COUNTIFS('WHS Event Log'!$E$3:$E$502,E$138,'WHS Event Log'!$W$3:$W$502,StagingTables!$B184)","v":0},{"$f":"COUNTIFS('WHS Event Log'!$E$3:$E$502,F$138,'WHS Event Log'!$W$3:$W$502,StagingTables!$B184)","v":0},{"$f":"COUNTIFS('WHS Event Log'!$E$3:$E$502,G$138,'WHS Event Log'!$W$3:$W$502,StagingTables!$B184)","v":0},{"$f":"COUNTIFS('WHS Event Log'!$E$3:$E$502,H$138,'WHS Event Log'!$W$3:$W$502,StagingTables!$B184)","v":0},{"$f":"COUNTIFS('WHS Event Log'!$E$3:$E$502,I$138,'WHS Event Log'!$W$3:$W$502,StagingTables!$B184)","v":0},{"$f":"COUNTIFS('WHS Event Log'!$E$3:$E$502,J$138,'WHS Event Log'!$W$3:$W$502,StagingTables!$B184)","v":0},{"$f":"COUNTIFS('WHS Event Log'!$E$3:$E$502,K$138,'WHS Event Log'!$W$3:$W$502,StagingTables!$B184)","v":0},{"$f":"COUNTIFS('WHS Event Log'!$E$3:$E$502,L$138,'WHS Event Log'!$W$3:$W$502,StagingTables!$B184)","v":0},{"$f":"COUNTIFS('WHS Event Log'!$E$3:$E$502,M$138,'WHS Event Log'!$W$3:$W$502,StagingTables!$B184)","v":0},{"$f":"COUNTIFS('WHS Event Log'!$E$3:$E$502,N$138,'WHS Event Log'!$W$3:$W$502,StagingTables!$B184)","v":0},0]
[]
[null,"Controls Applied Raw v Residual Risk","Extreme","High","Medium","Low","Total","Extreme","High","Medium","Low","Total"]
[null,"Elimination",{"$f":"COUNTIFS('WHS Event Log'!$O$3:$O$502,C$186,'WHS Event Log'!$W$3:$W$502,StagingTables!$B187)","v":0},{"$f":"COUNTIFS('WHS Event Log'!$O$3:$O$502,D$186,'WHS Event Log'!$W$3:$W$502,StagingTables!$B187)","v":0},{"$f":"COUNTIFS('WHS Event Log'!$O$3:$O$502,E$186,'WHS Event Log'!$W$3:$W$502,StagingTables!$B187)","v":0},{"$f":"COUNTIFS('WHS Event Log'!$O$3:$O$502,F$186,'WHS Event Log'!$W$3:$W$502,StagingTables!$B187)","v":0},{"$f":"SUM(C187:F187)","v":0},{"$f":"COUNTIFS('WHS Event Log'!$Y$3:$Y$502,H$186,'WHS Event Log'!$W$3:$W$502,StagingTables!$B187)","v":0},{"$f":"COUNTIFS('WHS Event Log'!$Y$3:$Y$502,I$186,'WHS Event Log'!$W$3:$W$502,StagingTables!$B187)","v":0},{"$f":"COUNTIFS('WHS Event Log'!$Y$3:$Y$502,J$186,'WHS Event Log'!$W$3:$W$502,StagingTables!$B187)","v":0},{"$f":"COUNTIFS('WHS Event Log'!$Y$3:$Y$502,K$186,'WHS Event Log'!$W$3:$W$502,StagingTables!$B187)","v":0},{"$f":"SUM(H187:K187)","v":0}]
[null,"Substitution",{"$f":"COUNTIFS('WHS Event Log'!$O$3:$O$502,C$186,'WHS Event Log'!$W$3:$W$502,StagingTables!$B188)","v":0},{"$f":"COUNTIFS('WHS Event Log'!$O$3:$O$502,D$186,'WHS Event Log'!$W$3:$W$502,StagingTables!$B188)","v":0},{"$f":"COUNTIFS('WHS Event Log'!$O$3:$O$502,E$186,'WHS Event Log'!$W$3:$W$502,StagingTables!$B188)","v":0},{"$f":"COUNTIFS('WHS Event Log'!$O$3:$O$502,F$186,'WHS Event Log'!$W$3:$W$502,StagingTables!$B188)","v":0},0,{"$f":"COUNTIFS('WHS Event Log'!$Y$3:$Y$502,H$186,'WHS Event Log'!$W$3:$W$502,StagingTables!$B188)","v":0},{"$f":"COUNTIFS('WHS Event Log'!$Y$3:$Y$502,I$186,'WHS Event Log'!$W$3:$W$502,StagingTables!$B188)","v":0},{"$f":"COUNTIFS('WHS Event Log'!$Y$3:$Y$502,J$186,'WHS Event Log'!$W$3:$W$502,StagingTables!$B188)","v":0},{"$f":"COUNTIFS('WHS Event Log'!$Y$3:$Y$502,K$186,'WHS Event Log'!$W$3:$W$502,StagingTables!$B188)","v":0},0]
[null,"Isolation",{"$f":"COUNTIFS('WHS Event Log'!$O$3:$O$502,C$186,'WHS Event Log'!$W$3:$W$502,StagingTables!$B189)","v":0},{"$f":"COUNTIFS('WHS Event Log'!$O$3:$O$502,D$186,'WHS Event Log'!$W$3:$W$502,StagingTables!$B189)","v":0},{"$f":"COUNTIFS('WHS Event Log'!$O$3:$O$502,E$186,'WHS Event Log'!$W$3:$W$502,StagingTables!$B189)","v":0},{"$f":"COUNTIFS('WHS Event Log'!$O$3:$O$502,F$186,'WHS Event Log'!$W$3:$W$502,StagingTables!$B189)","v":0},0,{"$f":"COUNTIFS('WHS Event Log'!$Y$3:$Y$502,H$186,'WHS Event Log'!$W$3:$W$502,StagingTables!$B189)","v":0},{"$f":"COUNTIFS('WHS Event Log'!$Y$3:$Y$502,I$186,'WHS Event Log'!$W$3:$W$502,StagingTables!$B189)","v":0},{"$f":"COUNTIFS('WHS Event Log'!$Y$3:$Y$502,J$186,'WHS Event Log'!$W$3:$W$502,StagingTables!$B189)","v":0},{"$f":"COUNTIFS('WHS Event Log'!$Y$3:$Y$502,K$186,'WHS Event Log'!$W$3:$W$502,StagingTables!$B189)","v":0},0]
[null,"Engineering",{"$f":"COUNTIFS('WHS Event Log'!$O$3:$O$502,C$186,'WHS Event Log'!$W$3:$W$502,StagingTables!$B190)","v":0},{"$f":"COUNTIFS('WHS Event Log'!$O$3:$O$502,D$186,'WHS Event Log'!$W$3:$W$502,StagingTables!$B190)","v":0},{"$f":"COUNTIFS('WHS Event Log'!$O$3:$O$502,E$186,'WHS Event Log'!$W$3:$W$502,StagingTables!$B190)","v":0},{"$f":"COUNTIFS('WHS Event Log'!$O$3:$O$502,F$186,'WHS Event Log'!$W$3:$W$502,StagingTables!$B190)","v":0},0,{"$f":"COUNTIFS('WHS Event Log'!$Y$3:$Y$502,H$186,'WHS Event Log'!$W$3:$W$502,StagingTables!$B190)","v":0},{"$f":"COUNTIFS('WHS Event Log'!$Y$3:$Y$502,I$186,'WHS Event Log'!$W$3:$W$502,StagingTables!$B190)","v":0},{"$f":"COUNTIFS('WHS Event Log'!$Y$3:$Y$502,J$186,'WHS Event Log'!$W$3:$W$502,StagingTables!$B190)","v":0},{"$f":"COUNTIFS('WHS Event Log'!$Y$3:$Y$502,K$186,'WHS Event Log'!$W$3:$W$502,StagingTables!$B190)","v":0},0]
[null,"Administration",{"$f":"COUNTIFS('WHS Event Log'!$O$3:$O$502,C$186,'WHS Event Log'!$W$3:$W$502,StagingTables!$B191)","v":0},{"$f":"COUNTIFS('WHS Event Log'!$O$3:$O$502,D$186,'WHS Event Log'!$W$3:$W$502,StagingTables!$B191)","v":0},{"$f":"COUNTIFS('WHS Event Log'!$O$3:$O$502,E$186,'WHS Event Log'!$W$3:$W$502,StagingTables!$B191)","v":0},{"$f":"COUNTIFS('WHS Event Log'!$O$3:$O$502,F$186,'WHS Event Log'!$W$3:$W$502,StagingTables!$B191)","v":0},0,{"$f":"COUNTIFS('WHS Event Log'!$Y$3:$Y$502,H$186,'WHS Event Log'!$W$3:$W$502,StagingTables!$B191)","v":0},{"$f":"COUNTIFS('WHS Event Log'!$Y$3:$Y$502,I$186,'WHS Event Log'!$W$3:$W$502,StagingTables!$B191)","v":0},{"$f":"COUNTIFS('WHS Event Log'!$Y$3:$Y$502,J$186,'WHS Event Log'!$W$3:$W$502,StagingTables!$B191)","v":0},{"$f":"COUNTIFS('WHS Event Log'!$Y$3:$Y$502,K$186,'WHS Event Log'!$W$3:$W$502,StagingTables!$B191)","v":0},0]
[null,"PPE",{"$f":"COUNTIFS('WHS Event Log'!$O$3:$O$502,C$186,'WHS Event Log'!$W$3:$W$502,StagingTables!$B192)","v":0},{"$f":"COUNTIFS('WHS Event Log'!$O$3:$O$502,D$186,'WHS Event Log'!$W$3:$W$502,StagingTables!$B192)","v":0},{"$f":"COUNTIFS('WHS Event Log'!$O$3:$O$502,E$186,'WHS Event Log'!$W$3:$W$502,StagingTables!$B192)","v":0},{"$f":"COUNTIFS('WHS Event Log'!$O$3:$O$502,F$186,'WHS Event Log'!$W$3:$W$502,StagingTables!$B192)","v":0},0,{"$f":"COUNTIFS('WHS Event Log'!$Y$3:$Y$502,H$186,'WHS Event Log'!$W$3:$W$502,StagingTables!$B192)","v":0},{"$f":"COUNTIFS('WHS Event Log'!$Y$3:$Y$502,I$186,'WHS Event Log'!$W$3:$W$502,StagingTables!$B192)","v":0},{"$f":"COUNTIFS('WHS Event Log'!$Y$3:$Y$502,J$186,'WHS Event Log'!$W$3:$W$502,StagingTables!$B192)","v":0},{"$f":"COUNTIFS('WHS Event Log'!$Y$3:$Y$502,K$186,'WHS Event Log'!$W$3:$W$502,StagingTables!$B192)","v":0},0]

{"sheet":"Hazard Control","index":12,"n_rows":3,"n_cols":2,"rows_kept":3,"cut":false,"hidden":false,"merged":[]}
["Report Type","(Multiple Items)"]
[]
["Register Reference","Count of Register Reference"]

{"sheet":"Info Tables","index":13,"n_rows":179,"n_cols":17,"rows_kept":179,"cut":false,"hidden":true,"merged":[[10,15,15,15],[16,15,17,15],[18,15,21,15],[22,15,50,15],[2,15,8,15]]}
[]
[null,"Incident Type","January","February","March","April","May","June","July","August","September","October","November","December","Total","Sub Total","Claim"]
[null,"General",{"$f":"COUNTIFS('WHS Event Log'!$E$3:$E$502,C$2,'WHS Event Log'!$H$3:$H$502,StagingTables!$B3)","v":0},{"$f":"COUNTIFS('WHS Event Log'!$E$3:$E$502,D$2,'WHS Event Log'!$H$3:$H$502,StagingTables!$B3)","v":0},{"$f":"COUNTIFS('WHS Event Log'!$E$3:$E$502,E$2,'WHS Event Log'!$H$3:$H$502,StagingTables!$B3)","v":0},{"$f":"COUNTIFS('WHS Event Log'!$E$3:$E$502,F$2,'WHS Event Log'!$H$3:$H$502,StagingTables!$B3)","v":0},{"$f":"COUNTIFS('WHS Event Log'!$E$3:$E$502,G$2,'WHS Event Log'!$H$3:$H$502,StagingTables!$B3)","v":0},{"$f":"COUNTIFS('WHS Event Log'!$E$3:$E$502,H$2,'WHS Event Log'!$H$3:$H$502,StagingTables!$B3)","v":0},{"$f":"COUNTIFS('WHS Event Log'!$E$3:$E$502,I$2,'WHS Event Log'!$H$3:$H$502,StagingTables!$B3)","v":0},{"$f":"COUNTIFS('WHS Event Log'!$E$3:$E$502,J$2,'WHS Event Log'!$H$3:$H$502,StagingTables!$B3)","v":0},{"$f":"COUNTIFS('WHS Event Log'!$E$3:$E$502,K$2,'WHS Event Log'!$H$3:$H$502,StagingTables!$B3)","v":0},{"$f":"COUNTIFS('WHS Event Log'!$E$3:$E$502,L$2,'WHS Event Log'!$H$3:$H$502,StagingTables!$B3)","v":0},{"$f":"COUNTIFS('WHS Event Log'!$E$3:$E$502,M$2,'WHS Event Log'!$H$3:$H$502,StagingTables!$B3)","v":0},{"$f":"COUNTIFS('WHS Event Log'!$E$3:$E$502,N$2,'WHS Event Log'!$H$3:$H$502,StagingTables!$B3)","v":0},{"$f":"SUM(C3:N3)","v":0},{"$f":"SUM(O8:O9)","v":0},"N/A"]
[null,"Hazard Report",{"$f":"COUNTIFS('WHS Event Log'!$E$3:$E$502,C$2,'WHS Event Log'!$H$3:$H$502,StagingTables!$B4)","v":0},{"$f":"COUNTIFS('WHS Event Log'!$E$3:$E$502,D$2,'WHS Event Log'!$H$3:$H$502,StagingTables!$B4)","v":0},{"$f":"COUNTIFS('WHS Event Log'!$E$3:$E$502,E$2,'WHS Event Log'!$H$3:$H$502,StagingTables!$B4)","v":0},{"$f":"COUNTIFS('WHS Event Log'!$E$3:$E$502,F$2,'WHS Event Log'!$H$3:$H$502,StagingTables!$B4)","v":0},{"$f":"COUNTIFS('WHS Event Log'!$E$3:$E$502,G$2,'WHS Event Log'!$H$3:$H$502,StagingTables!$B4)","v":0},{"$f":"COUNTIFS('WHS Event Log'!$E$3:$E$502,H$2,'WHS Event Log'!$H$3:$H$502,StagingTables!$B4)","v":0},{"$f":"COUNTIFS('WHS Event Log'!$E$3:$E$502,I$2,'WHS Event Log'!$H$3:$H$502,StagingTables!$B4)","v":0},{"$f":"COUNTIFS('WHS Event Log'!$E$3:$E$502,J$2,'WHS Event Log'!$H$3:$H$502,StagingTables!$B4)","v":0},{"$f":"COUNTIFS('WHS Event Log'!$E$3:$E$502,K$2,'WHS Event Log'!$H$3:$H$502,StagingTables!$B4)","v":0},{"$f":"COUNTIFS('WHS Event Log'!$E$3:$E$502,L$2,'WHS Event Log'!$H$3:$H$502,StagingTables!$B4)","v":0},{"$f":"COUNTIFS('WHS Event Log'!$E$3:$E$502,M$2,'WHS Event Log'!$H$3:$H$502,StagingTables!$B4)","v":0},{"$f":"COUNTIFS('WHS Event Log'!$E$3:$E$502,N$2,'WHS Event Log'!$H$3:$H$502,StagingTables!$B4)","v":0},{"$f":"SUM(C4:N4)","v":0},null,"N/A"]
[null,"Maintenance",{"$f":"COUNTIFS('WHS Event Log'!$E$3:$E$502,C$2,'WHS Event Log'!$H$3:$H$502,StagingTables!$B5)","v":0},{"$f":"COUNTIFS('WHS Event Log'!$E$3:$E$502,D$2,'WHS Event Log'!$H$3:$H$502,StagingTables!$B5)","v":0},{"$f":"COUNTIFS('WHS Event Log'!$E$3:$E$502,E$2,'WHS Event Log'!$H$3:$H$502,StagingTables!$B5)","v":0},{"$f":"COUNTIFS('WHS Event Log'!$E$3:$E$502,F$2,'WHS Event Log'!$H$3:$H$502,StagingTables!$B5)","v":0},{"$f":"COUNTIFS('WHS Event Log'!$E$3:$E$502,G$2,'WHS Event Log'!$H$3:$H$502,StagingTables!$B5)","v":0},{"$f":"COUNTIFS('WHS Event Log'!$E$3:$E$502,H$2,'WHS Event Log'!$H$3:$H$502,StagingTables!$B5)","v":0},{"$f":"COUNTIFS('WHS Event Log'!$E$3:$E$502,I$2,'WHS Event Log'!$H$3:$H$502,StagingTables!$B5)","v":0},{"$f":"COUNTIFS('WHS Event Log'!$E$3:$E$502,J$2,'WHS Event Log'!$H$3:$H$502,StagingTables!$B5)","v":0},{"$f":"COUNTIFS('WHS Event Log'!$E$3:$E$502,K$2,'WHS Event Log'!$H$3:$H$502,StagingTables!$B5)","v":0},{"$f":"COUNTIFS('WHS Event Log'!$E$3:$E$502,L$2,'WHS Event Log'!$H$3:$H$502,StagingTables!$B5)","v":0},{"$f":"COUNTIFS('WHS Event Log'!$E$3:$E$502,M$2,'WHS Event Log'!$H$3:$H$502,StagingTables!$B5)","v":0},{"$f":"COUNTIFS('WHS Event Log'!$E$3:$E$502,N$2,'WHS Event Log'!$H$3:$H$502,StagingTables!$B5)","v":0},{"$f":"SUM(C5:N5)","v":0}]
[null,"System Compliance",{"$f":"COUNTIFS('WHS Event Log'!$E$3:$E$502,C$2,'WHS Event Log'!$H$3:$H$502,StagingTables!$B6)","v":0},{"$f":"COUNTIFS('WHS Event Log'!$E$3:$E$502,D$2,'WHS Event Log'!$H$3:$H$502,StagingTables!$B6)","v":0},{"$f":"COUNTIFS('WHS Event Log'!$E$3:$E$502,E$2,'WHS Event Log'!$H$3:$H$502,StagingTables!$B6)","v":0},{"$f":"COUNTIFS('WHS Event Log'!$E$3:$E$502,F$2,'WHS Event Log'!$H$3:$H$502,StagingTables!$B6)","v":0},{"$f":"COUNTIFS('WHS Event Log'!$E$3:$E$502,G$2,'WHS Event Log'!$H$3:$H$502,StagingTables!$B6)","v":0},{"$f":"COUNTIFS('WHS Event Log'!$E$3:$E$502,H$2,'WHS Event Log'!$H$3:$H$502,StagingTables!$B6)","v":0},{"$f":"COUNTIFS('WHS Event Log'!$E$3:$E$502,I$2,'WHS Event Log'!$H$3:$H$502,StagingTables!$B6)","v":0},{"$f":"COUNTIFS('WHS Event Log'!$E$3:$E$502,J$2,'WHS Event Log'!$H$3:$H$502,StagingTables!$B6)","v":0},{"$f":"COUNTIFS('WHS Event Log'!$E$3:$E$502,K$2,'WHS Event Log'!$H$3:$H$502,StagingTables!$B6)","v":0},{"$f":"COUNTIFS('WHS Event Log'!$E$3:$E$502,L$2,'WHS Event Log'!$H$3:$H$502,StagingTables!$B6)","v":0},{"$f":"COUNTIFS('WHS Event Log'!$E$3:$E$502,M$2,'WHS Event Log'!$H$3:$H$502,StagingTables!$B6)","v":0},{"$f":"COUNTIFS('WHS Event Log'!$E$3:$E$502,N$2,'WHS Event Log'!$H$3:$H$502,StagingTables!$B6)","v":0},{"$f":"SUM(C6:N6)","v":0}]
[null,"Incident External",{"$f":"COUNTIFS('WHS Event Log'!$E$3:$E$502,C$2,'WHS Event Log'!$H$3:$H$502,StagingTables!$B7)","v":0},{"$f":"COUNTIFS('WHS Event Log'!$E$3:$E$502,D$2,'WHS Event Log'!$H$3:$H$502,StagingTables!$B7)","v":0},{"$f":"COUNTIFS('WHS Event Log'!$E$3:$E$502,E$2,'WHS Event Log'!$H$3:$H$502,StagingTables!$B7)","v":0},{"$f":"COUNTIFS('WHS Event Log'!$E$3:$E$502,F$2,'WHS Event Log'!$H$3:$H$502,StagingTables!$B7)","v":0},{"$f":"COUNTIFS('WHS Event Log'!$E$3:$E$502,G$2,'WHS Event Log'!$H$3:$H$502,StagingTables!$B7)","v":0},{"$f":"COUNTIFS('WHS Event Log'!$E$3:$E$502,H$2,'WHS Event Log'!$H$3:$H$502,StagingTables!$B7)","v":0},{"$f":"COUNTIFS('WHS Event Log'!$E$3:$E$502,I$2,'WHS Event Log'!$H$3:$H$502,StagingTables!$B7)","v":0},{"$f":"COUNTIFS('WHS Event Log'!$E$3:$E$502,J$2,'WHS Event Log'!$H$3:$H$502,StagingTables!$B7)","v":0},{"$f":"COUNTIFS('WHS Event Log'!$E$3:$E$502,K$2,'WHS Event Log'!$H$3:$H$502,StagingTables!$B7)","v":0},{"$f":"COUNTIFS('WHS Event Log'!$E$3:$E$502,L$2,'WHS Event Log'!$H$3:$H$502,StagingTables!$B7)","v":0},{"$f":"COUNTIFS('WHS Event Log'!$E$3:$E$502,M$2,'WHS Event Log'!$H$3:$H$502,StagingTables!$B7)","v":0},{"$f":"COUNTIFS('WHS Event Log'!$E$3:$E$502,N$2,'WHS Event Log'!$H$3:$H$502,StagingTables!$B7)","v":0},{"$f":"SUM(C7:N7)","v":0}]
[null,"Incident",{"$f":"COUNTIFS('WHS Event Log'!$E$3:$E$502,C$2,'WHS Event Log'!$H$3:$H$502,StagingTables!$B8)","v":0},{"$f":"COUNTIFS('WHS Event Log'!$E$3:$E$502,D$2,'WHS Event Log'!$H$3:$H$502,StagingTables!$B8)","v":0},{"$f":"COUNTIFS('WHS Event Log'!$E$3:$E$502,E$2,'WHS Event Log'!$H$3:$H$502,StagingTables!$B8)","v":0},{"$f":"COUNTIFS('WHS Event Log'!$E$3:$E$502,F$2,'WHS Event Log'!$H$3:$H$502,StagingTables!$B8)","v":0},{"$f":"COUNTIFS('WHS Event Log'!$E$3:$E$502,G$2,'WHS Event Log'!$H$3:$H$502,StagingTables!$B8)","v":0},{"$f":"COUNTIFS('WHS Event Log'!$E$3:$E$502,H$2,'WHS Event Log'!$H$3:$H$502,StagingTables!$B8)","v":0},{"$f":"COUNTIFS('WHS Event Log'!$E$3:$E$502,I$2,'WHS Event Log'!$H$3:$H$502,StagingTables!$B8)","v":0},{"$f":"COUNTIFS('WHS Event Log'!$E$3:$E$502,J$2,'WHS Event Log'!$H$3:$H$502,StagingTables!$B8)","v":0},{"$f":"COUNTIFS('WHS Event Log'!$E$3:$E$502,K$2,'WHS Event Log'!$H$3:$H$502,StagingTables!$B8)","v":0},{"$f":"COUNTIFS('WHS Event Log'!$E$3:$E$502,L$2,'WHS Event Log'!$H$3:$H$502,StagingTables!$B8)","v":0},{"$f":"COUNTIFS('WHS Event Log'!$E$3:$E$502,M$2,'WHS Event Log'!$H$3:$H$502,StagingTables!$B8)","v":0},{"$f":"COUNTIFS('WHS Event Log'!$E$3:$E$502,N$2,'WHS Event Log'!$H$3:$H$502,StagingTables!$B8)","v":0},{"$f":"SUM(C8:N8)","v":0}]
[null,"Incident with Injury(s)",{"$f":"COUNTIFS('WHS Event Log'!$E$3:$E$502,C$2,'WHS Event Log'!$H$3:$H$502,StagingTables!$B9)","v":0},{"$f":"COUNTIFS('WHS Event Log'!$E$3:$E$502,D$2,'WHS Event Log'!$H$3:$H$502,StagingTables!$B9)","v":0},{"$f":"COUNTIFS('WHS Event Log'!$E$3:$E$502,E$2,'WHS Event Log'!$H$3:$H$502,StagingTables!$B9)","v":0},{"$f":"COUNTIFS('WHS Event Log'!$E$3:$E$502,F$2,'WHS Event Log'!$H$3:$H$502,StagingTables!$B9)","v":0},{"$f":"COUNTIFS('WHS Event Log'!$E$3:$E$502,G$2,'WHS Event Log'!$H$3:$H$502,StagingTables!$B9)","v":0},{"$f":"COUNTIFS('WHS Event Log'!$E$3:$E$502,H$2,'WHS Event Log'!$H$3:$H$502,StagingTables!$B9)","v":0},{"$f":"COUNTIFS('WHS Event Log'!$E$3:$E$502,I$2,'WHS Event Log'!$H$3:$H$502,StagingTables!$B9)","v":0},{"$f":"COUNTIFS('WHS Event Log'!$E$3:$E$502,J$2,'WHS Event Log'!$H$3:$H$502,StagingTables!$B9)","v":0},{"$f":"COUNTIFS('WHS Event Log'!$E$3:$E$502,K$2,'WHS Event Log'!$H$3:$H$502,StagingTables!$B9)","v":0},{"$f":"COUNTIFS('WHS Event Log'!$E$3:$E$502,L$2,'WHS Event Log'!$H$3:$H$502,StagingTables!$B9)","v":0},{"$f":"COUNTIFS('WHS Event Log'!$E$3:$E$502,M$2,'WHS Event Log'!$H$3:$H$502,StagingTables!$B9)","v":0},{"$f":"COUNTIFS('WHS Event Log'!$E$3:$E$502,N$2,'WHS Event Log'!$H$3:$H$502,StagingTables!$B9)","v":0},{"$f":"SUM(C9:N9)","v":0},null,"N/A"]
[null,"Total",{"$f":"StagingTables!C10","v":0},{"$f":"StagingTables!D10","v":0},{"$f":"StagingTables!E10","v":0},{"$f":"StagingTables!F10","v":0},{"$f":"StagingTables!G10","v":0},{"$f":"StagingTables!H10","v":0},{"$f":"StagingTables!I10","v":0},{"$f":"StagingTables!J10","v":0},{"$f":"StagingTables!K10","v":0},{"$f":"StagingTables!L10","v":0},{"$f":"StagingTables!M10","v":0},{"$f":"StagingTables!N10","v":0},0]
[null,"Manual Handling Lift General",{"$f":"COUNTIFS('WHS Event Log'!$E$3:$E$502,C$2,'WHS Event Log'!$J$3:$J$502,StagingTables!$B11)","v":0},{"$f":"COUNTIFS('WHS Event Log'!$E$3:$E$502,D$2,'WHS Event Log'!$J$3:$J$502,StagingTables!$B11)","v":0},{"$f":"COUNTIFS('WHS Event Log'!$E$3:$E$502,E$2,'WHS Event Log'!$J$3:$J$502,StagingTables!$B11)","v":0},{"$f":"COUNTIFS('WHS Event Log'!$E$3:$E$502,F$2,'WHS Event Log'!$J$3:$J$502,StagingTables!$B11)","v":0},{"$f":"COUNTIFS('WHS Event Log'!$E$3:$E$502,G$2,'WHS Event Log'!$J$3:$J$502,StagingTables!$B11)","v":0},{"$f":"COUNTIFS('WHS Event Log'!$E$3:$E$502,H$2,'WHS Event Log'!$J$3:$J$502,StagingTables!$B11)","v":0},{"$f":"COUNTIFS('WHS Event Log'!$E$3:$E$502,I$2,'WHS Event Log'!$J$3:$J$502,StagingTables!$B11)","v":0},{"$f":"COUNTIFS('WHS Event Log'!$E$3:$E$502,J$2,'WHS Event Log'!$J$3:$J$502,StagingTables!$B11)","v":0},{"$f":"COUNTIFS('WHS Event Log'!$E$3:$E$502,K$2,'WHS Event Log'!$J$3:$J$502,StagingTables!$B11)","v":0},{"$f":"COUNTIFS('WHS Event Log'!$E$3:$E$502,L$2,'WHS Event Log'!$J$3:$J$502,StagingTables!$B11)","v":0},{"$f":"COUNTIFS('WHS Event Log'!$E$3:$E$502,M$2,'WHS Event Log'!$J$3:$J$502,StagingTables!$B11)","v":0},{"$f":"COUNTIFS('WHS Event Log'!$E$3:$E$502,N$2,'WHS Event Log'!$J$3:$J$502,StagingTables!$B11)","v":0},0,{"$f":"SUM(O11:O16)","v":0},{"$f":"COUNTIFS('WHS Event Log'!$J$3:$J$502,$B11,'WHS Event Log'!$S$3:$S$502,Lists!$E$3)","v":0}]
[null,"Manual Handling Push/Pull General",{"$f":"COUNTIFS('WHS Event Log'!$E$3:$E$502,C$2,'WHS Event Log'!$J$3:$J$502,StagingTables!$B12)","v":0},{"$f":"COUNTIFS('WHS Event Log'!$E$3:$E$502,D$2,'WHS Event Log'!$J$3:$J$502,StagingTables!$B12)","v":0},{"$f":"COUNTIFS('WHS Event Log'!$E$3:$E$502,E$2,'WHS Event Log'!$J$3:$J$502,StagingTables!$B12)","v":0},{"$f":"COUNTIFS('WHS Event Log'!$E$3:$E$502,F$2,'WHS Event Log'!$J$3:$J$502,StagingTables!$B12)","v":0},{"$f":"COUNTIFS('WHS Event Log'!$E$3:$E$502,G$2,'WHS Event Log'!$J$3:$J$502,StagingTables!$B12)","v":0},{"$f":"COUNTIFS('WHS Event Log'!$E$3:$E$502,H$2,'WHS Event Log'!$J$3:$J$502,StagingTables!$B12)","v":0},{"$f":"COUNTIFS('WHS Event Log'!$E$3:$E$502,I$2,'WHS Event Log'!$J$3:$J$502,StagingTables!$B12)","v":0},{"$f":"COUNTIFS('WHS Event Log'!$E$3:$E$502,J$2,'WHS Event Log'!$J$3:$J$502,StagingTables!$B12)","v":0},{"$f":"COUNTIFS('WHS Event Log'!$E$3:$E$502,K$2,'WHS Event Log'!$J$3:$J$502,StagingTables!$B12)","v":0},{"$f":"COUNTIFS('WHS Event Log'!$E$3:$E$502,L$2,'WHS Event Log'!$J$3:$J$502,StagingTables!$B12)","v":0},{"$f":"COUNTIFS('WHS Event Log'!$E$3:$E$502,M$2,'WHS Event Log'!$J$3:$J$502,StagingTables!$B12)","v":0},{"$f":"COUNTIFS('WHS Event Log'!$E$3:$E$502,N$2,'WHS Event Log'!$J$3:$J$502,StagingTables!$B12)","v":0},0,null,{"$f":"COUNTIFS('WHS Event Log'!$J$3:$J$502,$B12,'WHS Event Log'!$S$3:$S$502,Lists!$E$3)","v":0}]
[null,"Manual Handling Plant Entry",{"$f":"COUNTIFS('WHS Event Log'!$E$3:$E$502,C$2,'WHS Event Log'!$J$3:$J$502,StagingTables!$B13)","v":0},{"$f":"COUNTIFS('WHS Event Log'!$E$3:$E$502,D$2,'WHS Event Log'!$J$3:$J$502,StagingTables!$B13)","v":0},{"$f":"COUNTIFS('WHS Event Log'!$E$3:$E$502,E$2,'WHS Event Log'!$J$3:$J$502,StagingTables!$B13)","v":0},{"$f":"COUNTIFS('WHS Event Log'!$E$3:$E$502,F$2,'WHS Event Log'!$J$3:$J$502,StagingTables!$B13)","v":0},{"$f":"COUNTIFS('WHS Event Log'!$E$3:$E$502,G$2,'WHS Event Log'!$J$3:$J$502,StagingTables!$B13)","v":0},{"$f":"COUNTIFS('WHS Event Log'!$E$3:$E$502,H$2,'WHS Event Log'!$J$3:$J$502,StagingTables!$B13)","v":0},{"$f":"COUNTIFS('WHS Event Log'!$E$3:$E$502,I$2,'WHS Event Log'!$J$3:$J$502,StagingTables!$B13)","v":0},{"$f":"COUNTIFS('WHS Event Log'!$E$3:$E$502,J$2,'WHS Event Log'!$J$3:$J$502,StagingTables!$B13)","v":0},{"$f":"COUNTIFS('WHS Event Log'!$E$3:$E$502,K$2,'WHS Event Log'!$J$3:$J$502,StagingTables!$B13)","v":0},{"$f":"COUNTIFS('WHS Event Log'!$E$3:$E$502,L$2,'WHS Event Log'!$J$3:$J$502,StagingTables!$B13)","v":0},{"$f":"COUNTIFS('WHS Event Log'!$E$3:$E$502,M$2,'WHS Event Log'!$J$3:$J$502,StagingTables!$B13)","v":0},{"$f":"COUNTIFS('WHS Event Log'!$E$3:$E$502,N$2,'WHS Event Log'!$J$3:$J$502,StagingTables!$B13)","v":0},0,null,{"$f":"COUNTIFS('WHS Event Log'!$J$3:$J$502,$B13,'WHS Event Log'!$S$3:$S$502,Lists!$E$3)","v":0}]
[null,"Manual Handling Plant Exit",{"$f":"COUNTIFS('WHS Event Log'!$E$3:$E$502,C$2,'WHS Event Log'!$J$3:$J$502,StagingTables!$B14)","v":0},{"$f":"COUNTIFS('WHS Event Log'!$E$3:$E$502,D$2,'WHS Event Log'!$J$3:$J$502,StagingTables!$B14)","v":0},{"$f":"COUNTIFS('WHS Event Log'!$E$3:$E$502,E$2,'WHS Event Log'!$J$3:$J$502,StagingTables!$B14)","v":0},{"$f":"COUNTIFS('WHS Event Log'!$E$3:$E$502,F$2,'WHS Event Log'!$J$3:$J$502,StagingTables!$B14)","v":0},{"$f":"COUNTIFS('WHS Event Log'!$E$3:$E$502,G$2,'WHS Event Log'!$J$3:$J$502,StagingTables!$B14)","v":0},{"$f":"COUNTIFS('WHS Event Log'!$E$3:$E$502,H$2,'WHS Event Log'!$J$3:$J$502,StagingTables!$B14)","v":0},{"$f":"COUNTIFS('WHS Event Log'!$E$3:$E$502,I$2,'WHS Event Log'!$J$3:$J$502,StagingTables!$B14)","v":0},{"$f":"COUNTIFS('WHS Event Log'!$E$3:$E$502,J$2,'WHS Event Log'!$J$3:$J$502,StagingTables!$B14)","v":0},{"$f":"COUNTIFS('WHS Event Log'!$E$3:$E$502,K$2,'WHS Event Log'!$J$3:$J$502,StagingTables!$B14)","v":0},{"$f":"COUNTIFS('WHS Event Log'!$E$3:$E$502,L$2,'WHS Event Log'!$J$3:$J$502,StagingTables!$B14)","v":0},{"$f":"COUNTIFS('WHS Event Log'!$E$3:$E$502,M$2,'WHS Event Log'!$J$3:$J$502,StagingTables!$B14)","v":0},{"$f":"COUNTIFS('WHS Event Log'!$E$3:$E$502,N$2,'WHS Event Log'!$J$3:$J$502,StagingTables!$B14)","v":0},0,null,{"$f":"COUNTIFS('WHS Event Log'!$J$3:$J$502,$B14,'WHS Event Log'!$S$3:$S$502,Lists!$E$3)","v":0}]
[null,"Manual Handling Plant Operation",{"$f":"COUNTIFS('WHS Event Log'!$E$3:$E$502,C$2,'WHS Event Log'!$J$3:$J$502,StagingTables!$B15)","v":0},{"$f":"COUNTIFS('WHS Event Log'!$E$3:$E$502,D$2,'WHS Event Log'!$J$3:$J$502,StagingTables!$B15)","v":0},{"$f":"COUNTIFS('WHS Event Log'!$E$3:$E$502,E$2,'WHS Event Log'!$J$3:$J$502,StagingTables!$B15)","v":0},{"$f":"COUNTIFS('WHS Event Log'!$E$3:$E$502,F$2,'WHS Event Log'!$J$3:$J$502,StagingTables!$B15)","v":0},{"$f":"COUNTIFS('WHS Event Log'!$E$3:$E$502,G$2,'WHS Event Log'!$J$3:$J$502,StagingTables!$B15)","v":0},{"$f":"COUNTIFS('WHS Event Log'!$E$3:$E$502,H$2,'WHS Event Log'!$J$3:$J$502,StagingTables!$B15)","v":0},{"$f":"COUNTIFS('WHS Event Log'!$E$3:$E$502,I$2,'WHS Event Log'!$J$3:$J$502,StagingTables!$B15)","v":0},{"$f":"COUNTIFS('WHS Event Log'!$E$3:$E$502,J$2,'WHS Event Log'!$J$3:$J$502,StagingTables!$B15)","v":0},{"$f":"COUNTIFS('WHS Event Log'!$E$3:$E$502,K$2,'WHS Event Log'!$J$3:$J$502,StagingTables!$B15)","v":0},{"$f":"COUNTIFS('WHS Event Log'!$E$3:$E$502,L$2,'WHS Event Log'!$J$3:$J$502,StagingTables!$B15)","v":0},{"$f":"COUNTIFS('WHS Event Log'!$E$3:$E$502,M$2,'WHS Event Log'!$J$3:$J$502,StagingTables!$B15)","v":0},{"$f":"COUNTIFS('WHS Event Log'!$E$3:$E$502,N$2,'WHS Event Log'!$J$3:$J$502,StagingTables!$B15)","v":0},0,null,{"$f":"COUNTIFS('WHS Event Log'!$J$3:$J$502,$B15,'WHS Event Log'!$S$3:$S$502,Lists!$E$3)","v":0}]
[null,"Manual Handling Posture",{"$f":"COUNTIFS('WHS Event Log'!$E$3:$E$502,C$2,'WHS Event Log'!$J$3:$J$502,StagingTables!$B16)","v":0},{"$f":"COUNTIFS('WHS Event Log'!$E$3:$E$502,D$2,'WHS Event Log'!$J$3:$J$502,StagingTables!$B16)","v":0},{"$f":"COUNTIFS('WHS Event Log'!$E$3:$E$502,E$2,'WHS Event Log'!$J$3:$J$502,StagingTables!$B16)","v":0},{"$f":"COUNTIFS('WHS Event Log'!$E$3:$E$502,F$2,'WHS Event Log'!$J$3:$J$502,StagingTables!$B16)","v":0},{"$f":"COUNTIFS('WHS Event Log'!$E$3:$E$502,G$2,'WHS Event Log'!$J$3:$J$502,StagingTables!$B16)","v":0},{"$f":"COUNTIFS('WHS Event Log'!$E$3:$E$502,H$2,'WHS Event Log'!$J$3:$J$502,StagingTables!$B16)","v":0},{"$f":"COUNTIFS('WHS Event Log'!$E$3:$E$502,I$2,'WHS Event Log'!$J$3:$J$502,StagingTables!$B16)","v":0},{"$f":"COUNTIFS('WHS Event Log'!$E$3:$E$502,J$2,'WHS Event Log'!$J$3:$J$502,StagingTables!$B16)","v":0},{"$f":"COUNTIFS('WHS Event Log'!$E$3:$E$502,K$2,'WHS Event Log'!$J$3:$J$502,StagingTables!$B16)","v":0},{"$f":"COUNTIFS('WHS Event Log'!$E$3:$E$502,L$2,'WHS Event Log'!$J$3:$J$502,StagingTables!$B16)","v":0},{"$f":"COUNTIFS('WHS Event Log'!$E$3:$E$502,M$2,'WHS Event Log'!$J$3:$J$502,StagingTables!$B16)","v":0},{"$f":"COUNTIFS('WHS Event Log'!$E$3:$E$502,N$2,'WHS Event Log'!$J$3:$J$502,StagingTables!$B16)","v":0},0,null,{"$f":"COUNTIFS('WHS Event Log'!$J$3:$J$502,$B16,'WHS Event Log'!$S$3:$S$502,Lists!$E$3)","v":0}]
[null,"Second Party Physical",{"$f":"COUNTIFS('WHS Event Log'!$E$3:$E$502,C$2,'WHS Event Log'!$J$3:$J$502,StagingTables!$B17)","v":0},{"$f":"COUNTIFS('WHS Event Log'!$E$3:$E$502,D$2,'WHS Event Log'!$J$3:$J$502,StagingTables!$B17)","v":0},{"$f":"COUNTIFS('WHS Event Log'!$E$3:$E$502,E$2,'WHS Event Log'!$J$3:$J$502,StagingTables!$B17)","v":0},{"$f":"COUNTIFS('WHS Event Log'!$E$3:$E$502,F$2,'WHS Event Log'!$J$3:$J$502,StagingTables!$B17)","v":0},{"$f":"COUNTIFS('WHS Event Log'!$E$3:$E$502,G$2,'WHS Event Log'!$J$3:$J$502,StagingTables!$B17)","v":0},{"$f":"COUNTIFS('WHS Event Log'!$E$3:$E$502,H$2,'WHS Event Log'!$J$3:$J$502,StagingTables!$B17)","v":0},{"$f":"COUNTIFS('WHS Event Log'!$E$3:$E$502,I$2,'WHS Event Log'!$J$3:$J$502,StagingTables!$B17)","v":0},{"$f":"COUNTIFS('WHS Event Log'!$E$3:$E$502,J$2,'WHS Event Log'!$J$3:$J$502,StagingTables!$B17)","v":0},{"$f":"COUNTIFS('WHS Event Log'!$E$3:$E$502,K$2,'WHS Event Log'!$J$3:$J$502,StagingTables!$B17)","v":0},{"$f":"COUNTIFS('WHS Event Log'!$E$3:$E$502,L$2,'WHS Event Log'!$J$3:$J$502,StagingTables!$B17)","v":0},{"$f":"COUNTIFS('WHS Event Log'!$E$3:$E$502,M$2,'WHS Event Log'!$J$3:$J$502,StagingTables!$B17)","v":0},{"$f":"COUNTIFS('WHS Event Log'!$E$3:$E$502,N$2,'WHS Event Log'!$J$3:$J$502,StagingTables!$B17)","v":0},0,{"$f":"SUM(O17:O18)","v":0},{"$f":"COUNTIFS('WHS Event Log'!$J$3:$J$502,$B17,'WHS Event Log'!$S$3:$S$502,Lists!$E$3)","v":0}]
[null,"Second Party Other",{"$f":"COUNTIFS('WHS Event Log'!$E$3:$E$502,C$2,'WHS Event Log'!$J$3:$J$502,StagingTables!$B18)","v":0},{"$f":"COUNTIFS('WHS Event Log'!$E$3:$E$502,D$2,'WHS Event Log'!$J$3:$J$502,StagingTables!$B18)","v":0},{"$f":"COUNTIFS('WHS Event Log'!$E$3:$E$502,E$2,'WHS Event Log'!$J$3:$J$502,StagingTables!$B18)","v":0},{"$f":"COUNTIFS('WHS Event Log'!$E$3:$E$502,F$2,'WHS Event Log'!$J$3:$J$502,StagingTables!$B18)","v":0},{"$f":"COUNTIFS('WHS Event Log'!$E$3:$E$502,G$2,'WHS Event Log'!$J$3:$J$502,StagingTables!$B18)","v":0},{"$f":"COUNTIFS('WHS Event Log'!$E$3:$E$502,H$2,'WHS Event Log'!$J$3:$J$502,StagingTables!$B18)","v":0},{"$f":"COUNTIFS('WHS Event Log'!$E$3:$E$502,I$2,'WHS Event Log'!$J$3:$J$502,StagingTables!$B18)","v":0},{"$f":"COUNTIFS('WHS Event Log'!$E$3:$E$502,J$2,'WHS Event Log'!$J$3:$J$502,StagingTables!$B18)","v":0},{"$f":"COUNTIFS('WHS Event Log'!$E$3:$E$502,K$2,'WHS Event Log'!$J$3:$J$502,StagingTables!$B18)","v":0},{"$f":"COUNTIFS('WHS Event Log'!$E$3:$E$502,L$2,'WHS Event Log'!$J$3:$J$502,StagingTables!$B18)","v":0},{"$f":"COUNTIFS('WHS Event Log'!$E$3:$E$502,M$2,'WHS Event Log'!$J$3:$J$502,StagingTables!$B18)","v":0},{"$f":"COUNTIFS('WHS Event Log'!$E$3:$E$502,N$2,'WHS Event Log'!$J$3:$J$502,StagingTables!$B18)","v":0},0,null,{"$f":"COUNTIFS('WHS Event Log'!$J$3:$J$502,$B18,'WHS Event Log'!$S$3:$S$502,Lists!$E$3)","v":0}]
[null,"Plant Design",{"$f":"COUNTIFS('WHS Event Log'!$E$3:$E$502,C$2,'WHS Event Log'!$J$3:$J$502,StagingTables!$B19)","v":0},{"$f":"COUNTIFS('WHS Event Log'!$E$3:$E$502,D$2,'WHS Event Log'!$J$3:$J$502,StagingTables!$B19)","v":0},{"$f":"COUNTIFS('WHS Event Log'!$E$3:$E$502,E$2,'WHS Event Log'!$J$3:$J$502,StagingTables!$B19)","v":0},{"$f":"COUNTIFS('WHS Event Log'!$E$3:$E$502,F$2,'WHS Event Log'!$J$3:$J$502,StagingTables!$B19)","v":0},{"$f":"COUNTIFS('WHS Event Log'!$E$3:$E$502,G$2,'WHS Event Log'!$J$3:$J$502,StagingTables!$B19)","v":0},{"$f":"COUNTIFS('WHS Event Log'!$E$3:$E$502,H$2,'WHS Event Log'!$J$3:$J$502,StagingTables!$B19)","v":0},{"$f":"COUNTIFS('WHS Event Log'!$E$3:$E$502,I$2,'WHS Event Log'!$J$3:$J$502,StagingTables!$B19)","v":0},{"$f":"COUNTIFS('WHS Event Log'!$E$3:$E$502,J$2,'WHS Event Log'!$J$3:$J$502,StagingTables!$B19)","v":0},{"$f":"COUNTIFS('WHS Event Log'!$E$3:$E$502,K$2,'WHS Event Log'!$J$3:$J$502,StagingTables!$B19)","v":0},{"$f":"COUNTIFS('WHS Event Log'!$E$3:$E$502,L$2,'WHS Event Log'!$J$3:$J$502,StagingTables!$B19)","v":0},{"$f":"COUNTIFS('WHS Event Log'!$E$3:$E$502,M$2,'WHS Event Log'!$J$3:$J$502,StagingTables!$B19)","v":0},{"$f":"COUNTIFS('WHS Event Log'!$E$3:$E$502,N$2,'WHS Event Log'!$J$3:$J$502,StagingTables!$B19)","v":0},0,{"$f":"SUM(O19:O22)","v":0},{"$f":"COUNTIFS('WHS Event Log'!$J$3:$J$502,$B19,'WHS Event Log'!$S$3:$S$502,Lists!$E$3)","v":0}]
[null,"Plant/Equipment Failure",{"$f":"COUNTIFS('WHS Event Log'!$E$3:$E$502,C$2,'WHS Event Log'!$J$3:$J$502,StagingTables!$B20)","v":0},{"$f":"COUNTIFS('WHS Event Log'!$E$3:$E$502,D$2,'WHS Event Log'!$J$3:$J$502,StagingTables!$B20)","v":0},{"$f":"COUNTIFS('WHS Event Log'!$E$3:$E$502,E$2,'WHS Event Log'!$J$3:$J$502,StagingTables!$B20)","v":0},{"$f":"COUNTIFS('WHS Event Log'!$E$3:$E$502,F$2,'WHS Event Log'!$J$3:$J$502,StagingTables!$B20)","v":0},{"$f":"COUNTIFS('WHS Event Log'!$E$3:$E$502,G$2,'WHS Event Log'!$J$3:$J$502,StagingTables!$B20)","v":0},{"$f":"COUNTIFS('WHS Event Log'!$E$3:$E$502,H$2,'WHS Event Log'!$J$3:$J$502,StagingTables!$B20)","v":0},{"$f":"COUNTIFS('WHS Event Log'!$E$3:$E$502,I$2,'WHS Event Log'!$J$3:$J$502,StagingTables!$B20)","v":0},{"$f":"COUNTIFS('WHS Event Log'!$E$3:$E$502,J$2,'WHS Event Log'!$J$3:$J$502,StagingTables!$B20)","v":0},{"$f":"COUNTIFS('WHS Event Log'!$E$3:$E$502,K$2,'WHS Event Log'!$J$3:$J$502,StagingTables!$B20)","v":0},{"$f":"COUNTIFS('WHS Event Log'!$E$3:$E$502,L$2,'WHS Event Log'!$J$3:$J$502,StagingTables!$B20)","v":0},{"$f":"COUNTIFS('WHS Event Log'!$E$3:$E$502,M$2,'WHS Event Log'!$J$3:$J$502,StagingTables!$B20)","v":0},{"$f":"COUNTIFS('WHS Event Log'!$E$3:$E$502,N$2,'WHS Event Log'!$J$3:$J$502,StagingTables!$B20)","v":0},0,null,{"$f":"COUNTIFS('WHS Event Log'!$J$3:$J$502,$B20,'WHS Event Log'!$S$3:$S$502,Lists!$E$3)","v":0}]
[null,"Plant/Equipment Use",{"$f":"COUNTIFS('WHS Event Log'!$E$3:$E$502,C$2,'WHS Event Log'!$J$3:$J$502,StagingTables!$B21)","v":0},{"$f":"COUNTIFS('WHS Event Log'!$E$3:$E$502,D$2,'WHS Event Log'!$J$3:$J$502,StagingTables!$B21)","v":0},{"$f":"COUNTIFS('WHS Event Log'!$E$3:$E$502,E$2,'WHS Event Log'!$J$3:$J$502,StagingTables!$B21)","v":0},{"$f":"COUNTIFS('WHS Event Log'!$E$3:$E$502,F$2,'WHS Event Log'!$J$3:$J$502,StagingTables!$B21)","v":0},{"$f":"COUNTIFS('WHS Event Log'!$E$3:$E$502,G$2,'WHS Event Log'!$J$3:$J$502,StagingTables!$B21)","v":0},{"$f":"COUNTIFS('WHS Event Log'!$E$3:$E$502,H$2,'WHS Event Log'!$J$3:$J$502,StagingTables!$B21)","v":0},{"$f":"COUNTIFS('WHS Event Log'!$E$3:$E$502,I$2,'WHS Event Log'!$J$3:$J$502,StagingTables!$B21)","v":0},{"$f":"COUNTIFS('WHS Event Log'!$E$3:$E$502,J$2,'WHS Event Log'!$J$3:$J$502,StagingTables!$B21)","v":0},{"$f":"COUNTIFS('WHS Event Log'!$E$3:$E$502,K$2,'WHS Event Log'!$J$3:$J$502,StagingTables!$B21)","v":0},{"$f":"COUNTIFS('WHS Event Log'!$E$3:$E$502,L$2,'WHS Event Log'!$J$3:$J$502,StagingTables!$B21)","v":0},{"$f":"COUNTIFS('WHS Event Log'!$E$3:$E$502,M$2,'WHS Event Log'!$J$3:$J$502,StagingTables!$B21)","v":0},{"$f":"COUNTIFS('WHS Event Log'!$E$3:$E$502,N$2,'WHS Event Log'!$J$3:$J$502,StagingTables!$B21)","v":0},0,null,{"$f":"COUNTIFS('WHS Event Log'!$J$3:$J$502,$B21,'WHS Event Log'!$S$3:$S$502,Lists!$E$3)","v":0}]
[null,"Plant Inspection",{"$f":"COUNTIFS('WHS Event Log'!$E$3:$E$502,C$2,'WHS Event Log'!$J$3:$J$502,StagingTables!$B22)","v":0},{"$f":"COUNTIFS('WHS Event Log'!$E$3:$E$502,D$2,'WHS Event Log'!$J$3:$J$502,StagingTables!$B22)","v":0},{"$f":"COUNTIFS('WHS Event Log'!$E$3:$E$502,E$2,'WHS Event Log'!$J$3:$J$502,StagingTables!$B22)","v":0},{"$f":"COUNTIFS('WHS Event Log'!$E$3:$E$502,F$2,'WHS Event Log'!$J$3:$J$502,StagingTables!$B22)","v":0},{"$f":"COUNTIFS('WHS Event Log'!$E$3:$E$502,G$2,'WHS Event Log'!$J$3:$J$502,StagingTables!$B22)","v":0},{"$f":"COUNTIFS('WHS Event Log'!$E$3:$E$502,H$2,'WHS Event Log'!$J$3:$J$502,StagingTables!$B22)","v":0},{"$f":"COUNTIFS('WHS Event Log'!$E$3:$E$502,I$2,'WHS Event Log'!$J$3:$J$502,StagingTables!$B22)","v":0},{"$f":"COUNTIFS('WHS Event Log'!$E$3:$E$502,J$2,'WHS Event Log'!$J$3:$J$502,StagingTables!$B22)","v":0},{"$f":"COUNTIFS('WHS Event Log'!$E$3:$E$502,K$2,'WHS Event Log'!$J$3:$J$502,StagingTables!$B22)","v":0},{"$f":"COUNTIFS('WHS Event Log'!$E$3:$E$502,L$2,'WHS Event Log'!$J$3:$J$502,StagingTables!$B22)","v":0},{"$f":"COUNTIFS('WHS Event Log'!$E$3:$E$502,M$2,'WHS Event Log'!$J$3:$J$502,StagingTables!$B22)","v":0},{"$f":"COUNTIFS('WHS Event Log'!$E$3:$E$502,N$2,'WHS Event Log'!$J$3:$J$502,StagingTables!$B22)","v":0},0,null,{"$f":"COUNTIFS('WHS Event Log'!$J$3:$J$502,$B22,'WHS Event Log'!$S$3:$S$502,Lists!$E$3)","v":0}]
[null,"Chemical",{"$f":"COUNTIFS('WHS Event Log'!$E$3:$E$502,C$2,'WHS Event Log'!$J$3:$J$502,StagingTables!$B23)","v":0},{"$f":"COUNTIFS('WHS Event Log'!$E$3:$E$502,D$2,'WHS Event Log'!$J$3:$J$502,StagingTables!$B23)","v":0},{"$f":"COUNTIFS('WHS Event Log'!$E$3:$E$502,E$2,'WHS Event Log'!$J$3:$J$502,StagingTables!$B23)","v":0},{"$f":"COUNTIFS('WHS Event Log'!$E$3:$E$502,F$2,'WHS Event Log'!$J$3:$J$502,StagingTables!$B23)","v":0},{"$f":"COUNTIFS('WHS Event Log'!$E$3:$E$502,G$2,'WHS Event Log'!$J$3:$J$502,StagingTables!$B23)","v":0},{"$f":"COUNTIFS('WHS Event Log'!$E$3:$E$502,H$2,'WHS Event Log'!$J$3:$J$502,StagingTables!$B23)","v":0},{"$f":"COUNTIFS('WHS Event Log'!$E$3:$E$502,I$2,'WHS Event Log'!$J$3:$J$502,StagingTables!$B23)","v":0},{"$f":"COUNTIFS('WHS Event Log'!$E$3:$E$502,J$2,'WHS Event Log'!$J$3:$J$502,StagingTables!$B23)","v":0},{"$f":"COUNTIFS('WHS Event Log'!$E$3:$E$502,K$2,'WHS Event Log'!$J$3:$J$502,StagingTables!$B23)","v":0},{"$f":"COUNTIFS('WHS Event Log'!$E$3:$E$502,L$2,'WHS Event Log'!$J$3:$J$502,StagingTables!$B23)","v":0},{"$f":"COUNTIFS('WHS Event Log'!$E$3:$E$502,M$2,'WHS Event Log'!$J$3:$J$502,StagingTables!$B23)","v":0},{"$f":"COUNTIFS('WHS Event Log'!$E$3:$E$502,N$2,'WHS Event Log'!$J$3:$J$502,StagingTables!$B23)","v":0},0,{"$f":"SUM(O23:O51)","v":0},{"$f":"COUNTIFS('WHS Event Log'!$J$3:$J$502,$B23,'WHS Event Log'!$S$3:$S$502,Lists!$E$3)","v":0}]
[null,"Electrical",{"$f":"COUNTIFS('WHS Event Log'!$E$3:$E$502,C$2,'WHS Event Log'!$J$3:$J$502,StagingTables!$B24)","v":0},{"$f":"COUNTIFS('WHS Event Log'!$E$3:$E$502,D$2,'WHS Event Log'!$J$3:$J$502,StagingTables!$B24)","v":0},{"$f":"COUNTIFS('WHS Event Log'!$E$3:$E$502,E$2,'WHS Event Log'!$J$3:$J$502,StagingTables!$B24)","v":0},{"$f":"COUNTIFS('WHS Event Log'!$E$3:$E$502,F$2,'WHS Event Log'!$J$3:$J$502,StagingTables!$B24)","v":0},{"$f":"COUNTIFS('WHS Event Log'!$E$3:$E$502,G$2,'WHS Event Log'!$J$3:$J$502,StagingTables!$B24)","v":0},{"$f":"COUNTIFS('WHS Event Log'!$E$3:$E$502,H$2,'WHS Event Log'!$J$3:$J$502,StagingTables!$B24)","v":0},{"$f":"COUNTIFS('WHS Event Log'!$E$3:$E$502,I$2,'WHS Event Log'!$J$3:$J$502,StagingTables!$B24)","v":0},{"$f":"COUNTIFS('WHS Event Log'!$E$3:$E$502,J$2,'WHS Event Log'!$J$3:$J$502,StagingTables!$B24)","v":0},{"$f":"COUNTIFS('WHS Event Log'!$E$3:$E$502,K$2,'WHS Event Log'!$J$3:$J$502,StagingTables!$B24)","v":0},{"$f":"COUNTIFS('WHS Event Log'!$E$3:$E$502,L$2,'WHS Event Log'!$J$3:$J$502,StagingTables!$B24)","v":0},{"$f":"COUNTIFS('WHS Event Log'!$E$3:$E$502,M$2,'WHS Event Log'!$J$3:$J$502,StagingTables!$B24)","v":0},{"$f":"COUNTIFS('WHS Event Log'!$E$3:$E$502,N$2,'WHS Event Log'!$J$3:$J$502,StagingTables!$B24)","v":0},0,null,{"$f":"COUNTIFS('WHS Event Log'!$J$3:$J$502,$B24,'WHS Event Log'!$S$3:$S$502,Lists!$E$3)","v":0}]
[null,"Environment",{"$f":"COUNTIFS('WHS Event Log'!$E$3:$E$502,C$2,'WHS Event Log'!$J$3:$J$502,StagingTables!$B25)","v":0},{"$f":"COUNTIFS('WHS Event Log'!$E$3:$E$502,D$2,'WHS Event Log'!$J$3:$J$502,StagingTables!$B25)","v":0},{"$f":"COUNTIFS('WHS Event Log'!$E$3:$E$502,E$2,'WHS Event Log'!$J$3:$J$502,StagingTables!$B25)","v":0},{"$f":"COUNTIFS('WHS Event Log'!$E$3:$E$502,F$2,'WHS Event Log'!$J$3:$J$502,StagingTables!$B25)","v":0},{"$f":"COUNTIFS('WHS Event Log'!$E$3:$E$502,G$2,'WHS Event Log'!$J$3:$J$502,StagingTables!$B25)","v":0},{"$f":"COUNTIFS('WHS Event Log'!$E$3:$E$502,H$2,'WHS Event Log'!$J$3:$J$502,StagingTables!$B25)","v":0},{"$f":"COUNTIFS('WHS Event Log'!$E$3:$E$502,I$2,'WHS Event Log'!$J$3:$J$502,StagingTables!$B25)","v":0},{"$f":"COUNTIFS('WHS Event Log'!$E$3:$E$502,J$2,'WHS Event Log'!$J$3:$J$502,StagingTables!$B25)","v":0},{"$f":"COUNTIFS('WHS Event Log'!$E$3:$E$502,K$2,'WHS Event Log'!$J$3:$J$502,StagingTables!$B25)","v":0},{"$f":"COUNTIFS('WHS Event Log'!$E$3:$E$502,L$2,'WHS Event Log'!$J$3:$J$502,StagingTables!$B25)","v":0},{"$f":"COUNTIFS('WHS Event Log'!$E$3:$E$502,M$2,'WHS Event Log'!$J$3:$J$502,StagingTables!$B25)","v":0},{"$f":"COUNTIFS('WHS Event Log'!$E$3:$E$502,N$2,'WHS Event Log'!$J$3:$J$502,StagingTables!$B25)","v":0},0,null,{"$f":"COUNTIFS('WHS Event Log'!$J$3:$J$502,$B25,'WHS Event Log'!$S$3:$S$502,Lists!$E$3)","v":0}]
[null,"External - No Control",{"$f":"COUNTIFS('WHS Event Log'!$E$3:$E$502,C$2,'WHS Event Log'!$J$3:$J$502,StagingTables!$B26)","v":0},{"$f":"COUNTIFS('WHS Event Log'!$E$3:$E$502,D$2,'WHS Event Log'!$J$3:$J$502,StagingTables!$B26)","v":0},{"$f":"COUNTIFS('WHS Event Log'!$E$3:$E$502,E$2,'WHS Event Log'!$J$3:$J$502,StagingTables!$B26)","v":0},{"$f":"COUNTIFS('WHS Event Log'!$E$3:$E$502,F$2,'WHS Event Log'!$J$3:$J$502,StagingTables!$B26)","v":0},{"$f":"COUNTIFS('WHS Event Log'!$E$3:$E$502,G$2,'WHS Event Log'!$J$3:$J$502,StagingTables!$B26)","v":0},{"$f":"COUNTIFS('WHS Event Log'!$E$3:$E$502,H$2,'WHS Event Log'!$J$3:$J$502,StagingTables!$B26)","v":0},{"$f":"COUNTIFS('WHS Event Log'!$E$3:$E$502,I$2,'WHS Event Log'!$J$3:$J$502,StagingTables!$B26)","v":0},{"$f":"COUNTIFS('WHS Event Log'!$E$3:$E$502,J$2,'WHS Event Log'!$J$3:$J$502,StagingTables!$B26)","v":0},{"$f":"COUNTIFS('WHS Event Log'!$E$3:$E$502,K$2,'WHS Event Log'!$J$3:$J$502,StagingTables!$B26)","v":0},{"$f":"COUNTIFS('WHS Event Log'!$E$3:$E$502,L$2,'WHS Event Log'!$J$3:$J$502,StagingTables!$B26)","v":0},{"$f":"COUNTIFS('WHS Event Log'!$E$3:$E$502,M$2,'WHS Event Log'!$J$3:$J$502,StagingTables!$B26)","v":0},{"$f":"COUNTIFS('WHS Event Log'!$E$3:$E$502,N$2,'WHS Event Log'!$J$3:$J$502,StagingTables!$B26)","v":0},0,null,{"$f":"COUNTIFS('WHS Event Log'!$J$3:$J$502,$B26,'WHS Event Log'!$S$3:$S$502,Lists!$E$3)","v":0}]
[null,"Failure to Report",{"$f":"COUNTIFS('WHS Event Log'!$E$3:$E$502,C$2,'WHS Event Log'!$J$3:$J$502,StagingTables!$B27)","v":0},{"$f":"COUNTIFS('WHS Event Log'!$E$3:$E$502,D$2,'WHS Event Log'!$J$3:$J$502,StagingTables!$B27)","v":0},{"$f":"COUNTIFS('WHS Event Log'!$E$3:$E$502,E$2,'WHS Event Log'!$J$3:$J$502,StagingTables!$B27)","v":0},{"$f":"COUNTIFS('WHS Event Log'!$E$3:$E$502,F$2,'WHS Event Log'!$J$3:$J$502,StagingTables!$B27)","v":0},{"$f":"COUNTIFS('WHS Event Log'!$E$3:$E$502,G$2,'WHS Event Log'!$J$3:$J$502,StagingTables!$B27)","v":0},{"$f":"COUNTIFS('WHS Event Log'!$E$3:$E$502,H$2,'WHS Event Log'!$J$3:$J$502,StagingTables!$B27)","v":0},{"$f":"COUNTIFS('WHS Event Log'!$E$3:$E$502,I$2,'WHS Event Log'!$J$3:$J$502,StagingTables!$B27)","v":0},{"$f":"COUNTIFS('WHS Event Log'!$E$3:$E$502,J$2,'WHS Event Log'!$J$3:$J$502,StagingTables!$B27)","v":0},{"$f":"COUNTIFS('WHS Event Log'!$E$3:$E$502,K$2,'WHS Event Log'!$J$3:$J$502,StagingTables!$B27)","v":0},{"$f":"COUNTIFS('WHS Event Log'!$E$3:$E$502,L$2,'WHS Event Log'!$J$3:$J$502,StagingTables!$B27)","v":0},{"$f":"COUNTIFS('WHS Event Log'!$E$3:$E$502,M$2,'WHS Event Log'!$J$3:$J$502,StagingTables!$B27)","v":0},{"$f":"COUNTIFS('WHS Event Log'!$E$3:$E$502,N$2,'WHS Event Log'!$J$3:$J$502,StagingTables!$B27)","v":0},0,null,{"$f":"COUNTIFS('WHS Event Log'!$J$3:$J$502,$B27,'WHS Event Log'!$S$3:$S$502,Lists!$E$3)","v":0}]
[null,"Fall - Object",{"$f":"COUNTIFS('WHS Event Log'!$E$3:$E$502,C$2,'WHS Event Log'!$J$3:$J$502,StagingTables!$B28)","v":0},{"$f":"COUNTIFS('WHS Event Log'!$E$3:$E$502,D$2,'WHS Event Log'!$J$3:$J$502,StagingTables!$B28)","v":0},{"$f":"COUNTIFS('WHS Event Log'!$E$3:$E$502,E$2,'WHS Event Log'!$J$3:$J$502,StagingTables!$B28)","v":0},{"$f":"COUNTIFS('WHS Event Log'!$E$3:$E$502,F$2,'WHS Event Log'!$J$3:$J$502,StagingTables!$B28)","v":0},{"$f":"COUNTIFS('WHS Event Log'!$E$3:$E$502,G$2,'WHS Event Log'!$J$3:$J$502,StagingTables!$B28)","v":0},{"$f":"COUNTIFS('WHS Event Log'!$E$3:$E$502,H$2,'WHS Event Log'!$J$3:$J$502,StagingTables!$B28)","v":0},{"$f":"COUNTIFS('WHS Event Log'!$E$3:$E$502,I$2,'WHS Event Log'!$J$3:$J$502,StagingTables!$B28)","v":0},{"$f":"COUNTIFS('WHS Event Log'!$E$3:$E$502,J$2,'WHS Event Log'!$J$3:$J$502,StagingTables!$B28)","v":0},{"$f":"COUNTIFS('WHS Event Log'!$E$3:$E$502,K$2,'WHS Event Log'!$J$3:$J$502,StagingTables!$B28)","v":0},{"$f":"COUNTIFS('WHS Event Log'!$E$3:$E$502,L$2,'WHS Event Log'!$J$3:$J$502,StagingTables!$B28)","v":0},{"$f":"COUNTIFS('WHS Event Log'!$E$3:$E$502,M$2,'WHS Event Log'!$J$3:$J$502,StagingTables!$B28)","v":0},{"$f":"COUNTIFS('WHS Event Log'!$E$3:$E$502,N$2,'WHS Event Log'!$J$3:$J$502,StagingTables!$B28)","v":0},0,null,{"$f":"COUNTIFS('WHS Event Log'!$J$3:$J$502,$B28,'WHS Event Log'!$S$3:$S$502,Lists!$E$3)","v":0}]
[null,"Fall from Height - Person",{"$f":"COUNTIFS('WHS Event Log'!$E$3:$E$502,C$2,'WHS Event Log'!$J$3:$J$502,StagingTables!$B29)","v":0},{"$f":"COUNTIFS('WHS Event Log'!$E$3:$E$502,D$2,'WHS Event Log'!$J$3:$J$502,StagingTables!$B29)","v":0},{"$f":"COUNTIFS('WHS Event Log'!$E$3:$E$502,E$2,'WHS Event Log'!$J$3:$J$502,StagingTables!$B29)","v":0},{"$f":"COUNTIFS('WHS Event Log'!$E$3:$E$502,F$2,'WHS Event Log'!$J$3:$J$502,StagingTables!$B29)","v":0},{"$f":"COUNTIFS('WHS Event Log'!$E$3:$E$502,G$2,'WHS Event Log'!$J$3:$J$502,StagingTables!$B29)","v":0},{"$f":"COUNTIFS('WHS Event Log'!$E$3:$E$502,H$2,'WHS Event Log'!$J$3:$J$502,StagingTables!$B29)","v":0},{"$f":"COUNTIFS('WHS Event Log'!$E$3:$E$502,I$2,'WHS Event Log'!$J$3:$J$502,StagingTables!$B29)","v":0},{"$f":"COUNTIFS('WHS Event Log'!$E$3:$E$502,J$2,'WHS Event Log'!$J$3:$J$502,StagingTables!$B29)","v":0},{"$f":"COUNTIFS('WHS Event Log'!$E$3:$E$502,K$2,'WHS Event Log'!$J$3:$J$502,StagingTables!$B29)","v":0},{"$f":"COUNTIFS('WHS Event Log'!$E$3:$E$502,L$2,'WHS Event Log'!$J$3:$J$502,StagingTables!$B29)","v":0},{"$f":"COUNTIFS('WHS Event Log'!$E$3:$E$502,M$2,'WHS Event Log'!$J$3:$J$502,StagingTables!$B29)","v":0},{"$f":"COUNTIFS('WHS Event Log'!$E$3:$E$502,N$2,'WHS Event Log'!$J$3:$J$502,StagingTables!$B29)","v":0},0,null,{"$f":"COUNTIFS('WHS Event Log'!$J$3:$J$502,$B29,'WHS Event Log'!$S$3:$S$502,Lists!$E$3)","v":0}]
[null,"Fatigue-Human",{"$f":"COUNTIFS('WHS Event Log'!$E$3:$E$502,C$2,'WHS Event Log'!$J$3:$J$502,StagingTables!$B30)","v":0},{"$f":"COUNTIFS('WHS Event Log'!$E$3:$E$502,D$2,'WHS Event Log'!$J$3:$J$502,StagingTables!$B30)","v":0},{"$f":"COUNTIFS('WHS Event Log'!$E$3:$E$502,E$2,'WHS Event Log'!$J$3:$J$502,StagingTables!$B30)","v":0},{"$f":"COUNTIFS('WHS Event Log'!$E$3:$E$502,F$2,'WHS Event Log'!$J$3:$J$502,StagingTables!$B30)","v":0},{"$f":"COUNTIFS('WHS Event Log'!$E$3:$E$502,G$2,'WHS Event Log'!$J$3:$J$502,StagingTables!$B30)","v":0},{"$f":"COUNTIFS('WHS Event Log'!$E$3:$E$502,H$2,'WHS Event Log'!$J$3:$J$502,StagingTables!$B30)","v":0},{"$f":"COUNTIFS('WHS Event Log'!$E$3:$E$502,I$2,'WHS Event Log'!$J$3:$J$502,StagingTables!$B30)","v":0},{"$f":"COUNTIFS('WHS Event Log'!$E$3:$E$502,J$2,'WHS Event Log'!$J$3:$J$502,StagingTables!$B30)","v":0},{"$f":"COUNTIFS('WHS Event Log'!$E$3:$E$502,K$2,'WHS Event Log'!$J$3:$J$502,StagingTables!$B30)","v":0},{"$f":"COUNTIFS('WHS Event Log'!$E$3:$E$502,L$2,'WHS Event Log'!$J$3:$J$502,StagingTables!$B30)","v":0},{"$f":"COUNTIFS('WHS Event Log'!$E$3:$E$502,M$2,'WHS Event Log'!$J$3:$J$502,StagingTables!$B30)","v":0},{"$f":"COUNTIFS('WHS Event Log'!$E$3:$E$502,N$2,'WHS Event Log'!$J$3:$J$502,StagingTables!$B30)","v":0},0,null,{"$f":"COUNTIFS('WHS Event Log'!$J$3:$J$502,$B30,'WHS Event Log'!$S$3:$S$502,Lists!$E$3)","v":0}]
[null,"Furniture",{"$f":"COUNTIFS('WHS Event Log'!$E$3:$E$502,C$2,'WHS Event Log'!$J$3:$J$502,StagingTables!$B31)","v":0},{"$f":"COUNTIFS('WHS Event Log'!$E$3:$E$502,D$2,'WHS Event Log'!$J$3:$J$502,StagingTables!$B31)","v":0},{"$f":"COUNTIFS('WHS Event Log'!$E$3:$E$502,E$2,'WHS Event Log'!$J$3:$J$502,StagingTables!$B31)","v":0},{"$f":"COUNTIFS('WHS Event Log'!$E$3:$E$502,F$2,'WHS Event Log'!$J$3:$J$502,StagingTables!$B31)","v":0},{"$f":"COUNTIFS('WHS Event Log'!$E$3:$E$502,G$2,'WHS Event Log'!$J$3:$J$502,StagingTables!$B31)","v":0},{"$f":"COUNTIFS('WHS Event Log'!$E$3:$E$502,H$2,'WHS Event Log'!$J$3:$J$502,StagingTables!$B31)","v":0},{"$f":"COUNTIFS('WHS Event Log'!$E$3:$E$502,I$2,'WHS Event Log'!$J$3:$J$502,StagingTables!$B31)","v":0},{"$f":"COUNTIFS('WHS Event Log'!$E$3:$E$502,J$2,'WHS Event Log'!$J$3:$J$502,StagingTables!$B31)","v":0},{"$f":"COUNTIFS('WHS Event Log'!$E$3:$E$502,K$2,'WHS Event Log'!$J$3:$J$502,StagingTables!$B31)","v":0},{"$f":"COUNTIFS('WHS Event Log'!$E$3:$E$502,L$2,'WHS Event Log'!$J$3:$J$502,StagingTables!$B31)","v":0},{"$f":"COUNTIFS('WHS Event Log'!$E$3:$E$502,M$2,'WHS Event Log'!$J$3:$J$502,StagingTables!$B31)","v":0},{"$f":"COUNTIFS('WHS Event Log'!$E$3:$E$502,N$2,'WHS Event Log'!$J$3:$J$502,StagingTables!$B31)","v":0},0,null,{"$f":"COUNTIFS('WHS Event Log'!$J$3:$J$502,$B31,'WHS Event Log'!$S$3:$S$502,Lists!$E$3)","v":0}]
[null,"Hazardous Condition",{"$f":"COUNTIFS('WHS Event Log'!$E$3:$E$502,C$2,'WHS Event Log'!$J$3:$J$502,StagingTables!$B32)","v":0},{"$f":"COUNTIFS('WHS Event Log'!$E$3:$E$502,D$2,'WHS Event Log'!$J$3:$J$502,StagingTables!$B32)","v":0},{"$f":"COUNTIFS('WHS Event Log'!$E$3:$E$502,E$2,'WHS Event Log'!$J$3:$J$502,StagingTables!$B32)","v":0},{"$f":"COUNTIFS('WHS Event Log'!$E$3:$E$502,F$2,'WHS Event Log'!$J$3:$J$502,StagingTables!$B32)","v":0},{"$f":"COUNTIFS('WHS Event Log'!$E$3:$E$502,G$2,'WHS Event Log'!$J$3:$J$502,StagingTables!$B32)","v":0},{"$f":"COUNTIFS('WHS Event Log'!$E$3:$E$502,H$2,'WHS Event Log'!$J$3:$J$502,StagingTables!$B32)","v":0},{"$f":"COUNTIFS('WHS Event Log'!$E$3:$E$502,I$2,'WHS Event Log'!$J$3:$J$502,StagingTables!$B32)","v":0},{"$f":"COUNTIFS('WHS Event Log'!$E$3:$E$502,J$2,'WHS Event Log'!$J$3:$J$502,StagingTables!$B32)","v":0},{"$f":"COUNTIFS('WHS Event Log'!$E$3:$E$502,K$2,'WHS Event Log'!$J$3:$J$502,StagingTables!$B32)","v":0},{"$f":"COUNTIFS('WHS Event Log'!$E$3:$E$502,L$2,'WHS Event Log'!$J$3:$J$502,StagingTables!$B32)","v":0},{"$f":"COUNTIFS('WHS Event Log'!$E$3:$E$502,M$2,'WHS Event Log'!$J$3:$J$502,StagingTables!$B32)","v":0},{"$f":"COUNTIFS('WHS Event Log'!$E$3:$E$502,N$2,'WHS Event Log'!$J$3:$J$502,StagingTables!$B32)","v":0},0,null,{"$f":"COUNTIFS('WHS Event Log'!$J$3:$J$502,$B32,'WHS Event Log'!$S$3:$S$502,Lists!$E$3)","v":0}]
[null,"Hazardous Substance",{"$f":"COUNTIFS('WHS Event Log'!$E$3:$E$502,C$2,'WHS Event Log'!$J$3:$J$502,StagingTables!$B33)","v":0},{"$f":"COUNTIFS('WHS Event Log'!$E$3:$E$502,D$2,'WHS Event Log'!$J$3:$J$502,StagingTables!$B33)","v":0},{"$f":"COUNTIFS('WHS Event Log'!$E$3:$E$502,E$2,'WHS Event Log'!$J$3:$J$502,StagingTables!$B33)","v":0},{"$f":"COUNTIFS('WHS Event Log'!$E$3:$E$502,F$2,'WHS Event Log'!$J$3:$J$502,StagingTables!$B33)","v":0},{"$f":"COUNTIFS('WHS Event Log'!$E$3:$E$502,G$2,'WHS Event Log'!$J$3:$J$502,StagingTables!$B33)","v":0},{"$f":"COUNTIFS('WHS Event Log'!$E$3:$E$502,H$2,'WHS Event Log'!$J$3:$J$502,StagingTables!$B33)","v":0},{"$f":"COUNTIFS('WHS Event Log'!$E$3:$E$502,I$2,'WHS Event Log'!$J$3:$J$502,StagingTables!$B33)","v":0},{"$f":"COUNTIFS('WHS Event Log'!$E$3:$E$502,J$2,'WHS Event Log'!$J$3:$J$502,StagingTables!$B33)","v":0},{"$f":"COUNTIFS('WHS Event Log'!$E$3:$E$502,K$2,'WHS Event Log'!$J$3:$J$502,StagingTables!$B33)","v":0},{"$f":"COUNTIFS('WHS Event Log'!$E$3:$E$502,L$2,'WHS Event Log'!$J$3:$J$502,StagingTables!$B33)","v":0},{"$f":"COUNTIFS('WHS Event Log'!$E$3:$E$502,M$2,'WHS Event Log'!$J$3:$J$502,StagingTables!$B33)","v":0},{"$f":"COUNTIFS('WHS Event Log'!$E$3:$E$502,N$2,'WHS Event Log'!$J$3:$J$502,StagingTables!$B33)","v":0},0,null,{"$f":"COUNTIFS('WHS Event Log'!$J$3:$J$502,$B33,'WHS Event Log'!$S$3:$S$502,Lists!$E$3)","v":0}]
[null,"Hot Object",{"$f":"COUNTIFS('WHS Event Log'!$E$3:$E$502,C$2,'WHS Event Log'!$J$3:$J$502,StagingTables!$B34)","v":0},{"$f":"COUNTIFS('WHS Event Log'!$E$3:$E$502,D$2,'WHS Event Log'!$J$3:$J$502,StagingTables!$B34)","v":0},{"$f":"COUNTIFS('WHS Event Log'!$E$3:$E$502,E$2,'WHS Event Log'!$J$3:$J$502,StagingTables!$B34)","v":0},{"$f":"COUNTIFS('WHS Event Log'!$E$3:$E$502,F$2,'WHS Event Log'!$J$3:$J$502,StagingTables!$B34)","v":0},{"$f":"COUNTIFS('WHS Event Log'!$E$3:$E$502,G$2,'WHS Event Log'!$J$3:$J$502,StagingTables!$B34)","v":0},{"$f":"COUNTIFS('WHS Event Log'!$E$3:$E$502,H$2,'WHS Event Log'!$J$3:$J$502,StagingTables!$B34)","v":0},{"$f":"COUNTIFS('WHS Event Log'!$E$3:$E$502,I$2,'WHS Event Log'!$J$3:$J$502,StagingTables!$B34)","v":0},{"$f":"COUNTIFS('WHS Event Log'!$E$3:$E$502,J$2,'WHS Event Log'!$J$3:$J$502,StagingTables!$B34)","v":0},{"$f":"COUNTIFS('WHS Event Log'!$E$3:$E$502,K$2,'WHS Event Log'!$J$3:$J$502,StagingTables!$B34)","v":0},{"$f":"COUNTIFS('WHS Event Log'!$E$3:$E$502,L$2,'WHS Event Log'!$J$3:$J$502,StagingTables!$B34)","v":0},{"$f":"COUNTIFS('WHS Event Log'!$E$3:$E$502,M$2,'WHS Event Log'!$J$3:$J$502,StagingTables!$B34)","v":0},{"$f":"COUNTIFS('WHS Event Log'!$E$3:$E$502,N$2,'WHS Event Log'!$J$3:$J$502,StagingTables!$B34)","v":0},0,null,{"$f":"COUNTIFS('WHS Event Log'!$J$3:$J$502,$B34,'WHS Event Log'!$S$3:$S$502,Lists!$E$3)","v":0}]
[null,"Infrastructure",{"$f":"COUNTIFS('WHS Event Log'!$E$3:$E$502,C$2,'WHS Event Log'!$J$3:$J$502,StagingTables!$B35)","v":0},{"$f":"COUNTIFS('WHS Event Log'!$E$3:$E$502,D$2,'WHS Event Log'!$J$3:$J$502,StagingTables!$B35)","v":0},{"$f":"COUNTIFS('WHS Event Log'!$E$3:$E$502,E$2,'WHS Event Log'!$J$3:$J$502,StagingTables!$B35)","v":0},{"$f":"COUNTIFS('WHS Event Log'!$E$3:$E$502,F$2,'WHS Event Log'!$J$3:$J$502,StagingTables!$B35)","v":0},{"$f":"COUNTIFS('WHS Event Log'!$E$3:$E$502,G$2,'WHS Event Log'!$J$3:$J$502,StagingTables!$B35)","v":0},{"$f":"COUNTIFS('WHS Event Log'!$E$3:$E$502,H$2,'WHS Event Log'!$J$3:$J$502,StagingTables!$B35)","v":0},{"$f":"COUNTIFS('WHS Event Log'!$E$3:$E$502,I$2,'WHS Event Log'!$J$3:$J$502,StagingTables!$B35)","v":0},{"$f":"COUNTIFS('WHS Event Log'!$E$3:$E$502,J$2,'WHS Event Log'!$J$3:$J$502,StagingTables!$B35)","v":0},{"$f":"COUNTIFS('WHS Event Log'!$E$3:$E$502,K$2,'WHS Event Log'!$J$3:$J$502,StagingTables!$B35)","v":0},{"$f":"COUNTIFS('WHS Event Log'!$E$3:$E$502,L$2,'WHS Event Log'!$J$3:$J$502,StagingTables!$B35)","v":0},{"$f":"COUNTIFS('WHS Event Log'!$E$3:$E$502,M$2,'WHS Event Log'!$J$3:$J$502,StagingTables!$B35)","v":0},{"$f":"COUNTIFS('WHS Event Log'!$E$3:$E$502,N$2,'WHS Event Log'!$J$3:$J$502,StagingTables!$B35)","v":0},{"$f":"SUM(C35:N35)","v":0},null,{"$f":"COUNTIFS('WHS Event Log'!$J$3:$J$502,$B35,'WHS Event Log'!$S$3:$S$502,Lists!$E$3)","v":0}]
[null,"Maintenance Issue",{"$f":"COUNTIFS('WHS Event Log'!$E$3:$E$502,C$2,'WHS Event Log'!$J$3:$J$502,StagingTables!$B36)","v":0},{"$f":"COUNTIFS('WHS Event Log'!$E$3:$E$502,D$2,'WHS Event Log'!$J$3:$J$502,StagingTables!$B36)","v":0},{"$f":"COUNTIFS('WHS Event Log'!$E$3:$E$502,E$2,'WHS Event Log'!$J$3:$J$502,StagingTables!$B36)","v":0},{"$f":"COUNTIFS('WHS Event Log'!$E$3:$E$502,F$2,'WHS Event Log'!$J$3:$J$502,StagingTables!$B36)","v":0},{"$f":"COUNTIFS('WHS Event Log'!$E$3:$E$502,G$2,'WHS Event Log'!$J$3:$J$502,StagingTables!$B36)","v":0},{"$f":"COUNTIFS('WHS Event Log'!$E$3:$E$502,H$2,'WHS Event Log'!$J$3:$J$502,StagingTables!$B36)","v":0},{"$f":"COUNTIFS('WHS Event Log'!$E$3:$E$502,I$2,'WHS Event Log'!$J$3:$J$502,StagingTables!$B36)","v":0},{"$f":"COUNTIFS('WHS Event Log'!$E$3:$E$502,J$2,'WHS Event Log'!$J$3:$J$502,StagingTables!$B36)","v":0},{"$f":"COUNTIFS('WHS Event Log'!$E$3:$E$502,K$2,'WHS Event Log'!$J$3:$J$502,StagingTables!$B36)","v":0},{"$f":"COUNTIFS('WHS Event Log'!$E$3:$E$502,L$2,'WHS Event Log'!$J$3:$J$502,StagingTables!$B36)","v":0},{"$f":"COUNTIFS('WHS Event Log'!$E$3:$E$502,M$2,'WHS Event Log'!$J$3:$J$502,StagingTables!$B36)","v":0},{"$f":"COUNTIFS('WHS Event Log'!$E$3:$E$502,N$2,'WHS Event Log'!$J$3:$J$502,StagingTables!$B36)","v":0},0,null,{"$f":"COUNTIFS('WHS Event Log'!$J$3:$J$502,$B36,'WHS Event Log'!$S$3:$S$502,Lists!$E$3)","v":0}]
[null,"Medical",{"$f":"COUNTIFS('WHS Event Log'!$E$3:$E$502,C$2,'WHS Event Log'!$J$3:$J$502,StagingTables!$B37)","v":0},{"$f":"COUNTIFS('WHS Event Log'!$E$3:$E$502,D$2,'WHS Event Log'!$J$3:$J$502,StagingTables!$B37)","v":0},{"$f":"COUNTIFS('WHS Event Log'!$E$3:$E$502,E$2,'WHS Event Log'!$J$3:$J$502,StagingTables!$B37)","v":0},{"$f":"COUNTIFS('WHS Event Log'!$E$3:$E$502,F$2,'WHS Event Log'!$J$3:$J$502,StagingTables!$B37)","v":0},{"$f":"COUNTIFS('WHS Event Log'!$E$3:$E$502,G$2,'WHS Event Log'!$J$3:$J$502,StagingTables!$B37)","v":0},{"$f":"COUNTIFS('WHS Event Log'!$E$3:$E$502,H$2,'WHS Event Log'!$J$3:$J$502,StagingTables!$B37)","v":0},{"$f":"COUNTIFS('WHS Event Log'!$E$3:$E$502,I$2,'WHS Event Log'!$J$3:$J$502,StagingTables!$B37)","v":0},{"$f":"COUNTIFS('WHS Event Log'!$E$3:$E$502,J$2,'WHS Event Log'!$J$3:$J$502,StagingTables!$B37)","v":0},{"$f":"COUNTIFS('WHS Event Log'!$E$3:$E$502,K$2,'WHS Event Log'!$J$3:$J$502,StagingTables!$B37)","v":0},{"$f":"COUNTIFS('WHS Event Log'!$E$3:$E$502,L$2,'WHS Event Log'!$J$3:$J$502,StagingTables!$B37)","v":0},{"$f":"COUNTIFS('WHS Event Log'!$E$3:$E$502,M$2,'WHS Event Log'!$J$3:$J$502,StagingTables!$B37)","v":0},{"$f":"COUNTIFS('WHS Event Log'!$E$3:$E$502,N$2,'WHS Event Log'!$J$3:$J$502,StagingTables!$B37)","v":0},0,null,{"$f":"COUNTIFS('WHS Event Log'!$J$3:$J$502,$B37,'WHS Event Log'!$S$3:$S$502,Lists!$E$3)","v":0}]
[null,"Negligence",{"$f":"COUNTIFS('WHS Event Log'!$E$3:$E$502,C$2,'WHS Event Log'!$J$3:$J$502,StagingTables!$B38)","v":0},{"$f":"COUNTIFS('WHS Event Log'!$E$3:$E$502,D$2,'WHS Event Log'!$J$3:$J$502,StagingTables!$B38)","v":0},{"$f":"COUNTIFS('WHS Event Log'!$E$3:$E$502,E$2,'WHS Event Log'!$J$3:$J$502,StagingTables!$B38)","v":0},{"$f":"COUNTIFS('WHS Event Log'!$E$3:$E$502,F$2,'WHS Event Log'!$J$3:$J$502,StagingTables!$B38)","v":0},{"$f":"COUNTIFS('WHS Event Log'!$E$3:$E$502,G$2,'WHS Event Log'!$J$3:$J$502,StagingTables!$B38)","v":0},{"$f":"COUNTIFS('WHS Event Log'!$E$3:$E$502,H$2,'WHS Event Log'!$J$3:$J$502,StagingTables!$B38)","v":0},{"$f":"COUNTIFS('WHS Event Log'!$E$3:$E$502,I$2,'WHS Event Log'!$J$3:$J$502,StagingTables!$B38)","v":0},{"$f":"COUNTIFS('WHS Event Log'!$E$3:$E$502,J$2,'WHS Event Log'!$J$3:$J$502,StagingTables!$B38)","v":0},{"$f":"COUNTIFS('WHS Event Log'!$E$3:$E$502,K$2,'WHS Event Log'!$J$3:$J$502,StagingTables!$B38)","v":0},{"$f":"COUNTIFS('WHS Event Log'!$E$3:$E$502,L$2,'WHS Event Log'!$J$3:$J$502,StagingTables!$B38)","v":0},{"$f":"COUNTIFS('WHS Event Log'!$E$3:$E$502,M$2,'WHS Event Log'!$J$3:$J$502,StagingTables!$B38)","v":0},{"$f":"COUNTIFS('WHS Event Log'!$E$3:$E$502,N$2,'WHS Event Log'!$J$3:$J$502,StagingTables!$B38)","v":0},{"$f":"SUM(C38:N38)","v":0}]
[null,"Operator Error",{"$f":"COUNTIFS('WHS Event Log'!$E$3:$E$502,C$2,'WHS Event Log'!$J$3:$J$502,StagingTables!$B39)","v":0},{"$f":"COUNTIFS('WHS Event Log'!$E$3:$E$502,D$2,'WHS Event Log'!$J$3:$J$502,StagingTables!$B39)","v":0},{"$f":"COUNTIFS('WHS Event Log'!$E$3:$E$502,E$2,'WHS Event Log'!$J$3:$J$502,StagingTables!$B39)","v":0},{"$f":"COUNTIFS('WHS Event Log'!$E$3:$E$502,F$2,'WHS Event Log'!$J$3:$J$502,StagingTables!$B39)","v":0},{"$f":"COUNTIFS('WHS Event Log'!$E$3:$E$502,G$2,'WHS Event Log'!$J$3:$J$502,StagingTables!$B39)","v":0},{"$f":"COUNTIFS('WHS Event Log'!$E$3:$E$502,H$2,'WHS Event Log'!$J$3:$J$502,StagingTables!$B39)","v":0},{"$f":"COUNTIFS('WHS Event Log'!$E$3:$E$502,I$2,'WHS Event Log'!$J$3:$J$502,StagingTables!$B39)","v":0},{"$f":"COUNTIFS('WHS Event Log'!$E$3:$E$502,J$2,'WHS Event Log'!$J$3:$J$502,StagingTables!$B39)","v":0},{"$f":"COUNTIFS('WHS Event Log'!$E$3:$E$502,K$2,'WHS Event Log'!$J$3:$J$502,StagingTables!$B39)","v":0},{"$f":"COUNTIFS('WHS Event Log'!$E$3:$E$502,L$2,'WHS Event Log'!$J$3:$J$502,StagingTables!$B39)","v":0},{"$f":"COUNTIFS('WHS Event Log'!$E$3:$E$502,M$2,'WHS Event Log'!$J$3:$J$502,StagingTables!$B39)","v":0},{"$f":"COUNTIFS('WHS Event Log'!$E$3:$E$502,N$2,'WHS Event Log'!$J$3:$J$502,StagingTables!$B39)","v":0},0,null,{"$f":"COUNTIFS('WHS Event Log'!$J$3:$J$502,$B39,'WHS Event Log'!$S$3:$S$502,Lists!$E$3)","v":0}]
[null,"Pest/Animal",{"$f":"COUNTIFS('WHS Event Log'!$E$3:$E$502,C$2,'WHS Event Log'!$J$3:$J$502,StagingTables!$B40)","v":0},{"$f":"COUNTIFS('WHS Event Log'!$E$3:$E$502,D$2,'WHS Event Log'!$J$3:$J$502,StagingTables!$B40)","v":0},{"$f":"COUNTIFS('WHS Event Log'!$E$3:$E$502,E$2,'WHS Event Log'!$J$3:$J$502,StagingTables!$B40)","v":0},{"$f":"COUNTIFS('WHS Event Log'!$E$3:$E$502,F$2,'WHS Event Log'!$J$3:$J$502,StagingTables!$B40)","v":0},{"$f":"COUNTIFS('WHS Event Log'!$E$3:$E$502,G$2,'WHS Event Log'!$J$3:$J$502,StagingTables!$B40)","v":0},{"$f":"COUNTIFS('WHS Event Log'!$E$3:$E$502,H$2,'WHS Event Log'!$J$3:$J$502,StagingTables!$B40)","v":0},{"$f":"COUNTIFS('WHS Event Log'!$E$3:$E$502,I$2,'WHS Event Log'!$J$3:$J$502,StagingTables!$B40)","v":0},{"$f":"COUNTIFS('WHS Event Log'!$E$3:$E$502,J$2,'WHS Event Log'!$J$3:$J$502,StagingTables!$B40)","v":0},{"$f":"COUNTIFS('WHS Event Log'!$E$3:$E$502,K$2,'WHS Event Log'!$J$3:$J$502,StagingTables!$B40)","v":0},{"$f":"COUNTIFS('WHS Event Log'!$E$3:$E$502,L$2,'WHS Event Log'!$J$3:$J$502,StagingTables!$B40)","v":0},{"$f":"COUNTIFS('WHS Event Log'!$E$3:$E$502,M$2,'WHS Event Log'!$J$3:$J$502,StagingTables!$B40)","v":0},{"$f":"COUNTIFS('WHS Event Log'!$E$3:$E$502,N$2,'WHS Event Log'!$J$3:$J$502,StagingTables!$B40)","v":0},0,null,{"$f":"COUNTIFS('WHS Event Log'!$J$3:$J$502,$B40,'WHS Event Log'!$S$3:$S$502,Lists!$E$3)","v":0}]
[null,"Process",{"$f":"COUNTIFS('WHS Event Log'!$E$3:$E$502,C$2,'WHS Event Log'!$J$3:$J$502,StagingTables!$B41)","v":0},{"$f":"COUNTIFS('WHS Event Log'!$E$3:$E$502,D$2,'WHS Event Log'!$J$3:$J$502,StagingTables!$B41)","v":0},{"$f":"COUNTIFS('WHS Event Log'!$E$3:$E$502,E$2,'WHS Event Log'!$J$3:$J$502,StagingTables!$B41)","v":0},{"$f":"COUNTIFS('WHS Event Log'!$E$3:$E$502,F$2,'WHS Event Log'!$J$3:$J$502,StagingTables!$B41)","v":0},{"$f":"COUNTIFS('WHS Event Log'!$E$3:$E$502,G$2,'WHS Event Log'!$J$3:$J$502,StagingTables!$B41)","v":0},{"$f":"COUNTIFS('WHS Event Log'!$E$3:$E$502,H$2,'WHS Event Log'!$J$3:$J$502,StagingTables!$B41)","v":0},{"$f":"COUNTIFS('WHS Event Log'!$E$3:$E$502,I$2,'WHS Event Log'!$J$3:$J$502,StagingTables!$B41)","v":0},{"$f":"COUNTIFS('WHS Event Log'!$E$3:$E$502,J$2,'WHS Event Log'!$J$3:$J$502,StagingTables!$B41)","v":0},{"$f":"COUNTIFS('WHS Event Log'!$E$3:$E$502,K$2,'WHS Event Log'!$J$3:$J$502,StagingTables!$B41)","v":0},{"$f":"COUNTIFS('WHS Event Log'!$E$3:$E$502,L$2,'WHS Event Log'!$J$3:$J$502,StagingTables!$B41)","v":0},{"$f":"COUNTIFS('WHS Event Log'!$E$3:$E$502,M$2,'WHS Event Log'!$J$3:$J$502,StagingTables!$B41)","v":0},{"$f":"COUNTIFS('WHS Event Log'!$E$3:$E$502,N$2,'WHS Event Log'!$J$3:$J$502,StagingTables!$B41)","v":0},0,null,{"$f":"COUNTIFS('WHS Event Log'!$J$3:$J$502,$B41,'WHS Event Log'!$S$3:$S$502,Lists!$E$3)","v":0}]
[null,"Sharps",{"$f":"COUNTIFS('WHS Event Log'!$E$3:$E$502,C$2,'WHS Event Log'!$J$3:$J$502,StagingTables!$B42)","v":0},{"$f":"COUNTIFS('WHS Event Log'!$E$3:$E$502,D$2,'WHS Event Log'!$J$3:$J$502,StagingTables!$B42)","v":0},{"$f":"COUNTIFS('WHS Event Log'!$E$3:$E$502,E$2,'WHS Event Log'!$J$3:$J$502,StagingTables!$B42)","v":0},{"$f":"COUNTIFS('WHS Event Log'!$E$3:$E$502,F$2,'WHS Event Log'!$J$3:$J$502,StagingTables!$B42)","v":0},{"$f":"COUNTIFS('WHS Event Log'!$E$3:$E$502,G$2,'WHS Event Log'!$J$3:$J$502,StagingTables!$B42)","v":0},{"$f":"COUNTIFS('WHS Event Log'!$E$3:$E$502,H$2,'WHS Event Log'!$J$3:$J$502,StagingTables!$B42)","v":0},{"$f":"COUNTIFS('WHS Event Log'!$E$3:$E$502,I$2,'WHS Event Log'!$J$3:$J$502,StagingTables!$B42)","v":0},{"$f":"COUNTIFS('WHS Event Log'!$E$3:$E$502,J$2,'WHS Event Log'!$J$3:$J$502,StagingTables!$B42)","v":0},{"$f":"COUNTIFS('WHS Event Log'!$E$3:$E$502,K$2,'WHS Event Log'!$J$3:$J$502,StagingTables!$B42)","v":0},{"$f":"COUNTIFS('WHS Event Log'!$E$3:$E$502,L$2,'WHS Event Log'!$J$3:$J$502,StagingTables!$B42)","v":0},{"$f":"COUNTIFS('WHS Event Log'!$E$3:$E$502,M$2,'WHS Event Log'!$J$3:$J$502,StagingTables!$B42)","v":0},{"$f":"COUNTIFS('WHS Event Log'!$E$3:$E$502,N$2,'WHS Event Log'!$J$3:$J$502,StagingTables!$B42)","v":0},0,null,{"$f":"COUNTIFS('WHS Event Log'!$J$3:$J$502,$B42,'WHS Event Log'!$S$3:$S$502,Lists!$E$3)","v":0}]
[null,"Slip",{"$f":"COUNTIFS('WHS Event Log'!$E$3:$E$502,C$2,'WHS Event Log'!$J$3:$J$502,StagingTables!$B43)","v":0},{"$f":"COUNTIFS('WHS Event Log'!$E$3:$E$502,D$2,'WHS Event Log'!$J$3:$J$502,StagingTables!$B43)","v":0},{"$f":"COUNTIFS('WHS Event Log'!$E$3:$E$502,E$2,'WHS Event Log'!$J$3:$J$502,StagingTables!$B43)","v":0},{"$f":"COUNTIFS('WHS Event Log'!$E$3:$E$502,F$2,'WHS Event Log'!$J$3:$J$502,StagingTables!$B43)","v":0},{"$f":"COUNTIFS('WHS Event Log'!$E$3:$E$502,G$2,'WHS Event Log'!$J$3:$J$502,StagingTables!$B43)","v":0},{"$f":"COUNTIFS('WHS Event Log'!$E$3:$E$502,H$2,'WHS Event Log'!$J$3:$J$502,StagingTables!$B43)","v":0},{"$f":"COUNTIFS('WHS Event Log'!$E$3:$E$502,I$2,'WHS Event Log'!$J$3:$J$502,StagingTables!$B43)","v":0},{"$f":"COUNTIFS('WHS Event Log'!$E$3:$E$502,J$2,'WHS Event Log'!$J$3:$J$502,StagingTables!$B43)","v":0},{"$f":"COUNTIFS('WHS Event Log'!$E$3:$E$502,K$2,'WHS Event Log'!$J$3:$J$502,StagingTables!$B43)","v":0},{"$f":"COUNTIFS('WHS Event Log'!$E$3:$E$502,L$2,'WHS Event Log'!$J$3:$J$502,StagingTables!$B43)","v":0},{"$f":"COUNTIFS('WHS Event Log'!$E$3:$E$502,M$2,'WHS Event Log'!$J$3:$J$502,StagingTables!$B43)","v":0},{"$f":"COUNTIFS('WHS Event Log'!$E$3:$E$502,N$2,'WHS Event Log'!$J$3:$J$502,StagingTables!$B43)","v":0},0,null,{"$f":"COUNTIFS('WHS Event Log'!$J$3:$J$502,$B43,'WHS Event Log'!$S$3:$S$502,Lists!$E$3)","v":0}]
[null,"Strain",{"$f":"COUNTIFS('WHS Event Log'!$E$3:$E$502,C$2,'WHS Event Log'!$J$3:$J$502,StagingTables!$B44)","v":0},{"$f":"COUNTIFS('WHS Event Log'!$E$3:$E$502,D$2,'WHS Event Log'!$J$3:$J$502,StagingTables!$B44)","v":0},{"$f":"COUNTIFS('WHS Event Log'!$E$3:$E$502,E$2,'WHS Event Log'!$J$3:$J$502,StagingTables!$B44)","v":0},{"$f":"COUNTIFS('WHS Event Log'!$E$3:$E$502,F$2,'WHS Event Log'!$J$3:$J$502,StagingTables!$B44)","v":0},{"$f":"COUNTIFS('WHS Event Log'!$E$3:$E$502,G$2,'WHS Event Log'!$J$3:$J$502,StagingTables!$B44)","v":0},{"$f":"COUNTIFS('WHS Event Log'!$E$3:$E$502,H$2,'WHS Event Log'!$J$3:$J$502,StagingTables!$B44)","v":0},{"$f":"COUNTIFS('WHS Event Log'!$E$3:$E$502,I$2,'WHS Event Log'!$J$3:$J$502,StagingTables!$B44)","v":0},{"$f":"COUNTIFS('WHS Event Log'!$E$3:$E$502,J$2,'WHS Event Log'!$J$3:$J$502,StagingTables!$B44)","v":0},{"$f":"COUNTIFS('WHS Event Log'!$E$3:$E$502,K$2,'WHS Event Log'!$J$3:$J$502,StagingTables!$B44)","v":0},{"$f":"COUNTIFS('WHS Event Log'!$E$3:$E$502,L$2,'WHS Event Log'!$J$3:$J$502,StagingTables!$B44)","v":0},{"$f":"COUNTIFS('WHS Event Log'!$E$3:$E$502,M$2,'WHS Event Log'!$J$3:$J$502,StagingTables!$B44)","v":0},{"$f":"COUNTIFS('WHS Event Log'!$E$3:$E$502,N$2,'WHS Event Log'!$J$3:$J$502,StagingTables!$B44)","v":0},0,null,{"$f":"COUNTIFS('WHS Event Log'!$J$3:$J$502,$B44,'WHS Event Log'!$S$3:$S$502,Lists!$E$3)","v":0}]
[null,"Stress",{"$f":"COUNTIFS('WHS Event Log'!$E$3:$E$502,C$2,'WHS Event Log'!$J$3:$J$502,StagingTables!$B45)","v":0},{"$f":"COUNTIFS('WHS Event Log'!$E$3:$E$502,D$2,'WHS Event Log'!$J$3:$J$502,StagingTables!$B45)","v":0},{"$f":"COUNTIFS('WHS Event Log'!$E$3:$E$502,E$2,'WHS Event Log'!$J$3:$J$502,StagingTables!$B45)","v":0},{"$f":"COUNTIFS('WHS Event Log'!$E$3:$E$502,F$2,'WHS Event Log'!$J$3:$J$502,StagingTables!$B45)","v":0},{"$f":"COUNTIFS('WHS Event Log'!$E$3:$E$502,G$2,'WHS Event Log'!$J$3:$J$502,StagingTables!$B45)","v":0},{"$f":"COUNTIFS('WHS Event Log'!$E$3:$E$502,H$2,'WHS Event Log'!$J$3:$J$502,StagingTables!$B45)","v":0},{"$f":"COUNTIFS('WHS Event Log'!$E$3:$E$502,I$2,'WHS Event Log'!$J$3:$J$502,StagingTables!$B45)","v":0},{"$f":"COUNTIFS('WHS Event Log'!$E$3:$E$502,J$2,'WHS Event Log'!$J$3:$J$502,StagingTables!$B45)","v":0},{"$f":"COUNTIFS('WHS Event Log'!$E$3:$E$502,K$2,'WHS Event Log'!$J$3:$J$502,StagingTables!$B45)","v":0},{"$f":"COUNTIFS('WHS Event Log'!$E$3:$E$502,L$2,'WHS Event Log'!$J$3:$J$502,StagingTables!$B45)","v":0},{"$f":"COUNTIFS('WHS Event Log'!$E$3:$E$502,M$2,'WHS Event Log'!$J$3:$J$502,StagingTables!$B45)","v":0},{"$f":"COUNTIFS('WHS Event Log'!$E$3:$E$502,N$2,'WHS Event Log'!$J$3:$J$502,StagingTables!$B45)","v":0},0,null,{"$f":"COUNTIFS('WHS Event Log'!$J$3:$J$502,$B45,'WHS Event Log'!$S$3:$S$502,Lists!$E$3)","v":0}]
[null,"Supervision",{"$f":"COUNTIFS('WHS Event Log'!$E$3:$E$502,C$2,'WHS Event Log'!$J$3:$J$502,StagingTables!$B46)","v":0},{"$f":"COUNTIFS('WHS Event Log'!$E$3:$E$502,D$2,'WHS Event Log'!$J$3:$J$502,StagingTables!$B46)","v":0},{"$f":"COUNTIFS('WHS Event Log'!$E$3:$E$502,E$2,'WHS Event Log'!$J$3:$J$502,StagingTables!$B46)","v":0},{"$f":"COUNTIFS('WHS Event Log'!$E$3:$E$502,F$2,'WHS Event Log'!$J$3:$J$502,StagingTables!$B46)","v":0},{"$f":"COUNTIFS('WHS Event Log'!$E$3:$E$502,G$2,'WHS Event Log'!$J$3:$J$502,StagingTables!$B46)","v":0},{"$f":"COUNTIFS('WHS Event Log'!$E$3:$E$502,H$2,'WHS Event Log'!$J$3:$J$502,StagingTables!$B46)","v":0},{"$f":"COUNTIFS('WHS Event Log'!$E$3:$E$502,I$2,'WHS Event Log'!$J$3:$J$502,StagingTables!$B46)","v":0},{"$f":"COUNTIFS('WHS Event Log'!$E$3:$E$502,J$2,'WHS Event Log'!$J$3:$J$502,StagingTables!$B46)","v":0},{"$f":"COUNTIFS('WHS Event Log'!$E$3:$E$502,K$2,'WHS Event Log'!$J$3:$J$502,StagingTables!$B46)","v":0},{"$f":"COUNTIFS('WHS Event Log'!$E$3:$E$502,L$2,'WHS Event Log'!$J$3:$J$502,StagingTables!$B46)","v":0},{"$f":"COUNTIFS('WHS Event Log'!$E$3:$E$502,M$2,'WHS Event Log'!$J$3:$J$502,StagingTables!$B46)","v":0},{"$f":"COUNTIFS('WHS Event Log'!$E$3:$E$502,N$2,'WHS Event Log'!$J$3:$J$502,StagingTables!$B46)","v":0},0,null,{"$f":"COUNTIFS('WHS Event Log'!$J$3:$J$502,$B46,'WHS Event Log'!$S$3:$S$502,Lists!$E$3)","v":0}]
[null,"Surface Condition",{"$f":"COUNTIFS('WHS Event Log'!$E$3:$E$502,C$2,'WHS Event Log'!$J$3:$J$502,StagingTables!$B47)","v":0},{"$f":"COUNTIFS('WHS Event Log'!$E$3:$E$502,D$2,'WHS Event Log'!$J$3:$J$502,StagingTables!$B47)","v":0},{"$f":"COUNTIFS('WHS Event Log'!$E$3:$E$502,E$2,'WHS Event Log'!$J$3:$J$502,StagingTables!$B47)","v":0},{"$f":"COUNTIFS('WHS Event Log'!$E$3:$E$502,F$2,'WHS Event Log'!$J$3:$J$502,StagingTables!$B47)","v":0},{"$f":"COUNTIFS('WHS Event Log'!$E$3:$E$502,G$2,'WHS Event Log'!$J$3:$J$502,StagingTables!$B47)","v":0},{"$f":"COUNTIFS('WHS Event Log'!$E$3:$E$502,H$2,'WHS Event Log'!$J$3:$J$502,StagingTables!$B47)","v":0},{"$f":"COUNTIFS('WHS Event Log'!$E$3:$E$502,I$2,'WHS Event Log'!$J$3:$J$502,StagingTables!$B47)","v":0},{"$f":"COUNTIFS('WHS Event Log'!$E$3:$E$502,J$2,'WHS Event Log'!$J$3:$J$502,StagingTables!$B47)","v":0},{"$f":"COUNTIFS('WHS Event Log'!$E$3:$E$502,K$2,'WHS Event Log'!$J$3:$J$502,StagingTables!$B47)","v":0},{"$f":"COUNTIFS('WHS Event Log'!$E$3:$E$502,L$2,'WHS Event Log'!$J$3:$J$502,StagingTables!$B47)","v":0},{"$f":"COUNTIFS('WHS Event Log'!$E$3:$E$502,M$2,'WHS Event Log'!$J$3:$J$502,StagingTables!$B47)","v":0},{"$f":"COUNTIFS('WHS Event Log'!$E$3:$E$502,N$2,'WHS Event Log'!$J$3:$J$502,StagingTables!$B47)","v":0},0,null,{"$f":"COUNTIFS('WHS Event Log'!$J$3:$J$502,$B47,'WHS Event Log'!$S$3:$S$502,Lists!$E$3)","v":0}]
[null,"Training",{"$f":"COUNTIFS('WHS Event Log'!$E$3:$E$502,C$2,'WHS Event Log'!$J$3:$J$502,StagingTables!$B48)","v":0},{"$f":"COUNTIFS('WHS Event Log'!$E$3:$E$502,D$2,'WHS Event Log'!$J$3:$J$502,StagingTables!$B48)","v":0},{"$f":"COUNTIFS('WHS Event Log'!$E$3:$E$502,E$2,'WHS Event Log'!$J$3:$J$502,StagingTables!$B48)","v":0},{"$f":"COUNTIFS('WHS Event Log'!$E$3:$E$502,F$2,'WHS Event Log'!$J$3:$J$502,StagingTables!$B48)","v":0},{"$f":"COUNTIFS('WHS Event Log'!$E$3:$E$502,G$2,'WHS Event Log'!$J$3:$J$502,StagingTables!$B48)","v":0},{"$f":"COUNTIFS('WHS Event Log'!$E$3:$E$502,H$2,'WHS Event Log'!$J$3:$J$502,StagingTables!$B48)","v":0},{"$f":"COUNTIFS('WHS Event Log'!$E$3:$E$502,I$2,'WHS Event Log'!$J$3:$J$502,StagingTables!$B48)","v":0},{"$f":"COUNTIFS('WHS Event Log'!$E$3:$E$502,J$2,'WHS Event Log'!$J$3:$J$502,StagingTables!$B48)","v":0},{"$f":"COUNTIFS('WHS Event Log'!$E$3:$E$502,K$2,'WHS Event Log'!$J$3:$J$502,StagingTables!$B48)","v":0},{"$f":"COUNTIFS('WHS Event Log'!$E$3:$E$502,L$2,'WHS Event Log'!$J$3:$J$502,StagingTables!$B48)","v":0},{"$f":"COUNTIFS('WHS Event Log'!$E$3:$E$502,M$2,'WHS Event Log'!$J$3:$J$502,StagingTables!$B48)","v":0},{"$f":"COUNTIFS('WHS Event Log'!$E$3:$E$502,N$2,'WHS Event Log'!$J$3:$J$502,StagingTables!$B48)","v":0},0,null,{"$f":"COUNTIFS('WHS Event Log'!$J$3:$J$502,$B48,'WHS Event Log'!$S$3:$S$502,Lists!$E$3)","v":0}]
[null,"Trip",{"$f":"COUNTIFS('WHS Event Log'!$E$3:$E$502,C$2,'WHS Event Log'!$J$3:$J$502,StagingTables!$B49)","v":0},{"$f":"COUNTIFS('WHS Event Log'!$E$3:$E$502,D$2,'WHS Event Log'!$J$3:$J$502,StagingTables!$B49)","v":0},{"$f":"COUNTIFS('WHS Event Log'!$E$3:$E$502,E$2,'WHS Event Log'!$J$3:$J$502,StagingTables!$B49)","v":0},{"$f":"COUNTIFS('WHS Event Log'!$E$3:$E$502,F$2,'WHS Event Log'!$J$3:$J$502,StagingTables!$B49)","v":0},{"$f":"COUNTIFS('WHS Event Log'!$E$3:$E$502,G$2,'WHS Event Log'!$J$3:$J$502,StagingTables!$B49)","v":0},{"$f":"COUNTIFS('WHS Event Log'!$E$3:$E$502,H$2,'WHS Event Log'!$J$3:$J$502,StagingTables!$B49)","v":0},{"$f":"COUNTIFS('WHS Event Log'!$E$3:$E$502,I$2,'WHS Event Log'!$J$3:$J$502,StagingTables!$B49)","v":0},{"$f":"COUNTIFS('WHS Event Log'!$E$3:$E$502,J$2,'WHS Event Log'!$J$3:$J$502,StagingTables!$B49)","v":0},{"$f":"COUNTIFS('WHS Event Log'!$E$3:$E$502,K$2,'WHS Event Log'!$J$3:$J$502,StagingTables!$B49)","v":0},{"$f":"COUNTIFS('WHS Event Log'!$E$3:$E$502,L$2,'WHS Event Log'!$J$3:$J$502,StagingTables!$B49)","v":0},{"$f":"COUNTIFS('WHS Event Log'!$E$3:$E$502,M$2,'WHS Event Log'!$J$3:$J$502,StagingTables!$B49)","v":0},{"$f":"COUNTIFS('WHS Event Log'!$E$3:$E$502,N$2,'WHS Event Log'!$J$3:$J$502,StagingTables!$B49)","v":0},0,null,{"$f":"COUNTIFS('WHS Event Log'!$J$3:$J$502,$B49,'WHS Event Log'!$S$3:$S$502,Lists!$E$3)","v":0}]
[null,"Weather",{"$f":"COUNTIFS('WHS Event Log'!$E$3:$E$502,C$2,'WHS Event Log'!$J$3:$J$502,StagingTables!$B50)","v":0},{"$f":"COUNTIFS('WHS Event Log'!$E$3:$E$502,D$2,'WHS Event Log'!$J$3:$J$502,StagingTables!$B50)","v":0},{"$f":"COUNTIFS('WHS Event Log'!$E$3:$E$502,E$2,'WHS Event Log'!$J$3:$J$502,StagingTables!$B50)","v":0},{"$f":"COUNTIFS('WHS Event Log'!$E$3:$E$502,F$2,'WHS Event Log'!$J$3:$J$502,StagingTables!$B50)","v":0},{"$f":"COUNTIFS('WHS Event Log'!$E$3:$E$502,G$2,'WHS Event Log'!$J$3:$J$502,StagingTables!$B50)","v":0},{"$f":"COUNTIFS('WHS Event Log'!$E$3:$E$502,H$2,'WHS Event Log'!$J$3:$J$502,StagingTables!$B50)","v":0},{"$f":"COUNTIFS('WHS Event Log'!$E$3:$E$502,I$2,'WHS Event Log'!$J$3:$J$502,StagingTables!$B50)","v":0},{"$f":"COUNTIFS('WHS Event Log'!$E$3:$E$502,J$2,'WHS Event Log'!$J$3:$J$502,StagingTables!$B50)","v":0},{"$f":"COUNTIFS('WHS Event Log'!$E$3:$E$502,K$2,'WHS Event Log'!$J$3:$J$502,StagingTables!$B50)","v":0},{"$f":"COUNTIFS('WHS Event Log'!$E$3:$E$502,L$2,'WHS Event Log'!$J$3:$J$502,StagingTables!$B50)","v":0},{"$f":"COUNTIFS('WHS Event Log'!$E$3:$E$502,M$2,'WHS Event Log'!$J$3:$J$502,StagingTables!$B50)","v":0},{"$f":"COUNTIFS('WHS Event Log'!$E$3:$E$502,N$2,'WHS Event Log'!$J$3:$J$502,StagingTables!$B50)","v":0},0,null,{"$f":"COUNTIFS('WHS Event Log'!$J$3:$J$502,$B50,'WHS Event Log'!$S$3:$S$502,Lists!$E$3)","v":0}]
[null,"Other",{"$f":"COUNTIFS('WHS Event Log'!$E$3:$E$502,C$2,'WHS Event Log'!$J$3:$J$502,StagingTables!$B51)","v":0},{"$f":"COUNTIFS('WHS Event Log'!$E$3:$E$502,D$2,'WHS Event Log'!$J$3:$J$502,StagingTables!$B51)","v":0},{"$f":"COUNTIFS('WHS Event Log'!$E$3:$E$502,E$2,'WHS Event Log'!$J$3:$J$502,StagingTables!$B51)","v":0},{"$f":"COUNTIFS('WHS Event Log'!$E$3:$E$502,F$2,'WHS Event Log'!$J$3:$J$502,StagingTables!$B51)","v":0},{"$f":"COUNTIFS('WHS Event Log'!$E$3:$E$502,G$2,'WHS Event Log'!$J$3:$J$502,StagingTables!$B51)","v":0},{"$f":"COUNTIFS('WHS Event Log'!$E$3:$E$502,H$2,'WHS Event Log'!$J$3:$J$502,StagingTables!$B51)","v":0},{"$f":"COUNTIFS('WHS Event Log'!$E$3:$E$502,I$2,'WHS Event Log'!$J$3:$J$502,StagingTables!$B51)","v":0},{"$f":"COUNTIFS('WHS Event Log'!$E$3:$E$502,J$2,'WHS Event Log'!$J$3:$J$502,StagingTables!$B51)","v":0},{"$f":"COUNTIFS('WHS Event Log'!$E$3:$E$502,K$2,'WHS Event Log'!$J$3:$J$502,StagingTables!$B51)","v":0},{"$f":"COUNTIFS('WHS Event Log'!$E$3:$E$502,L$2,'WHS Event Log'!$J$3:$J$502,StagingTables!$B51)","v":0},{"$f":"COUNTIFS('WHS Event Log'!$E$3:$E$502,M$2,'WHS Event Log'!$J$3:$J$502,StagingTables!$B51)","v":0},{"$f":"COUNTIFS('WHS Event Log'!$E$3:$E$502,N$2,'WHS Event Log'!$J$3:$J$502,StagingTables!$B51)","v":0},0,null,{"$f":"COUNTIFS('WHS Event Log'!$J$3:$J$502,$B51,'WHS Event Log'!$S$3:$S$502,Lists!$E$3)","v":0}]
[null,null,{"$f":"SUM(C11:C51)-C10","v":0},{"$f":"SUM(D11:D51)-D10","v":0},{"$f":"SUM(E11:E51)-E10","v":0},0,0,0,0,0,0,0,0,0,{"$f":"SUM(C52:N52)","v":0},null,{"$f":"SUM(Q11:Q51)","v":0}]
[]
[]
[]
[null,"Inverted for  target reporting","October","November","December","January","February","March","April","May","June","July","August","September"]
[null,"Plant Design",{"$f":"L19","v":0},0,0,{"$f":"C19","v":0},{"$f":"D19","v":0},0,0,0,0,0,0,{"$f":"K19","v":0}]
[null,"Plant/Equipment Failure",0,0,0,{"$f":"C20","v":0},{"$f":"D20","v":0},0,0,0,0,0,0,{"$f":"K20","v":0}]
[null,"Plant/Equipment Use",0,0,0,{"$f":"C21","v":0},0,0,0,0,0,0,0,{"$f":"K21","v":0}]
[]
[null,"Injury Type","January","February","March","April","May","June","July","August","September","October","November","December","Total","Claim","Open"]
[null,"Amputation",{"$f":"COUNTIFS('WHS Event Log'!$E$3:$E$502,C$61,'WHS Event Log'!$Q$3:$Q$502,'Info Tables'!$B62)","v":0},{"$f":"COUNTIFS('WHS Event Log'!$E$3:$E$502,D$61,'WHS Event Log'!$Q$3:$Q$502,'Info Tables'!$B62)","v":0},{"$f":"COUNTIFS('WHS Event Log'!$E$3:$E$502,E$61,'WHS Event Log'!$Q$3:$Q$502,'Info Tables'!$B62)","v":0},{"$f":"COUNTIFS('WHS Event Log'!$E$3:$E$502,F$61,'WHS Event Log'!$Q$3:$Q$502,'Info Tables'!$B62)","v":0},{"$f":"COUNTIFS('WHS Event Log'!$E$3:$E$502,G$61,'WHS Event Log'!$Q$3:$Q$502,'Info Tables'!$B62)","v":0},{"$f":"COUNTIFS('WHS Event Log'!$E$3:$E$502,H$61,'WHS Event Log'!$Q$3:$Q$502,'Info Tables'!$B62)","v":0},{"$f":"COUNTIFS('WHS Event Log'!$E$3:$E$502,I$61,'WHS Event Log'!$Q$3:$Q$502,'Info Tables'!$B62)","v":0},{"$f":"COUNTIFS('WHS Event Log'!$E$3:$E$502,J$61,'WHS Event Log'!$Q$3:$Q$502,'Info Tables'!$B62)","v":0},{"$f":"COUNTIFS('WHS Event Log'!$E$3:$E$502,K$61,'WHS Event Log'!$Q$3:$Q$502,'Info Tables'!$B62)","v":0},{"$f":"COUNTIFS('WHS Event Log'!$E$3:$E$502,L$61,'WHS Event Log'!$Q$3:$Q$502,'Info Tables'!$B62)","v":0},{"$f":"COUNTIFS('WHS Event Log'!$E$3:$E$502,M$61,'WHS Event Log'!$Q$3:$Q$502,'Info Tables'!$B62)","v":0},{"$f":"COUNTIFS('WHS Event Log'!$E$3:$E$502,N$61,'WHS Event Log'!$Q$3:$Q$502,'Info Tables'!$B62)","v":0},{"$f":"SUM(C62:N62)","v":0},{"$f":"COUNTIFS('WHS Event Log'!$J$3:$J$502,#REF!,'WHS Event Log'!$S$3:$S$502,Lists!$E$3)","v":0},{"$f":"COUNTIFS('WHS Event Log'!$Q$3:$Q$502,$B62,'WHS Event Log'!$S$3:$S$502,Lists!$E$3,'WHS Event Log'!$T$3:$T$502,Lists!$K$3)","v":0}]
[null,"Burns",{"$f":"COUNTIFS('WHS Event Log'!$E$3:$E$502,C$61,'WHS Event Log'!$Q$3:$Q$502,'Info Tables'!$B63)","v":0},{"$f":"COUNTIFS('WHS Event Log'!$E$3:$E$502,D$61,'WHS Event Log'!$Q$3:$Q$502,'Info Tables'!$B63)","v":0},{"$f":"COUNTIFS('WHS Event Log'!$E$3:$E$502,E$61,'WHS Event Log'!$Q$3:$Q$502,'Info Tables'!$B63)","v":0},{"$f":"COUNTIFS('WHS Event Log'!$E$3:$E$502,F$61,'WHS Event Log'!$Q$3:$Q$502,'Info Tables'!$B63)","v":0},{"$f":"COUNTIFS('WHS Event Log'!$E$3:$E$502,G$61,'WHS Event Log'!$Q$3:$Q$502,'Info Tables'!$B63)","v":0},{"$f":"COUNTIFS('WHS Event Log'!$E$3:$E$502,H$61,'WHS Event Log'!$Q$3:$Q$502,'Info Tables'!$B63)","v":0},{"$f":"COUNTIFS('WHS Event Log'!$E$3:$E$502,I$61,'WHS Event Log'!$Q$3:$Q$502,'Info Tables'!$B63)","v":0},{"$f":"COUNTIFS('WHS Event Log'!$E$3:$E$502,J$61,'WHS Event Log'!$Q$3:$Q$502,'Info Tables'!$B63)","v":0},{"$f":"COUNTIFS('WHS Event Log'!$E$3:$E$502,K$61,'WHS Event Log'!$Q$3:$Q$502,'Info Tables'!$B63)","v":0},{"$f":"COUNTIFS('WHS Event Log'!$E$3:$E$502,L$61,'WHS Event Log'!$Q$3:$Q$502,'Info Tables'!$B63)","v":0},{"$f":"COUNTIFS('WHS Event Log'!$E$3:$E$502,M$61,'WHS Event Log'!$Q$3:$Q$502,'Info Tables'!$B63)","v":0},{"$f":"COUNTIFS('WHS Event Log'!$E$3:$E$502,N$61,'WHS Event Log'!$Q$3:$Q$502,'Info Tables'!$B63)","v":0},0,{"$f":"COUNTIFS('WHS Event Log'!$Q$3:$Q$502,$B63,'WHS Event Log'!$S$3:$S$502,Lists!$E$3)","v":0},{"$f":"COUNTIFS('WHS Event Log'!$Q$3:$Q$502,$B63,'WHS Event Log'!$S$3:$S$502,Lists!$E$3,'WHS Event Log'!$T$3:$T$502,Lists!$K$3)","v":0}]
[null,"Contusion/ crushing",{"$f":"COUNTIFS('WHS Event Log'!$E$3:$E$502,C$61,'WHS Event Log'!$Q$3:$Q$502,'Info Tables'!$B64)","v":0},{"$f":"COUNTIFS('WHS Event Log'!$E$3:$E$502,D$61,'WHS Event Log'!$Q$3:$Q$502,'Info Tables'!$B64)","v":0},{"$f":"COUNTIFS('WHS Event Log'!$E$3:$E$502,E$61,'WHS Event Log'!$Q$3:$Q$502,'Info Tables'!$B64)","v":0},{"$f":"COUNTIFS('WHS Event Log'!$E$3:$E$502,F$61,'WHS Event Log'!$Q$3:$Q$502,'Info Tables'!$B64)","v":0},{"$f":"COUNTIFS('WHS Event Log'!$E$3:$E$502,G$61,'WHS Event Log'!$Q$3:$Q$502,'Info Tables'!$B64)","v":0},{"$f":"COUNTIFS('WHS Event Log'!$E$3:$E$502,H$61,'WHS Event Log'!$Q$3:$Q$502,'Info Tables'!$B64)","v":0},{"$f":"COUNTIFS('WHS Event Log'!$E$3:$E$502,I$61,'WHS Event Log'!$Q$3:$Q$502,'Info Tables'!$B64)","v":0},{"$f":"COUNTIFS('WHS Event Log'!$E$3:$E$502,J$61,'WHS Event Log'!$Q$3:$Q$502,'Info Tables'!$B64)","v":0},{"$f":"COUNTIFS('WHS Event Log'!$E$3:$E$502,K$61,'WHS Event Log'!$Q$3:$Q$502,'Info Tables'!$B64)","v":0},{"$f":"COUNTIFS('WHS Event Log'!$E$3:$E$502,L$61,'WHS Event Log'!$Q$3:$Q$502,'Info Tables'!$B64)","v":0},{"$f":"COUNTIFS('WHS Event Log'!$E$3:$E$502,M$61,'WHS Event Log'!$Q$3:$Q$502,'Info Tables'!$B64)","v":0},{"$f":"COUNTIFS('WHS Event Log'!$E$3:$E$502,N$61,'WHS Event Log'!$Q$3:$Q$502,'Info Tables'!$B64)","v":0},0,{"$f":"COUNTIFS('WHS Event Log'!$Q$3:$Q$502,$B64,'WHS Event Log'!$S$3:$S$502,Lists!$E$3)","v":0},{"$f":"COUNTIFS('WHS Event Log'!$Q$3:$Q$502,$B64,'WHS Event Log'!$S$3:$S$502,Lists!$E$3,'WHS Event Log'!$T$3:$T$502,Lists!$K$3)","v":0}]
[null,"Dermatitis/Eczema",{"$f":"COUNTIFS('WHS Event Log'!$E$3:$E$502,C$61,'WHS Event Log'!$Q$3:$Q$502,'Info Tables'!$B65)","v":0},{"$f":"COUNTIFS('WHS Event Log'!$E$3:$E$502,D$61,'WHS Event Log'!$Q$3:$Q$502,'Info Tables'!$B65)","v":0},{"$f":"COUNTIFS('WHS Event Log'!$E$3:$E$502,E$61,'WHS Event Log'!$Q$3:$Q$502,'Info Tables'!$B65)","v":0},{"$f":"COUNTIFS('WHS Event Log'!$E$3:$E$502,F$61,'WHS Event Log'!$Q$3:$Q$502,'Info Tables'!$B65)","v":0},{"$f":"COUNTIFS('WHS Event Log'!$E$3:$E$502,G$61,'WHS Event Log'!$Q$3:$Q$502,'Info Tables'!$B65)","v":0},{"$f":"COUNTIFS('WHS Event Log'!$E$3:$E$502,H$61,'WHS Event Log'!$Q$3:$Q$502,'Info Tables'!$B65)","v":0},{"$f":"COUNTIFS('WHS Event Log'!$E$3:$E$502,I$61,'WHS Event Log'!$Q$3:$Q$502,'Info Tables'!$B65)","v":0},{"$f":"COUNTIFS('WHS Event Log'!$E$3:$E$502,J$61,'WHS Event Log'!$Q$3:$Q$502,'Info Tables'!$B65)","v":0},{"$f":"COUNTIFS('WHS Event Log'!$E$3:$E$502,K$61,'WHS Event Log'!$Q$3:$Q$502,'Info Tables'!$B65)","v":0},{"$f":"COUNTIFS('WHS Event Log'!$E$3:$E$502,L$61,'WHS Event Log'!$Q$3:$Q$502,'Info Tables'!$B65)","v":0},{"$f":"COUNTIFS('WHS Event Log'!$E$3:$E$502,M$61,'WHS Event Log'!$Q$3:$Q$502,'Info Tables'!$B65)","v":0},{"$f":"COUNTIFS('WHS Event Log'!$E$3:$E$502,N$61,'WHS Event Log'!$Q$3:$Q$502,'Info Tables'!$B65)","v":0},0,{"$f":"COUNTIFS('WHS Event Log'!$Q$3:$Q$502,$B65,'WHS Event Log'!$S$3:$S$502,Lists!$E$3)","v":0},{"$f":"COUNTIFS('WHS Event Log'!$Q$3:$Q$502,$B65,'WHS Event Log'!$S$3:$S$502,Lists!$E$3,'WHS Event Log'!$T$3:$T$502,Lists!$K$3)","v":0}]
[null,"Diorder of the Eye",{"$f":"COUNTIFS('WHS Event Log'!$E$3:$E$502,C$61,'WHS Event Log'!$Q$3:$Q$502,'Info Tables'!$B66)","v":0},{"$f":"COUNTIFS('WHS Event Log'!$E$3:$E$502,D$61,'WHS Event Log'!$Q$3:$Q$502,'Info Tables'!$B66)","v":0},{"$f":"COUNTIFS('WHS Event Log'!$E$3:$E$502,E$61,'WHS Event Log'!$Q$3:$Q$502,'Info Tables'!$B66)","v":0},{"$f":"COUNTIFS('WHS Event Log'!$E$3:$E$502,F$61,'WHS Event Log'!$Q$3:$Q$502,'Info Tables'!$B66)","v":0},{"$f":"COUNTIFS('WHS Event Log'!$E$3:$E$502,G$61,'WHS Event Log'!$Q$3:$Q$502,'Info Tables'!$B66)","v":0},{"$f":"COUNTIFS('WHS Event Log'!$E$3:$E$502,H$61,'WHS Event Log'!$Q$3:$Q$502,'Info Tables'!$B66)","v":0},{"$f":"COUNTIFS('WHS Event Log'!$E$3:$E$502,I$61,'WHS Event Log'!$Q$3:$Q$502,'Info Tables'!$B66)","v":0},{"$f":"COUNTIFS('WHS Event Log'!$E$3:$E$502,J$61,'WHS Event Log'!$Q$3:$Q$502,'Info Tables'!$B66)","v":0},{"$f":"COUNTIFS('WHS Event Log'!$E$3:$E$502,K$61,'WHS Event Log'!$Q$3:$Q$502,'Info Tables'!$B66)","v":0},{"$f":"COUNTIFS('WHS Event Log'!$E$3:$E$502,L$61,'WHS Event Log'!$Q$3:$Q$502,'Info Tables'!$B66)","v":0},{"$f":"COUNTIFS('WHS Event Log'!$E$3:$E$502,M$61,'WHS Event Log'!$Q$3:$Q$502,'Info Tables'!$B66)","v":0},{"$f":"COUNTIFS('WHS Event Log'!$E$3:$E$502,N$61,'WHS Event Log'!$Q$3:$Q$502,'Info Tables'!$B66)","v":0},0,{"$f":"COUNTIFS('WHS Event Log'!$Q$3:$Q$502,$B66,'WHS Event Log'!$S$3:$S$502,Lists!$E$3)","v":0},{"$f":"COUNTIFS('WHS Event Log'!$Q$3:$Q$502,$B66,'WHS Event Log'!$S$3:$S$502,Lists!$E$3,'WHS Event Log'!$T$3:$T$502,Lists!$K$3)","v":0}]
[null,"Dislocation",{"$f":"COUNTIFS('WHS Event Log'!$E$3:$E$502,C$61,'WHS Event Log'!$Q$3:$Q$502,'Info Tables'!$B67)","v":0},{"$f":"COUNTIFS('WHS Event Log'!$E$3:$E$502,D$61,'WHS Event Log'!$Q$3:$Q$502,'Info Tables'!$B67)","v":0},{"$f":"COUNTIFS('WHS Event Log'!$E$3:$E$502,E$61,'WHS Event Log'!$Q$3:$Q$502,'Info Tables'!$B67)","v":0},{"$f":"COUNTIFS('WHS Event Log'!$E$3:$E$502,F$61,'WHS Event Log'!$Q$3:$Q$502,'Info Tables'!$B67)","v":0},{"$f":"COUNTIFS('WHS Event Log'!$E$3:$E$502,G$61,'WHS Event Log'!$Q$3:$Q$502,'Info Tables'!$B67)","v":0},{"$f":"COUNTIFS('WHS Event Log'!$E$3:$E$502,H$61,'WHS Event Log'!$Q$3:$Q$502,'Info Tables'!$B67)","v":0},{"$f":"COUNTIFS('WHS Event Log'!$E$3:$E$502,I$61,'WHS Event Log'!$Q$3:$Q$502,'Info Tables'!$B67)","v":0},{"$f":"COUNTIFS('WHS Event Log'!$E$3:$E$502,J$61,'WHS Event Log'!$Q$3:$Q$502,'Info Tables'!$B67)","v":0},{"$f":"COUNTIFS('WHS Event Log'!$E$3:$E$502,K$61,'WHS Event Log'!$Q$3:$Q$502,'Info Tables'!$B67)","v":0},{"$f":"COUNTIFS('WHS Event Log'!$E$3:$E$502,L$61,'WHS Event Log'!$Q$3:$Q$502,'Info Tables'!$B67)","v":0},{"$f":"COUNTIFS('WHS Event Log'!$E$3:$E$502,M$61,'WHS Event Log'!$Q$3:$Q$502,'Info Tables'!$B67)","v":0},{"$f":"COUNTIFS('WHS Event Log'!$E$3:$E$502,N$61,'WHS Event Log'!$Q$3:$Q$502,'Info Tables'!$B67)","v":0},0,{"$f":"COUNTIFS('WHS Event Log'!$Q$3:$Q$502,$B67,'WHS Event Log'!$S$3:$S$502,Lists!$E$3)","v":0},{"$f":"COUNTIFS('WHS Event Log'!$Q$3:$Q$502,$B67,'WHS Event Log'!$S$3:$S$502,Lists!$E$3,'WHS Event Log'!$T$3:$T$502,Lists!$K$3)","v":0}]
[null,"Electric Shock",{"$f":"COUNTIFS('WHS Event Log'!$E$3:$E$502,C$61,'WHS Event Log'!$Q$3:$Q$502,'Info Tables'!$B68)","v":0},{"$f":"COUNTIFS('WHS Event Log'!$E$3:$E$502,D$61,'WHS Event Log'!$Q$3:$Q$502,'Info Tables'!$B68)","v":0},{"$f":"COUNTIFS('WHS Event Log'!$E$3:$E$502,E$61,'WHS Event Log'!$Q$3:$Q$502,'Info Tables'!$B68)","v":0},{"$f":"COUNTIFS('WHS Event Log'!$E$3:$E$502,F$61,'WHS Event Log'!$Q$3:$Q$502,'Info Tables'!$B68)","v":0},{"$f":"COUNTIFS('WHS Event Log'!$E$3:$E$502,G$61,'WHS Event Log'!$Q$3:$Q$502,'Info Tables'!$B68)","v":0},{"$f":"COUNTIFS('WHS Event Log'!$E$3:$E$502,H$61,'WHS Event Log'!$Q$3:$Q$502,'Info Tables'!$B68)","v":0},{"$f":"COUNTIFS('WHS Event Log'!$E$3:$E$502,I$61,'WHS Event Log'!$Q$3:$Q$502,'Info Tables'!$B68)","v":0},{"$f":"COUNTIFS('WHS Event Log'!$E$3:$E$502,J$61,'WHS Event Log'!$Q$3:$Q$502,'Info Tables'!$B68)","v":0},{"$f":"COUNTIFS('WHS Event Log'!$E$3:$E$502,K$61,'WHS Event Log'!$Q$3:$Q$502,'Info Tables'!$B68)","v":0},{"$f":"COUNTIFS('WHS Event Log'!$E$3:$E$502,L$61,'WHS Event Log'!$Q$3:$Q$502,'Info Tables'!$B68)","v":0},{"$f":"COUNTIFS('WHS Event Log'!$E$3:$E$502,M$61,'WHS Event Log'!$Q$3:$Q$502,'Info Tables'!$B68)","v":0},{"$f":"COUNTIFS('WHS Event Log'!$E$3:$E$502,N$61,'WHS Event Log'!$Q$3:$Q$502,'Info Tables'!$B68)","v":0},0,{"$f":"COUNTIFS('WHS Event Log'!$Q$3:$Q$502,$B68,'WHS Event Log'!$S$3:$S$502,Lists!$E$3)","v":0},{"$f":"COUNTIFS('WHS Event Log'!$Q$3:$Q$502,$B68,'WHS Event Log'!$S$3:$S$502,Lists!$E$3,'WHS Event Log'!$T$3:$T$502,Lists!$K$3)","v":0}]
[null,"Fatality",{"$f":"COUNTIFS('WHS Event Log'!$E$3:$E$502,C$61,'WHS Event Log'!$Q$3:$Q$502,'Info Tables'!$B69)","v":0},{"$f":"COUNTIFS('WHS Event Log'!$E$3:$E$502,D$61,'WHS Event Log'!$Q$3:$Q$502,'Info Tables'!$B69)","v":0},{"$f":"COUNTIFS('WHS Event Log'!$E$3:$E$502,E$61,'WHS Event Log'!$Q$3:$Q$502,'Info Tables'!$B69)","v":0},{"$f":"COUNTIFS('WHS Event Log'!$E$3:$E$502,F$61,'WHS Event Log'!$Q$3:$Q$502,'Info Tables'!$B69)","v":0},{"$f":"COUNTIFS('WHS Event Log'!$E$3:$E$502,G$61,'WHS Event Log'!$Q$3:$Q$502,'Info Tables'!$B69)","v":0},{"$f":"COUNTIFS('WHS Event Log'!$E$3:$E$502,H$61,'WHS Event Log'!$Q$3:$Q$502,'Info Tables'!$B69)","v":0},{"$f":"COUNTIFS('WHS Event Log'!$E$3:$E$502,I$61,'WHS Event Log'!$Q$3:$Q$502,'Info Tables'!$B69)","v":0},{"$f":"COUNTIFS('WHS Event Log'!$E$3:$E$502,J$61,'WHS Event Log'!$Q$3:$Q$502,'Info Tables'!$B69)","v":0},{"$f":"COUNTIFS('WHS Event Log'!$E$3:$E$502,K$61,'WHS Event Log'!$Q$3:$Q$502,'Info Tables'!$B69)","v":0},{"$f":"COUNTIFS('WHS Event Log'!$E$3:$E$502,L$61,'WHS Event Log'!$Q$3:$Q$502,'Info Tables'!$B69)","v":0},{"$f":"COUNTIFS('WHS Event Log'!$E$3:$E$502,M$61,'WHS Event Log'!$Q$3:$Q$502,'Info Tables'!$B69)","v":0},{"$f":"COUNTIFS('WHS Event Log'!$E$3:$E$502,N$61,'WHS Event Log'!$Q$3:$Q$502,'Info Tables'!$B69)","v":0},0,{"$f":"COUNTIFS('WHS Event Log'!$Q$3:$Q$502,$B69,'WHS Event Log'!$S$3:$S$502,Lists!$E$3)","v":0},{"$f":"COUNTIFS('WHS Event Log'!$Q$3:$Q$502,$B69,'WHS Event Log'!$S$3:$S$502,Lists!$E$3,'WHS Event Log'!$T$3:$T$502,Lists!$K$3)","v":0}]
[null,"Foreign Body ",{"$f":"COUNTIFS('WHS Event Log'!$E$3:$E$502,C$61,'WHS Event Log'!$Q$3:$Q$502,'Info Tables'!$B70)","v":0},{"$f":"COUNTIFS('WHS Event Log'!$E$3:$E$502,D$61,'WHS Event Log'!$Q$3:$Q$502,'Info Tables'!$B70)","v":0},{"$f":"COUNTIFS('WHS Event Log'!$E$3:$E$502,E$61,'WHS Event Log'!$Q$3:$Q$502,'Info Tables'!$B70)","v":0},{"$f":"COUNTIFS('WHS Event Log'!$E$3:$E$502,F$61,'WHS Event Log'!$Q$3:$Q$502,'Info Tables'!$B70)","v":0},{"$f":"COUNTIFS('WHS Event Log'!$E$3:$E$502,G$61,'WHS Event Log'!$Q$3:$Q$502,'Info Tables'!$B70)","v":0},{"$f":"COUNTIFS('WHS Event Log'!$E$3:$E$502,H$61,'WHS Event Log'!$Q$3:$Q$502,'Info Tables'!$B70)","v":0},{"$f":"COUNTIFS('WHS Event Log'!$E$3:$E$502,I$61,'WHS Event Log'!$Q$3:$Q$502,'Info Tables'!$B70)","v":0},{"$f":"COUNTIFS('WHS Event Log'!$E$3:$E$502,J$61,'WHS Event Log'!$Q$3:$Q$502,'Info Tables'!$B70)","v":0},{"$f":"COUNTIFS('WHS Event Log'!$E$3:$E$502,K$61,'WHS Event Log'!$Q$3:$Q$502,'Info Tables'!$B70)","v":0},{"$f":"COUNTIFS('WHS Event Log'!$E$3:$E$502,L$61,'WHS Event Log'!$Q$3:$Q$502,'Info Tables'!$B70)","v":0},{"$f":"COUNTIFS('WHS Event Log'!$E$3:$E$502,M$61,'WHS Event Log'!$Q$3:$Q$502,'Info Tables'!$B70)","v":0},{"$f":"COUNTIFS('WHS Event Log'!$E$3:$E$502,N$61,'WHS Event Log'!$Q$3:$Q$502,'Info Tables'!$B70)","v":0},0,{"$f":"COUNTIFS('WHS Event Log'!$Q$3:$Q$502,$B70,'WHS Event Log'!$S$3:$S$502,Lists!$E$3)","v":0},{"$f":"COUNTIFS('WHS Event Log'!$Q$3:$Q$502,$B70,'WHS Event Log'!$S$3:$S$502,Lists!$E$3,'WHS Event Log'!$T$3:$T$502,Lists!$K$3)","v":0}]
[null,"Fracture",{"$f":"COUNTIFS('WHS Event Log'!$E$3:$E$502,C$61,'WHS Event Log'!$Q$3:$Q$502,'Info Tables'!$B71)","v":0},{"$f":"COUNTIFS('WHS Event Log'!$E$3:$E$502,D$61,'WHS Event Log'!$Q$3:$Q$502,'Info Tables'!$B71)","v":0},{"$f":"COUNTIFS('WHS Event Log'!$E$3:$E$502,E$61,'WHS Event Log'!$Q$3:$Q$502,'Info Tables'!$B71)","v":0},{"$f":"COUNTIFS('WHS Event Log'!$E$3:$E$502,F$61,'WHS Event Log'!$Q$3:$Q$502,'Info Tables'!$B71)","v":0},{"$f":"COUNTIFS('WHS Event Log'!$E$3:$E$502,G$61,'WHS Event Log'!$Q$3:$Q$502,'Info Tables'!$B71)","v":0},{"$f":"COUNTIFS('WHS Event Log'!$E$3:$E$502,H$61,'WHS Event Log'!$Q$3:$Q$502,'Info Tables'!$B71)","v":0},{"$f":"COUNTIFS('WHS Event Log'!$E$3:$E$502,I$61,'WHS Event Log'!$Q$3:$Q$502,'Info Tables'!$B71)","v":0},{"$f":"COUNTIFS('WHS Event Log'!$E$3:$E$502,J$61,'WHS Event Log'!$Q$3:$Q$502,'Info Tables'!$B71)","v":0},{"$f":"COUNTIFS('WHS Event Log'!$E$3:$E$502,K$61,'WHS Event Log'!$Q$3:$Q$502,'Info Tables'!$B71)","v":0},{"$f":"COUNTIFS('WHS Event Log'!$E$3:$E$502,L$61,'WHS Event Log'!$Q$3:$Q$502,'Info Tables'!$B71)","v":0},{"$f":"COUNTIFS('WHS Event Log'!$E$3:$E$502,M$61,'WHS Event Log'!$Q$3:$Q$502,'Info Tables'!$B71)","v":0},{"$f":"COUNTIFS('WHS Event Log'!$E$3:$E$502,N$61,'WHS Event Log'!$Q$3:$Q$502,'Info Tables'!$B71)","v":0},0,{"$f":"COUNTIFS('WHS Event Log'!$Q$3:$Q$502,$B71,'WHS Event Log'!$S$3:$S$502,Lists!$E$3)","v":0},{"$f":"COUNTIFS('WHS Event Log'!$Q$3:$Q$502,$B71,'WHS Event Log'!$S$3:$S$502,Lists!$E$3,'WHS Event Log'!$T$3:$T$502,Lists!$K$3)","v":0}]
[null,"Hernia",{"$f":"COUNTIFS('WHS Event Log'!$E$3:$E$502,C$61,'WHS Event Log'!$Q$3:$Q$502,'Info Tables'!$B72)","v":0},{"$f":"COUNTIFS('WHS Event Log'!$E$3:$E$502,D$61,'WHS Event Log'!$Q$3:$Q$502,'Info Tables'!$B72)","v":0},{"$f":"COUNTIFS('WHS Event Log'!$E$3:$E$502,E$61,'WHS Event Log'!$Q$3:$Q$502,'Info Tables'!$B72)","v":0},{"$f":"COUNTIFS('WHS Event Log'!$E$3:$E$502,F$61,'WHS Event Log'!$Q$3:$Q$502,'Info Tables'!$B72)","v":0},{"$f":"COUNTIFS('WHS Event Log'!$E$3:$E$502,G$61,'WHS Event Log'!$Q$3:$Q$502,'Info Tables'!$B72)","v":0},{"$f":"COUNTIFS('WHS Event Log'!$E$3:$E$502,H$61,'WHS Event Log'!$Q$3:$Q$502,'Info Tables'!$B72)","v":0},{"$f":"COUNTIFS('WHS Event Log'!$E$3:$E$502,I$61,'WHS Event Log'!$Q$3:$Q$502,'Info Tables'!$B72)","v":0},{"$f":"COUNTIFS('WHS Event Log'!$E$3:$E$502,J$61,'WHS Event Log'!$Q$3:$Q$502,'Info Tables'!$B72)","v":0},{"$f":"COUNTIFS('WHS Event Log'!$E$3:$E$502,K$61,'WHS Event Log'!$Q$3:$Q$502,'Info Tables'!$B72)","v":0},{"$f":"COUNTIFS('WHS Event Log'!$E$3:$E$502,L$61,'WHS Event Log'!$Q$3:$Q$502,'Info Tables'!$B72)","v":0},{"$f":"COUNTIFS('WHS Event Log'!$E$3:$E$502,M$61,'WHS Event Log'!$Q$3:$Q$502,'Info Tables'!$B72)","v":0},{"$f":"COUNTIFS('WHS Event Log'!$E$3:$E$502,N$61,'WHS Event Log'!$Q$3:$Q$502,'Info Tables'!$B72)","v":0},0,{"$f":"COUNTIFS('WHS Event Log'!$Q$3:$Q$502,$B72,'WHS Event Log'!$S$3:$S$502,Lists!$E$3)","v":0},{"$f":"COUNTIFS('WHS Event Log'!$Q$3:$Q$502,$B72,'WHS Event Log'!$S$3:$S$502,Lists!$E$3,'WHS Event Log'!$T$3:$T$502,Lists!$K$3)","v":0}]
[null,"Lacerations",{"$f":"COUNTIFS('WHS Event Log'!$E$3:$E$502,C$61,'WHS Event Log'!$Q$3:$Q$502,'Info Tables'!$B73)","v":0},{"$f":"COUNTIFS('WHS Event Log'!$E$3:$E$502,D$61,'WHS Event Log'!$Q$3:$Q$502,'Info Tables'!$B73)","v":0},{"$f":"COUNTIFS('WHS Event Log'!$E$3:$E$502,E$61,'WHS Event Log'!$Q$3:$Q$502,'Info Tables'!$B73)","v":0},{"$f":"COUNTIFS('WHS Event Log'!$E$3:$E$502,F$61,'WHS Event Log'!$Q$3:$Q$502,'Info Tables'!$B73)","v":0},{"$f":"COUNTIFS('WHS Event Log'!$E$3:$E$502,G$61,'WHS Event Log'!$Q$3:$Q$502,'Info Tables'!$B73)","v":0},{"$f":"COUNTIFS('WHS Event Log'!$E$3:$E$502,H$61,'WHS Event Log'!$Q$3:$Q$502,'Info Tables'!$B73)","v":0},{"$f":"COUNTIFS('WHS Event Log'!$E$3:$E$502,I$61,'WHS Event Log'!$Q$3:$Q$502,'Info Tables'!$B73)","v":0},{"$f":"COUNTIFS('WHS Event Log'!$E$3:$E$502,J$61,'WHS Event Log'!$Q$3:$Q$502,'Info Tables'!$B73)","v":0},{"$f":"COUNTIFS('WHS Event Log'!$E$3:$E$502,K$61,'WHS Event Log'!$Q$3:$Q$502,'Info Tables'!$B73)","v":0},{"$f":"COUNTIFS('WHS Event Log'!$E$3:$E$502,L$61,'WHS Event Log'!$Q$3:$Q$502,'Info Tables'!$B73)","v":0},{"$f":"COUNTIFS('WHS Event Log'!$E$3:$E$502,M$61,'WHS Event Log'!$Q$3:$Q$502,'Info Tables'!$B73)","v":0},{"$f":"COUNTIFS('WHS Event Log'!$E$3:$E$502,N$61,'WHS Event Log'!$Q$3:$Q$502,'Info Tables'!$B73)","v":0},0,{"$f":"COUNTIFS('WHS Event Log'!$Q$3:$Q$502,$B73,'WHS Event Log'!$S$3:$S$502,Lists!$E$3)","v":0},{"$f":"COUNTIFS('WHS Event Log'!$Q$3:$Q$502,$B73,'WHS Event Log'!$S$3:$S$502,Lists!$E$3,'WHS Event Log'!$T$3:$T$502,Lists!$K$3)","v":0}]
[null,"Mental Disorder",{"$f":"COUNTIFS('WHS Event Log'!$E$3:$E$502,C$61,'WHS Event Log'!$Q$3:$Q$502,'Info Tables'!$B74)","v":0},{"$f":"COUNTIFS('WHS Event Log'!$E$3:$E$502,D$61,'WHS Event Log'!$Q$3:$Q$502,'Info Tables'!$B74)","v":0},{"$f":"COUNTIFS('WHS Event Log'!$E$3:$E$502,E$61,'WHS Event Log'!$Q$3:$Q$502,'Info Tables'!$B74)","v":0},{"$f":"COUNTIFS('WHS Event Log'!$E$3:$E$502,F$61,'WHS Event Log'!$Q$3:$Q$502,'Info Tables'!$B74)","v":0},{"$f":"COUNTIFS('WHS Event Log'!$E$3:$E$502,G$61,'WHS Event Log'!$Q$3:$Q$502,'Info Tables'!$B74)","v":0},{"$f":"COUNTIFS('WHS Event Log'!$E$3:$E$502,H$61,'WHS Event Log'!$Q$3:$Q$502,'Info Tables'!$B74)","v":0},{"$f":"COUNTIFS('WHS Event Log'!$E$3:$E$502,I$61,'WHS Event Log'!$Q$3:$Q$502,'Info Tables'!$B74)","v":0},{"$f":"COUNTIFS('WHS Event Log'!$E$3:$E$502,J$61,'WHS Event Log'!$Q$3:$Q$502,'Info Tables'!$B74)","v":0},{"$f":"COUNTIFS('WHS Event Log'!$E$3:$E$502,K$61,'WHS Event Log'!$Q$3:$Q$502,'Info Tables'!$B74)","v":0},{"$f":"COUNTIFS('WHS Event Log'!$E$3:$E$502,L$61,'WHS Event Log'!$Q$3:$Q$502,'Info Tables'!$B74)","v":0},{"$f":"COUNTIFS('WHS Event Log'!$E$3:$E$502,M$61,'WHS Event Log'!$Q$3:$Q$502,'Info Tables'!$B74)","v":0},{"$f":"COUNTIFS('WHS Event Log'!$E$3:$E$502,N$61,'WHS Event Log'!$Q$3:$Q$502,'Info Tables'!$B74)","v":0},0,{"$f":"COUNTIFS('WHS Event Log'!$Q$3:$Q$502,$B74,'WHS Event Log'!$S$3:$S$502,Lists!$E$3)","v":0},{"$f":"COUNTIFS('WHS Event Log'!$Q$3:$Q$502,$B74,'WHS Event Log'!$S$3:$S$502,Lists!$E$3,'WHS Event Log'!$T$3:$T$502,Lists!$K$3)","v":0}]
[null,"Multiple Injury",{"$f":"COUNTIFS('WHS Event Log'!$E$3:$E$502,C$61,'WHS Event Log'!$Q$3:$Q$502,'Info Tables'!$B75)","v":0},{"$f":"COUNTIFS('WHS Event Log'!$E$3:$E$502,D$61,'WHS Event Log'!$Q$3:$Q$502,'Info Tables'!$B75)","v":0},{"$f":"COUNTIFS('WHS Event Log'!$E$3:$E$502,E$61,'WHS Event Log'!$Q$3:$Q$502,'Info Tables'!$B75)","v":0},{"$f":"COUNTIFS('WHS Event Log'!$E$3:$E$502,F$61,'WHS Event Log'!$Q$3:$Q$502,'Info Tables'!$B75)","v":0},{"$f":"COUNTIFS('WHS Event Log'!$E$3:$E$502,G$61,'WHS Event Log'!$Q$3:$Q$502,'Info Tables'!$B75)","v":0},{"$f":"COUNTIFS('WHS Event Log'!$E$3:$E$502,H$61,'WHS Event Log'!$Q$3:$Q$502,'Info Tables'!$B75)","v":0},{"$f":"COUNTIFS('WHS Event Log'!$E$3:$E$502,I$61,'WHS Event Log'!$Q$3:$Q$502,'Info Tables'!$B75)","v":0},{"$f":"COUNTIFS('WHS Event Log'!$E$3:$E$502,J$61,'WHS Event Log'!$Q$3:$Q$502,'Info Tables'!$B75)","v":0},{"$f":"COUNTIFS('WHS Event Log'!$E$3:$E$502,K$61,'WHS Event Log'!$Q$3:$Q$502,'Info Tables'!$B75)","v":0},{"$f":"COUNTIFS('WHS Event Log'!$E$3:$E$502,L$61,'WHS Event Log'!$Q$3:$Q$502,'Info Tables'!$B75)","v":0},{"$f":"COUNTIFS('WHS Event Log'!$E$3:$E$502,M$61,'WHS Event Log'!$Q$3:$Q$502,'Info Tables'!$B75)","v":0},{"$f":"COUNTIFS('WHS Event Log'!$E$3:$E$502,N$61,'WHS Event Log'!$Q$3:$Q$502,'Info Tables'!$B75)","v":0},0,{"$f":"COUNTIFS('WHS Event Log'!$Q$3:$Q$502,$B75,'WHS Event Log'!$S$3:$S$502,Lists!$E$3)","v":0},{"$f":"COUNTIFS('WHS Event Log'!$Q$3:$Q$502,$B75,'WHS Event Log'!$S$3:$S$502,Lists!$E$3,'WHS Event Log'!$T$3:$T$502,Lists!$K$3)","v":0}]
[null,"Open Wound",{"$f":"COUNTIFS('WHS Event Log'!$E$3:$E$502,C$61,'WHS Event Log'!$Q$3:$Q$502,'Info Tables'!$B76)","v":0},{"$f":"COUNTIFS('WHS Event Log'!$E$3:$E$502,D$61,'WHS Event Log'!$Q$3:$Q$502,'Info Tables'!$B76)","v":0},{"$f":"COUNTIFS('WHS Event Log'!$E$3:$E$502,E$61,'WHS Event Log'!$Q$3:$Q$502,'Info Tables'!$B76)","v":0},{"$f":"COUNTIFS('WHS Event Log'!$E$3:$E$502,F$61,'WHS Event Log'!$Q$3:$Q$502,'Info Tables'!$B76)","v":0},{"$f":"COUNTIFS('WHS Event Log'!$E$3:$E$502,G$61,'WHS Event Log'!$Q$3:$Q$502,'Info Tables'!$B76)","v":0},{"$f":"COUNTIFS('WHS Event Log'!$E$3:$E$502,H$61,'WHS Event Log'!$Q$3:$Q$502,'Info Tables'!$B76)","v":0},{"$f":"COUNTIFS('WHS Event Log'!$E$3:$E$502,I$61,'WHS Event Log'!$Q$3:$Q$502,'Info Tables'!$B76)","v":0},{"$f":"COUNTIFS('WHS Event Log'!$E$3:$E$502,J$61,'WHS Event Log'!$Q$3:$Q$502,'Info Tables'!$B76)","v":0},{"$f":"COUNTIFS('WHS Event Log'!$E$3:$E$502,K$61,'WHS Event Log'!$Q$3:$Q$502,'Info Tables'!$B76)","v":0},{"$f":"COUNTIFS('WHS Event Log'!$E$3:$E$502,L$61,'WHS Event Log'!$Q$3:$Q$502,'Info Tables'!$B76)","v":0},{"$f":"COUNTIFS('WHS Event Log'!$E$3:$E$502,M$61,'WHS Event Log'!$Q$3:$Q$502,'Info Tables'!$B76)","v":0},{"$f":"COUNTIFS('WHS Event Log'!$E$3:$E$502,N$61,'WHS Event Log'!$Q$3:$Q$502,'Info Tables'!$B76)","v":0},0,{"$f":"COUNTIFS('WHS Event Log'!$Q$3:$Q$502,$B76,'WHS Event Log'!$S$3:$S$502,Lists!$E$3)","v":0},{"$f":"COUNTIFS('WHS Event Log'!$Q$3:$Q$502,$B76,'WHS Event Log'!$S$3:$S$502,Lists!$E$3,'WHS Event Log'!$T$3:$T$502,Lists!$K$3)","v":0}]
[null,"Poisoning/Toxic Effects",{"$f":"COUNTIFS('WHS Event Log'!$E$3:$E$502,C$61,'WHS Event Log'!$Q$3:$Q$502,'Info Tables'!$B77)","v":0},{"$f":"COUNTIFS('WHS Event Log'!$E$3:$E$502,D$61,'WHS Event Log'!$Q$3:$Q$502,'Info Tables'!$B77)","v":0},{"$f":"COUNTIFS('WHS Event Log'!$E$3:$E$502,E$61,'WHS Event Log'!$Q$3:$Q$502,'Info Tables'!$B77)","v":0},{"$f":"COUNTIFS('WHS Event Log'!$E$3:$E$502,F$61,'WHS Event Log'!$Q$3:$Q$502,'Info Tables'!$B77)","v":0},{"$f":"COUNTIFS('WHS Event Log'!$E$3:$E$502,G$61,'WHS Event Log'!$Q$3:$Q$502,'Info Tables'!$B77)","v":0},{"$f":"COUNTIFS('WHS Event Log'!$E$3:$E$502,H$61,'WHS Event Log'!$Q$3:$Q$502,'Info Tables'!$B77)","v":0},{"$f":"COUNTIFS('WHS Event Log'!$E$3:$E$502,I$61,'WHS Event Log'!$Q$3:$Q$502,'Info Tables'!$B77)","v":0},{"$f":"COUNTIFS('WHS Event Log'!$E$3:$E$502,J$61,'WHS Event Log'!$Q$3:$Q$502,'Info Tables'!$B77)","v":0},{"$f":"COUNTIFS('WHS Event Log'!$E$3:$E$502,K$61,'WHS Event Log'!$Q$3:$Q$502,'Info Tables'!$B77)","v":0},{"$f":"COUNTIFS('WHS Event Log'!$E$3:$E$502,L$61,'WHS Event Log'!$Q$3:$Q$502,'Info Tables'!$B77)","v":0},{"$f":"COUNTIFS('WHS Event Log'!$E$3:$E$502,M$61,'WHS Event Log'!$Q$3:$Q$502,'Info Tables'!$B77)","v":0},{"$f":"COUNTIFS('WHS Event Log'!$E$3:$E$502,N$61,'WHS Event Log'!$Q$3:$Q$502,'Info Tables'!$B77)","v":0},0,{"$f":"COUNTIFS('WHS Event Log'!$Q$3:$Q$502,$B77,'WHS Event Log'!$S$3:$S$502,Lists!$E$3)","v":0},{"$f":"COUNTIFS('WHS Event Log'!$Q$3:$Q$502,$B77,'WHS Event Log'!$S$3:$S$502,Lists!$E$3,'WHS Event Log'!$T$3:$T$502,Lists!$K$3)","v":0}]
[null,"Puncture wound",{"$f":"COUNTIFS('WHS Event Log'!$E$3:$E$502,C$61,'WHS Event Log'!$Q$3:$Q$502,'Info Tables'!$B78)","v":0},{"$f":"COUNTIFS('WHS Event Log'!$E$3:$E$502,D$61,'WHS Event Log'!$Q$3:$Q$502,'Info Tables'!$B78)","v":0},{"$f":"COUNTIFS('WHS Event Log'!$E$3:$E$502,E$61,'WHS Event Log'!$Q$3:$Q$502,'Info Tables'!$B78)","v":0},{"$f":"COUNTIFS('WHS Event Log'!$E$3:$E$502,F$61,'WHS Event Log'!$Q$3:$Q$502,'Info Tables'!$B78)","v":0},{"$f":"COUNTIFS('WHS Event Log'!$E$3:$E$502,G$61,'WHS Event Log'!$Q$3:$Q$502,'Info Tables'!$B78)","v":0},{"$f":"COUNTIFS('WHS Event Log'!$E$3:$E$502,H$61,'WHS Event Log'!$Q$3:$Q$502,'Info Tables'!$B78)","v":0},{"$f":"COUNTIFS('WHS Event Log'!$E$3:$E$502,I$61,'WHS Event Log'!$Q$3:$Q$502,'Info Tables'!$B78)","v":0},{"$f":"COUNTIFS('WHS Event Log'!$E$3:$E$502,J$61,'WHS Event Log'!$Q$3:$Q$502,'Info Tables'!$B78)","v":0},{"$f":"COUNTIFS('WHS Event Log'!$E$3:$E$502,K$61,'WHS Event Log'!$Q$3:$Q$502,'Info Tables'!$B78)","v":0},{"$f":"COUNTIFS('WHS Event Log'!$E$3:$E$502,L$61,'WHS Event Log'!$Q$3:$Q$502,'Info Tables'!$B78)","v":0},{"$f":"COUNTIFS('WHS Event Log'!$E$3:$E$502,M$61,'WHS Event Log'!$Q$3:$Q$502,'Info Tables'!$B78)","v":0},{"$f":"COUNTIFS('WHS Event Log'!$E$3:$E$502,N$61,'WHS Event Log'!$Q$3:$Q$502,'Info Tables'!$B78)","v":0},0,{"$f":"COUNTIFS('WHS Event Log'!$Q$3:$Q$502,$B78,'WHS Event Log'!$S$3:$S$502,Lists!$E$3)","v":0},{"$f":"COUNTIFS('WHS Event Log'!$Q$3:$Q$502,$B78,'WHS Event Log'!$S$3:$S$502,Lists!$E$3,'WHS Event Log'!$T$3:$T$502,Lists!$K$3)","v":0}]
[null,"Respiratory Condition",{"$f":"COUNTIFS('WHS Event Log'!$E$3:$E$502,C$61,'WHS Event Log'!$Q$3:$Q$502,'Info Tables'!$B79)","v":0},{"$f":"COUNTIFS('WHS Event Log'!$E$3:$E$502,D$61,'WHS Event Log'!$Q$3:$Q$502,'Info Tables'!$B79)","v":0},{"$f":"COUNTIFS('WHS Event Log'!$E$3:$E$502,E$61,'WHS Event Log'!$Q$3:$Q$502,'Info Tables'!$B79)","v":0},{"$f":"COUNTIFS('WHS Event Log'!$E$3:$E$502,F$61,'WHS Event Log'!$Q$3:$Q$502,'Info Tables'!$B79)","v":0},{"$f":"COUNTIFS('WHS Event Log'!$E$3:$E$502,G$61,'WHS Event Log'!$Q$3:$Q$502,'Info Tables'!$B79)","v":0},{"$f":"COUNTIFS('WHS Event Log'!$E$3:$E$502,H$61,'WHS Event Log'!$Q$3:$Q$502,'Info Tables'!$B79)","v":0},{"$f":"COUNTIFS('WHS Event Log'!$E$3:$E$502,I$61,'WHS Event Log'!$Q$3:$Q$502,'Info Tables'!$B79)","v":0},{"$f":"COUNTIFS('WHS Event Log'!$E$3:$E$502,J$61,'WHS Event Log'!$Q$3:$Q$502,'Info Tables'!$B79)","v":0},{"$f":"COUNTIFS('WHS Event Log'!$E$3:$E$502,K$61,'WHS Event Log'!$Q$3:$Q$502,'Info Tables'!$B79)","v":0},{"$f":"COUNTIFS('WHS Event Log'!$E$3:$E$502,L$61,'WHS Event Log'!$Q$3:$Q$502,'Info Tables'!$B79)","v":0},{"$f":"COUNTIFS('WHS Event Log'!$E$3:$E$502,M$61,'WHS Event Log'!$Q$3:$Q$502,'Info Tables'!$B79)","v":0},{"$f":"COUNTIFS('WHS Event Log'!$E$3:$E$502,N$61,'WHS Event Log'!$Q$3:$Q$502,'Info Tables'!$B79)","v":0},0,{"$f":"COUNTIFS('WHS Event Log'!$Q$3:$Q$502,$B79,'WHS Event Log'!$S$3:$S$502,Lists!$E$3)","v":0},{"$f":"COUNTIFS('WHS Event Log'!$Q$3:$Q$502,$B79,'WHS Event Log'!$S$3:$S$502,Lists!$E$3,'WHS Event Log'!$T$3:$T$502,Lists!$K$3)","v":0}]
[null,"Sprains, Strains",{"$f":"COUNTIFS('WHS Event Log'!$E$3:$E$502,C$61,'WHS Event Log'!$Q$3:$Q$502,'Info Tables'!$B80)","v":0},{"$f":"COUNTIFS('WHS Event Log'!$E$3:$E$502,D$61,'WHS Event Log'!$Q$3:$Q$502,'Info Tables'!$B80)","v":0},{"$f":"COUNTIFS('WHS Event Log'!$E$3:$E$502,E$61,'WHS Event Log'!$Q$3:$Q$502,'Info Tables'!$B80)","v":0},{"$f":"COUNTIFS('WHS Event Log'!$E$3:$E$502,F$61,'WHS Event Log'!$Q$3:$Q$502,'Info Tables'!$B80)","v":0},{"$f":"COUNTIFS('WHS Event Log'!$E$3:$E$502,G$61,'WHS Event Log'!$Q$3:$Q$502,'Info Tables'!$B80)","v":0},{"$f":"COUNTIFS('WHS Event Log'!$E$3:$E$502,H$61,'WHS Event Log'!$Q$3:$Q$502,'Info Tables'!$B80)","v":0},{"$f":"COUNTIFS('WHS Event Log'!$E$3:$E$502,I$61,'WHS Event Log'!$Q$3:$Q$502,'Info Tables'!$B80)","v":0},{"$f":"COUNTIFS('WHS Event Log'!$E$3:$E$502,J$61,'WHS Event Log'!$Q$3:$Q$502,'Info Tables'!$B80)","v":0},{"$f":"COUNTIFS('WHS Event Log'!$E$3:$E$502,K$61,'WHS Event Log'!$Q$3:$Q$502,'Info Tables'!$B80)","v":0},{"$f":"COUNTIFS('WHS Event Log'!$E$3:$E$502,L$61,'WHS Event Log'!$Q$3:$Q$502,'Info Tables'!$B80)","v":0},{"$f":"COUNTIFS('WHS Event Log'!$E$3:$E$502,M$61,'WHS Event Log'!$Q$3:$Q$502,'Info Tables'!$B80)","v":0},{"$f":"COUNTIFS('WHS Event Log'!$E$3:$E$502,N$61,'WHS Event Log'!$Q$3:$Q$502,'Info Tables'!$B80)","v":0},0,{"$f":"COUNTIFS('WHS Event Log'!$Q$3:$Q$502,$B80,'WHS Event Log'!$S$3:$S$502,Lists!$E$3)","v":0},{"$f":"COUNTIFS('WHS Event Log'!$Q$3:$Q$502,$B80,'WHS Event Log'!$S$3:$S$502,Lists!$E$3,'WHS Event Log'!$T$3:$T$502,Lists!$K$3)","v":0}]
[null,"Superficial Injury",{"$f":"COUNTIFS('WHS Event Log'!$E$3:$E$502,C$61,'WHS Event Log'!$Q$3:$Q$502,'Info Tables'!$B81)","v":0},{"$f":"COUNTIFS('WHS Event Log'!$E$3:$E$502,D$61,'WHS Event Log'!$Q$3:$Q$502,'Info Tables'!$B81)","v":0},{"$f":"COUNTIFS('WHS Event Log'!$E$3:$E$502,E$61,'WHS Event Log'!$Q$3:$Q$502,'Info Tables'!$B81)","v":0},{"$f":"COUNTIFS('WHS Event Log'!$E$3:$E$502,F$61,'WHS Event Log'!$Q$3:$Q$502,'Info Tables'!$B81)","v":0},{"$f":"COUNTIFS('WHS Event Log'!$E$3:$E$502,G$61,'WHS Event Log'!$Q$3:$Q$502,'Info Tables'!$B81)","v":0},{"$f":"COUNTIFS('WHS Event Log'!$E$3:$E$502,H$61,'WHS Event Log'!$Q$3:$Q$502,'Info Tables'!$B81)","v":0},{"$f":"COUNTIFS('WHS Event Log'!$E$3:$E$502,I$61,'WHS Event Log'!$Q$3:$Q$502,'Info Tables'!$B81)","v":0},{"$f":"COUNTIFS('WHS Event Log'!$E$3:$E$502,J$61,'WHS Event Log'!$Q$3:$Q$502,'Info Tables'!$B81)","v":0},{"$f":"COUNTIFS('WHS Event Log'!$E$3:$E$502,K$61,'WHS Event Log'!$Q$3:$Q$502,'Info Tables'!$B81)","v":0},{"$f":"COUNTIFS('WHS Event Log'!$E$3:$E$502,L$61,'WHS Event Log'!$Q$3:$Q$502,'Info Tables'!$B81)","v":0},{"$f":"COUNTIFS('WHS Event Log'!$E$3:$E$502,M$61,'WHS Event Log'!$Q$3:$Q$502,'Info Tables'!$B81)","v":0},{"$f":"COUNTIFS('WHS Event Log'!$E$3:$E$502,N$61,'WHS Event Log'!$Q$3:$Q$502,'Info Tables'!$B81)","v":0},0,{"$f":"COUNTIFS('WHS Event Log'!$Q$3:$Q$502,$B81,'WHS Event Log'!$S$3:$S$502,Lists!$E$3)","v":0},{"$f":"COUNTIFS('WHS Event Log'!$Q$3:$Q$502,$B81,'WHS Event Log'!$S$3:$S$502,Lists!$E$3,'WHS Event Log'!$T$3:$T$502,Lists!$K$3)","v":0}]
[null,"Unspecified",{"$f":"COUNTIFS('WHS Event Log'!$E$3:$E$502,C$61,'WHS Event Log'!$Q$3:$Q$502,'Info Tables'!$B82)","v":0},{"$f":"COUNTIFS('WHS Event Log'!$E$3:$E$502,D$61,'WHS Event Log'!$Q$3:$Q$502,'Info Tables'!$B82)","v":0},{"$f":"COUNTIFS('WHS Event Log'!$E$3:$E$502,E$61,'WHS Event Log'!$Q$3:$Q$502,'Info Tables'!$B82)","v":0},{"$f":"COUNTIFS('WHS Event Log'!$E$3:$E$502,F$61,'WHS Event Log'!$Q$3:$Q$502,'Info Tables'!$B82)","v":0},{"$f":"COUNTIFS('WHS Event Log'!$E$3:$E$502,G$61,'WHS Event Log'!$Q$3:$Q$502,'Info Tables'!$B82)","v":0},{"$f":"COUNTIFS('WHS Event Log'!$E$3:$E$502,H$61,'WHS Event Log'!$Q$3:$Q$502,'Info Tables'!$B82)","v":0},{"$f":"COUNTIFS('WHS Event Log'!$E$3:$E$502,I$61,'WHS Event Log'!$Q$3:$Q$502,'Info Tables'!$B82)","v":0},{"$f":"COUNTIFS('WHS Event Log'!$E$3:$E$502,J$61,'WHS Event Log'!$Q$3:$Q$502,'Info Tables'!$B82)","v":0},{"$f":"COUNTIFS('WHS Event Log'!$E$3:$E$502,K$61,'WHS Event Log'!$Q$3:$Q$502,'Info Tables'!$B82)","v":0},{"$f":"COUNTIFS('WHS Event Log'!$E$3:$E$502,L$61,'WHS Event Log'!$Q$3:$Q$502,'Info Tables'!$B82)","v":0},{"$f":"COUNTIFS('WHS Event Log'!$E$3:$E$502,M$61,'WHS Event Log'!$Q$3:$Q$502,'Info Tables'!$B82)","v":0},{"$f":"COUNTIFS('WHS Event Log'!$E$3:$E$502,N$61,'WHS Event Log'!$Q$3:$Q$502,'Info Tables'!$B82)","v":0},0,{"$f":"COUNTIFS('WHS Event Log'!$Q$3:$Q$502,$B82,'WHS Event Log'!$S$3:$S$502,Lists!$E$3)","v":0},{"$f":"COUNTIFS('WHS Event Log'!$Q$3:$Q$502,$B82,'WHS Event Log'!$S$3:$S$502,Lists!$E$3,'WHS Event Log'!$T$3:$T$502,Lists!$K$3)","v":0}]
[null,"Other",{"$f":"COUNTIFS('WHS Event Log'!$E$3:$E$502,C$61,'WHS Event Log'!$Q$3:$Q$502,'Info Tables'!$B83)","v":0},{"$f":"COUNTIFS('WHS Event Log'!$E$3:$E$502,D$61,'WHS Event Log'!$Q$3:$Q$502,'Info Tables'!$B83)","v":0},{"$f":"COUNTIFS('WHS Event Log'!$E$3:$E$502,E$61,'WHS Event Log'!$Q$3:$Q$502,'Info Tables'!$B83)","v":0},{"$f":"COUNTIFS('WHS Event Log'!$E$3:$E$502,F$61,'WHS Event Log'!$Q$3:$Q$502,'Info Tables'!$B83)","v":0},{"$f":"COUNTIFS('WHS Event Log'!$E$3:$E$502,G$61,'WHS Event Log'!$Q$3:$Q$502,'Info Tables'!$B83)","v":0},{"$f":"COUNTIFS('WHS Event Log'!$E$3:$E$502,H$61,'WHS Event Log'!$Q$3:$Q$502,'Info Tables'!$B83)","v":0},{"$f":"COUNTIFS('WHS Event Log'!$E$3:$E$502,I$61,'WHS Event Log'!$Q$3:$Q$502,'Info Tables'!$B83)","v":0},{"$f":"COUNTIFS('WHS Event Log'!$E$3:$E$502,J$61,'WHS Event Log'!$Q$3:$Q$502,'Info Tables'!$B83)","v":0},{"$f":"COUNTIFS('WHS Event Log'!$E$3:$E$502,K$61,'WHS Event Log'!$Q$3:$Q$502,'Info Tables'!$B83)","v":0},{"$f":"COUNTIFS('WHS Event Log'!$E$3:$E$502,L$61,'WHS Event Log'!$Q$3:$Q$502,'Info Tables'!$B83)","v":0},{"$f":"COUNTIFS('WHS Event Log'!$E$3:$E$502,M$61,'WHS Event Log'!$Q$3:$Q$502,'Info Tables'!$B83)","v":0},{"$f":"COUNTIFS('WHS Event Log'!$E$3:$E$502,N$61,'WHS Event Log'!$Q$3:$Q$502,'Info Tables'!$B83)","v":0},0,{"$f":"COUNTIFS('WHS Event Log'!$Q$3:$Q$502,$B83,'WHS Event Log'!$S$3:$S$502,Lists!$E$3)","v":0},{"$f":"COUNTIFS('WHS Event Log'!$Q$3:$Q$502,$B83,'WHS Event Log'!$S$3:$S$502,Lists!$E$3,'WHS Event Log'!$T$3:$T$502,Lists!$K$3)","v":0}]
[null,"Injury Totals",{"$f":"SUM(C63:C83)","v":0},0,0,0,0,0,0,0,0,0,0,0,0]
[null,"Claim Made",{"$f":"COUNTIFS('WHS Event Log'!$E$3:$E$502,C$61,'WHS Event Log'!$S$3:$S$502,Lists!$E$3)","v":0},{"$f":"COUNTIFS('WHS Event Log'!$E$3:$E$502,D$61,'WHS Event Log'!$S$3:$S$502,Lists!$E$3)","v":0},{"$f":"COUNTIFS('WHS Event Log'!$E$3:$E$502,E$61,'WHS Event Log'!$S$3:$S$502,Lists!$E$3)","v":0},{"$f":"COUNTIFS('WHS Event Log'!$E$3:$E$502,F$61,'WHS Event Log'!$S$3:$S$502,Lists!$E$3)","v":0},{"$f":"COUNTIFS('WHS Event Log'!$E$3:$E$502,G$61,'WHS Event Log'!$S$3:$S$502,Lists!$E$3)","v":0},{"$f":"COUNTIFS('WHS Event Log'!$E$3:$E$502,H$61,'WHS Event Log'!$S$3:$S$502,Lists!$E$3)","v":0},{"$f":"COUNTIFS('WHS Event Log'!$E$3:$E$502,I$61,'WHS Event Log'!$S$3:$S$502,Lists!$E$3)","v":0},{"$f":"COUNTIFS('WHS Event Log'!$E$3:$E$502,J$61,'WHS Event Log'!$S$3:$S$502,Lists!$E$3)","v":0},{"$f":"COUNTIFS('WHS Event Log'!$E$3:$E$502,K$61,'WHS Event Log'!$S$3:$S$502,Lists!$E$3)","v":0},{"$f":"COUNTIFS('WHS Event Log'!$E$3:$E$502,L$61,'WHS Event Log'!$S$3:$S$502,Lists!$E$3)","v":0},{"$f":"COUNTIFS('WHS Event Log'!$E$3:$E$502,M$61,'WHS Event Log'!$S$3:$S$502,Lists!$E$3)","v":0},{"$f":"COUNTIFS('WHS Event Log'!$E$3:$E$502,N$61,'WHS Event Log'!$S$3:$S$502,Lists!$E$3)","v":0},null,{"$f":"SUM(C85:N85)","v":0},{"$f":"SUM(Q62:Q83)","v":0}]
[]
[]
[null,"Tally of Hazard Risk Ratings","January","February","March","April","May","June","July","August","September","October","November","December","Total"]
[null,"Low",{"$f":"COUNTIFS('WHS Event Log'!$E$3:$E$502,C$88,'WHS Event Log'!$O$3:$O$502,'Info Tables'!$B$89)","v":0},{"$f":"COUNTIFS('WHS Event Log'!$E$3:$E$502,D$88,'WHS Event Log'!$O$3:$O$502,'Info Tables'!$B$89)","v":0},{"$f":"COUNTIFS('WHS Event Log'!$E$3:$E$502,E$88,'WHS Event Log'!$O$3:$O$502,'Info Tables'!$B$89)","v":0},{"$f":"COUNTIFS('WHS Event Log'!$E$3:$E$502,F$88,'WHS Event Log'!$O$3:$O$502,'Info Tables'!$B$89)","v":0},{"$f":"COUNTIFS('WHS Event Log'!$E$3:$E$502,G$88,'WHS Event Log'!$O$3:$O$502,'Info Tables'!$B$89)","v":0},{"$f":"COUNTIFS('WHS Event Log'!$E$3:$E$502,H$88,'WHS Event Log'!$O$3:$O$502,'Info Tables'!$B$89)","v":0},{"$f":"COUNTIFS('WHS Event Log'!$E$3:$E$502,I$88,'WHS Event Log'!$O$3:$O$502,'Info Tables'!$B$89)","v":0},{"$f":"COUNTIFS('WHS Event Log'!$E$3:$E$502,J$88,'WHS Event Log'!$O$3:$O$502,'Info Tables'!$B$89)","v":0},{"$f":"COUNTIFS('WHS Event Log'!$E$3:$E$502,K$88,'WHS Event Log'!$O$3:$O$502,'Info Tables'!$B$89)","v":0},{"$f":"COUNTIFS('WHS Event Log'!$E$3:$E$502,L$88,'WHS Event Log'!$O$3:$O$502,'Info Tables'!$B$89)","v":0},{"$f":"COUNTIFS('WHS Event Log'!$E$3:$E$502,M$88,'WHS Event Log'!$O$3:$O$502,'Info Tables'!$B$89)","v":0},{"$f":"COUNTIFS('WHS Event Log'!$E$3:$E$502,N$88,'WHS Event Log'!$O$3:$O$502,'Info Tables'!$B$89)","v":0},{"$f":"SUM(C89:N89)","v":0}]
[null,"Residual",{"$f":"COUNTIFS('WHS Event Log'!$E$3:$E$502,C$88,'WHS Event Log'!$Y$3:$Y$502,'Info Tables'!$B$89)","v":0},{"$f":"COUNTIFS('WHS Event Log'!$E$3:$E$502,D$88,'WHS Event Log'!$Y$3:$Y$502,'Info Tables'!$B$89)","v":0},{"$f":"COUNTIFS('WHS Event Log'!$E$3:$E$502,E$88,'WHS Event Log'!$Y$3:$Y$502,'Info Tables'!$B$89)","v":0},{"$f":"COUNTIFS('WHS Event Log'!$E$3:$E$502,F$88,'WHS Event Log'!$Y$3:$Y$502,'Info Tables'!$B$89)","v":0},{"$f":"COUNTIFS('WHS Event Log'!$E$3:$E$502,G$88,'WHS Event Log'!$Y$3:$Y$502,'Info Tables'!$B$89)","v":0},{"$f":"COUNTIFS('WHS Event Log'!$E$3:$E$502,H$88,'WHS Event Log'!$Y$3:$Y$502,'Info Tables'!$B$89)","v":0},{"$f":"COUNTIFS('WHS Event Log'!$E$3:$E$502,I$88,'WHS Event Log'!$Y$3:$Y$502,'Info Tables'!$B$89)","v":0},{"$f":"COUNTIFS('WHS Event Log'!$E$3:$E$502,J$88,'WHS Event Log'!$Y$3:$Y$502,'Info Tables'!$B$89)","v":0},{"$f":"COUNTIFS('WHS Event Log'!$E$3:$E$502,K$88,'WHS Event Log'!$Y$3:$Y$502,'Info Tables'!$B$89)","v":0},{"$f":"COUNTIFS('WHS Event Log'!$E$3:$E$502,L$88,'WHS Event Log'!$Y$3:$Y$502,'Info Tables'!$B$89)","v":0},{"$f":"COUNTIFS('WHS Event Log'!$E$3:$E$502,M$88,'WHS Event Log'!$Y$3:$Y$502,'Info Tables'!$B$89)","v":0},{"$f":"COUNTIFS('WHS Event Log'!$E$3:$E$502,N$88,'WHS Event Log'!$Y$3:$Y$502,'Info Tables'!$B$89)","v":0},0]
[null,"Moderate",{"$f":"COUNTIFS('WHS Event Log'!$E$3:$E$502,C$88,'WHS Event Log'!$O$3:$O$502,'Info Tables'!$B$91)","v":0},{"$f":"COUNTIFS('WHS Event Log'!$E$3:$E$502,D$88,'WHS Event Log'!$O$3:$O$502,'Info Tables'!$B$91)","v":0},{"$f":"COUNTIFS('WHS Event Log'!$E$3:$E$502,E$88,'WHS Event Log'!$O$3:$O$502,'Info Tables'!$B$91)","v":0},{"$f":"COUNTIFS('WHS Event Log'!$E$3:$E$502,F$88,'WHS Event Log'!$O$3:$O$502,'Info Tables'!$B$91)","v":0},{"$f":"COUNTIFS('WHS Event Log'!$E$3:$E$502,G$88,'WHS Event Log'!$O$3:$O$502,'Info Tables'!$B$91)","v":0},{"$f":"COUNTIFS('WHS Event Log'!$E$3:$E$502,H$88,'WHS Event Log'!$O$3:$O$502,'Info Tables'!$B$91)","v":0},{"$f":"COUNTIFS('WHS Event Log'!$E$3:$E$502,I$88,'WHS Event Log'!$O$3:$O$502,'Info Tables'!$B$91)","v":0},{"$f":"COUNTIFS('WHS Event Log'!$E$3:$E$502,J$88,'WHS Event Log'!$O$3:$O$502,'Info Tables'!$B$91)","v":0},{"$f":"COUNTIFS('WHS Event Log'!$E$3:$E$502,K$88,'WHS Event Log'!$O$3:$O$502,'Info Tables'!$B$91)","v":0},{"$f":"COUNTIFS('WHS Event Log'!$E$3:$E$502,L$88,'WHS Event Log'!$O$3:$O$502,'Info Tables'!$B$91)","v":0},{"$f":"COUNTIFS('WHS Event Log'!$E$3:$E$502,M$88,'WHS Event Log'!$O$3:$O$502,'Info Tables'!$B$91)","v":0},{"$f":"COUNTIFS('WHS Event Log'!$E$3:$E$502,N$88,'WHS Event Log'!$O$3:$O$502,'Info Tables'!$B$91)","v":0},0]
[null,"Residual",{"$f":"COUNTIFS('WHS Event Log'!$E$3:$E$502,C$88,'WHS Event Log'!$Y$3:$Y$502,'Info Tables'!$B$91)","v":0},{"$f":"COUNTIFS('WHS Event Log'!$E$3:$E$502,D$88,'WHS Event Log'!$Y$3:$Y$502,'Info Tables'!$B$91)","v":0},{"$f":"COUNTIFS('WHS Event Log'!$E$3:$E$502,E$88,'WHS Event Log'!$Y$3:$Y$502,'Info Tables'!$B$91)","v":0},{"$f":"COUNTIFS('WHS Event Log'!$E$3:$E$502,F$88,'WHS Event Log'!$Y$3:$Y$502,'Info Tables'!$B$91)","v":0},{"$f":"COUNTIFS('WHS Event Log'!$E$3:$E$502,G$88,'WHS Event Log'!$Y$3:$Y$502,'Info Tables'!$B$91)","v":0},{"$f":"COUNTIFS('WHS Event Log'!$E$3:$E$502,H$88,'WHS Event Log'!$Y$3:$Y$502,'Info Tables'!$B$91)","v":0},{"$f":"COUNTIFS('WHS Event Log'!$E$3:$E$502,I$88,'WHS Event Log'!$Y$3:$Y$502,'Info Tables'!$B$91)","v":0},{"$f":"COUNTIFS('WHS Event Log'!$E$3:$E$502,J$88,'WHS Event Log'!$Y$3:$Y$502,'Info Tables'!$B$91)","v":0},{"$f":"COUNTIFS('WHS Event Log'!$E$3:$E$502,K$88,'WHS Event Log'!$Y$3:$Y$502,'Info Tables'!$B$91)","v":0},{"$f":"COUNTIFS('WHS Event Log'!$E$3:$E$502,L$88,'WHS Event Log'!$Y$3:$Y$502,'Info Tables'!$B$91)","v":0},{"$f":"COUNTIFS('WHS Event Log'!$E$3:$E$502,M$88,'WHS Event Log'!$Y$3:$Y$502,'Info Tables'!$B$91)","v":0},{"$f":"COUNTIFS('WHS Event Log'!$E$3:$E$502,N$88,'WHS Event Log'!$Y$3:$Y$502,'Info Tables'!$B$91)","v":0},0]
[null,"High",{"$f":"COUNTIFS('WHS Event Log'!$E$3:$E$502,C$88,'WHS Event Log'!$O$3:$O$502,'Info Tables'!$B$93)","v":0},{"$f":"COUNTIFS('WHS Event Log'!$E$3:$E$502,D$88,'WHS Event Log'!$O$3:$O$502,'Info Tables'!$B$93)","v":0},{"$f":"COUNTIFS('WHS Event Log'!$E$3:$E$502,E$88,'WHS Event Log'!$O$3:$O$502,'Info Tables'!$B$93)","v":0},{"$f":"COUNTIFS('WHS Event Log'!$E$3:$E$502,F$88,'WHS Event Log'!$O$3:$O$502,'Info Tables'!$B$93)","v":0},{"$f":"COUNTIFS('WHS Event Log'!$E$3:$E$502,G$88,'WHS Event Log'!$O$3:$O$502,'Info Tables'!$B$93)","v":0},{"$f":"COUNTIFS('WHS Event Log'!$E$3:$E$502,H$88,'WHS Event Log'!$O$3:$O$502,'Info Tables'!$B$93)","v":0},{"$f":"COUNTIFS('WHS Event Log'!$E$3:$E$502,I$88,'WHS Event Log'!$O$3:$O$502,'Info Tables'!$B$93)","v":0},{"$f":"COUNTIFS('WHS Event Log'!$E$3:$E$502,J$88,'WHS Event Log'!$O$3:$O$502,'Info Tables'!$B$93)","v":0},{"$f":"COUNTIFS('WHS Event Log'!$E$3:$E$502,K$88,'WHS Event Log'!$O$3:$O$502,'Info Tables'!$B$93)","v":0},{"$f":"COUNTIFS('WHS Event Log'!$E$3:$E$502,L$88,'WHS Event Log'!$O$3:$O$502,'Info Tables'!$B$93)","v":0},{"$f":"COUNTIFS('WHS Event Log'!$E$3:$E$502,M$88,'WHS Event Log'!$O$3:$O$502,'Info Tables'!$B$93)","v":0},{"$f":"COUNTIFS('WHS Event Log'!$E$3:$E$502,N$88,'WHS Event Log'!$O$3:$O$502,'Info Tables'!$B$93)","v":0},0]
[null,"Residual",{"$f":"COUNTIFS('WHS Event Log'!$E$3:$E$502,C$88,'WHS Event Log'!$Y$3:$Y$502,'Info Tables'!$B$93)","v":0},{"$f":"COUNTIFS('WHS Event Log'!$E$3:$E$502,D$88,'WHS Event Log'!$Y$3:$Y$502,'Info Tables'!$B$93)","v":0},{"$f":"COUNTIFS('WHS Event Log'!$E$3:$E$502,E$88,'WHS Event Log'!$Y$3:$Y$502,'Info Tables'!$B$93)","v":0},{"$f":"COUNTIFS('WHS Event Log'!$E$3:$E$502,F$88,'WHS Event Log'!$Y$3:$Y$502,'Info Tables'!$B$93)","v":0},{"$f":"COUNTIFS('WHS Event Log'!$E$3:$E$502,G$88,'WHS Event Log'!$Y$3:$Y$502,'Info Tables'!$B$93)","v":0},{"$f":"COUNTIFS('WHS Event Log'!$E$3:$E$502,H$88,'WHS Event Log'!$Y$3:$Y$502,'Info Tables'!$B$93)","v":0},{"$f":"COUNTIFS('WHS Event Log'!$E$3:$E$502,I$88,'WHS Event Log'!$Y$3:$Y$502,'Info Tables'!$B$93)","v":0},{"$f":"COUNTIFS('WHS Event Log'!$E$3:$E$502,J$88,'WHS Event Log'!$Y$3:$Y$502,'Info Tables'!$B$93)","v":0},{"$f":"COUNTIFS('WHS Event Log'!$E$3:$E$502,K$88,'WHS Event Log'!$Y$3:$Y$502,'Info Tables'!$B$93)","v":0},{"$f":"COUNTIFS('WHS Event Log'!$E$3:$E$502,L$88,'WHS Event Log'!$Y$3:$Y$502,'Info Tables'!$B$93)","v":0},{"$f":"COUNTIFS('WHS Event Log'!$E$3:$E$502,M$88,'WHS Event Log'!$Y$3:$Y$502,'Info Tables'!$B$93)","v":0},{"$f":"COUNTIFS('WHS Event Log'!$E$3:$E$502,N$88,'WHS Event Log'!$Y$3:$Y$502,'Info Tables'!$B$93)","v":0},0]
[null,"Extreme",{"$f":"COUNTIFS('WHS Event Log'!$E$3:$E$502,C$88,'WHS Event Log'!$O$3:$O$502,'Info Tables'!$B$95)","v":0},{"$f":"COUNTIFS('WHS Event Log'!$E$3:$E$502,D$88,'WHS Event Log'!$O$3:$O$502,'Info Tables'!$B$95)","v":0},{"$f":"COUNTIFS('WHS Event Log'!$E$3:$E$502,E$88,'WHS Event Log'!$O$3:$O$502,'Info Tables'!$B$95)","v":0},{"$f":"COUNTIFS('WHS Event Log'!$E$3:$E$502,F$88,'WHS Event Log'!$O$3:$O$502,'Info Tables'!$B$95)","v":0},{"$f":"COUNTIFS('WHS Event Log'!$E$3:$E$502,G$88,'WHS Event Log'!$O$3:$O$502,'Info Tables'!$B$95)","v":0},{"$f":"COUNTIFS('WHS Event Log'!$E$3:$E$502,H$88,'WHS Event Log'!$O$3:$O$502,'Info Tables'!$B$95)","v":0},{"$f":"COUNTIFS('WHS Event Log'!$E$3:$E$502,I$88,'WHS Event Log'!$O$3:$O$502,'Info Tables'!$B$95)","v":0},{"$f":"COUNTIFS('WHS Event Log'!$E$3:$E$502,J$88,'WHS Event Log'!$O$3:$O$502,'Info Tables'!$B$95)","v":0},{"$f":"COUNTIFS('WHS Event Log'!$E$3:$E$502,K$88,'WHS Event Log'!$O$3:$O$502,'Info Tables'!$B$95)","v":0},{"$f":"COUNTIFS('WHS Event Log'!$E$3:$E$502,L$88,'WHS Event Log'!$O$3:$O$502,'Info Tables'!$B$95)","v":0},{"$f":"COUNTIFS('WHS Event Log'!$E$3:$E$502,M$88,'WHS Event Log'!$O$3:$O$502,'Info Tables'!$B$95)","v":0},{"$f":"COUNTIFS('WHS Event Log'!$E$3:$E$502,N$88,'WHS Event Log'!$O$3:$O$502,'Info Tables'!$B$95)","v":0},0]
[null,"Residual",{"$f":"COUNTIFS('WHS Event Log'!$E$3:$E$502,C$88,'WHS Event Log'!$Y$3:$Y$502,'Info Tables'!$B$95)","v":0},{"$f":"COUNTIFS('WHS Event Log'!$E$3:$E$502,D$88,'WHS Event Log'!$Y$3:$Y$502,'Info Tables'!$B$95)","v":0},{"$f":"COUNTIFS('WHS Event Log'!$E$3:$E$502,E$88,'WHS Event Log'!$Y$3:$Y$502,'Info Tables'!$B$95)","v":0},{"$f":"COUNTIFS('WHS Event Log'!$E$3:$E$502,F$88,'WHS Event Log'!$Y$3:$Y$502,'Info Tables'!$B$95)","v":0},{"$f":"COUNTIFS('WHS Event Log'!$E$3:$E$502,G$88,'WHS Event Log'!$Y$3:$Y$502,'Info Tables'!$B$95)","v":0},{"$f":"COUNTIFS('WHS Event Log'!$E$3:$E$502,H$88,'WHS Event Log'!$Y$3:$Y$502,'Info Tables'!$B$95)","v":0},{"$f":"COUNTIFS('WHS Event Log'!$E$3:$E$502,I$88,'WHS Event Log'!$Y$3:$Y$502,'Info Tables'!$B$95)","v":0},{"$f":"COUNTIFS('WHS Event Log'!$E$3:$E$502,J$88,'WHS Event Log'!$Y$3:$Y$502,'Info Tables'!$B$95)","v":0},{"$f":"COUNTIFS('WHS Event Log'!$E$3:$E$502,K$88,'WHS Event Log'!$Y$3:$Y$502,'Info Tables'!$B$95)","v":0},{"$f":"COUNTIFS('WHS Event Log'!$E$3:$E$502,L$88,'WHS Event Log'!$Y$3:$Y$502,'Info Tables'!$B$95)","v":0},{"$f":"COUNTIFS('WHS Event Log'!$E$3:$E$502,M$88,'WHS Event Log'!$Y$3:$Y$502,'Info Tables'!$B$95)","v":0},{"$f":"COUNTIFS('WHS Event Log'!$E$3:$E$502,N$88,'WHS Event Log'!$Y$3:$Y$502,'Info Tables'!$B$95)","v":0},0]
[]
[]
[null,"Tally of Hazard Risk Ratings","Total","Residual","Days","Ave","Closed",">30"]
[null,"Low",{"$f":"O89","v":0},{"$f":"O90","v":0},{"$f":"SUMIF('WHS Event Log'!$O$2:$O$502,$B$100,'WHS Event Log'!$Z$2:$Z$502)","v":0},{"$f":"SUM(E100/C100)","v":{"$error":"#DIV/0!"}},{"$f":"COUNTIFS('WHS Event Log'!$AA$3:$AA$502,$G$99,'WHS Event Log'!$O$3:$O$502,'Info Tables'!$B$100)","v":0},{"$f":"'WHS Event Log'!Y508","v":0}]
[null,"Moderate",{"$f":"O91","v":0},{"$f":"O92","v":0},{"$f":"SUMIF('WHS Event Log'!$O$3:$O$502,$B$101,'WHS Event Log'!$Z$3:$Z$502)","v":0},{"$f":"SUM(E101/C101)","v":{"$error":"#DIV/0!"}},{"$f":"COUNTIFS('WHS Event Log'!$AA$3:$AA$502,$G$99,'WHS Event Log'!$O$3:$O$502,'Info Tables'!$B$101)","v":0},{"$f":"'WHS Event Log'!Y509","v":0}]
[null,"High",{"$f":"O93","v":0},{"$f":"O94","v":0},{"$f":"SUMIF('WHS Event Log'!$O$3:$O$504,$B$102,'WHS Event Log'!$Z$3:$Z$504)","v":0},{"$f":"SUM(E102/C102)","v":{"$error":"#DIV/0!"}},{"$f":"COUNTIFS('WHS Event Log'!$AA$3:$AA$502,$G$99,'WHS Event Log'!$O$3:$O$502,'Info Tables'!$B$102)","v":0},{"$f":"'WHS Event Log'!Y510","v":0}]
[null,"Extreme",{"$f":"O95","v":0},{"$f":"O96","v":0},{"$f":"SUMIF('WHS Event Log'!$O$3:$O$505,$B$103,'WHS Event Log'!$Z$3:$Z$505)","v":0},{"$f":"SUM(E103/C103)","v":{"$error":"#DIV/0!"}},{"$f":"COUNTIFS('WHS Event Log'!$AA$3:$AA$502,$G$99,'WHS Event Log'!$O$3:$O$502,'Info Tables'!$B$103)","v":0},{"$f":"'WHS Event Log'!Y511","v":0}]
[]
[]
[null,"Injury Sustained Day/Shift","Sun","Mon","Tues","Wed","Thurs","Fri","Sat","Am Early","Am Late","PM Early","PM Late","Total","Claim"]
[null,"Abdomen",{"$f":"COUNTIFS('WHS Event Log'!$C$3:$C$502,C$106,'WHS Event Log'!$P$3:$P$502,'Info Tables'!$B107)","v":0},{"$f":"COUNTIFS('WHS Event Log'!$C$3:$C$502,D$106,'WHS Event Log'!$P$3:$P$502,'Info Tables'!$B107)","v":0},{"$f":"COUNTIFS('WHS Event Log'!$C$3:$C$502,E$106,'WHS Event Log'!$P$3:$P$502,'Info Tables'!$B107)","v":0},{"$f":"COUNTIFS('WHS Event Log'!$C$3:$C$502,F$106,'WHS Event Log'!$P$3:$P$502,'Info Tables'!$B107)","v":0},{"$f":"COUNTIFS('WHS Event Log'!$C$3:$C$502,G$106,'WHS Event Log'!$P$3:$P$502,'Info Tables'!$B107)","v":0},{"$f":"COUNTIFS('WHS Event Log'!$C$3:$C$502,H$106,'WHS Event Log'!$P$3:$P$502,'Info Tables'!$B107)","v":0},{"$f":"COUNTIFS('WHS Event Log'!$C$3:$C$502,I$106,'WHS Event Log'!$P$3:$P$502,'Info Tables'!$B107)","v":0},{"$f":"COUNTIFS('WHS Event Log'!$F$3:$F$502,J$106,'WHS Event Log'!$P$3:$P$502,'Info Tables'!$B107)","v":0},{"$f":"COUNTIFS('WHS Event Log'!$F$3:$F$502,K$106,'WHS Event Log'!$P$3:$P$502,'Info Tables'!$B107)","v":0},{"$f":"COUNTIFS('WHS Event Log'!$F$3:$F$502,L$106,'WHS Event Log'!$P$3:$P$502,'Info Tables'!$B107)","v":0},{"$f":"COUNTIFS('WHS Event Log'!$F$3:$F$502,M$106,'WHS Event Log'!$P$3:$P$502,'Info Tables'!$B107)","v":0},{"$f":"SUM(C107:I107)","v":0},{"$f":"COUNTIFS('WHS Event Log'!$P$3:$P$502,$B107,'WHS Event Log'!$S$3:$S$502,Lists!$E$3)","v":0}]
[null,"Ankle",{"$f":"COUNTIFS('WHS Event Log'!$C$3:$C$502,C$106,'WHS Event Log'!$P$3:$P$502,'Info Tables'!$B108)","v":0},{"$f":"COUNTIFS('WHS Event Log'!$C$3:$C$502,D$106,'WHS Event Log'!$P$3:$P$502,'Info Tables'!$B108)","v":0},{"$f":"COUNTIFS('WHS Event Log'!$C$3:$C$502,E$106,'WHS Event Log'!$P$3:$P$502,'Info Tables'!$B108)","v":0},{"$f":"COUNTIFS('WHS Event Log'!$C$3:$C$502,F$106,'WHS Event Log'!$P$3:$P$502,'Info Tables'!$B108)","v":0},{"$f":"COUNTIFS('WHS Event Log'!$C$3:$C$502,G$106,'WHS Event Log'!$P$3:$P$502,'Info Tables'!$B108)","v":0},{"$f":"COUNTIFS('WHS Event Log'!$C$3:$C$502,H$106,'WHS Event Log'!$P$3:$P$502,'Info Tables'!$B108)","v":0},{"$f":"COUNTIFS('WHS Event Log'!$C$3:$C$502,I$106,'WHS Event Log'!$P$3:$P$502,'Info Tables'!$B108)","v":0},{"$f":"COUNTIFS('WHS Event Log'!$F$3:$F$502,J$106,'WHS Event Log'!$P$3:$P$502,'Info Tables'!$B108)","v":0},{"$f":"COUNTIFS('WHS Event Log'!$F$3:$F$502,K$106,'WHS Event Log'!$P$3:$P$502,'Info Tables'!$B108)","v":0},{"$f":"COUNTIFS('WHS Event Log'!$F$3:$F$502,L$106,'WHS Event Log'!$P$3:$P$502,'Info Tables'!$B108)","v":0},{"$f":"COUNTIFS('WHS Event Log'!$F$3:$F$502,M$106,'WHS Event Log'!$P$3:$P$502,'Info Tables'!$B108)","v":0},{"$f":"SUM(C108:I108)","v":0},{"$f":"COUNTIFS('WHS Event Log'!$P$3:$P$502,$B108,'WHS Event Log'!$S$3:$S$502,Lists!$E$3)","v":0}]
[null,"Buttock",{"$f":"COUNTIFS('WHS Event Log'!$C$3:$C$502,C$106,'WHS Event Log'!$P$3:$P$502,'Info Tables'!$B109)","v":0},{"$f":"COUNTIFS('WHS Event Log'!$C$3:$C$502,D$106,'WHS Event Log'!$P$3:$P$502,'Info Tables'!$B109)","v":0},{"$f":"COUNTIFS('WHS Event Log'!$C$3:$C$502,E$106,'WHS Event Log'!$P$3:$P$502,'Info Tables'!$B109)","v":0},{"$f":"COUNTIFS('WHS Event Log'!$C$3:$C$502,F$106,'WHS Event Log'!$P$3:$P$502,'Info Tables'!$B109)","v":0},{"$f":"COUNTIFS('WHS Event Log'!$C$3:$C$502,G$106,'WHS Event Log'!$P$3:$P$502,'Info Tables'!$B109)","v":0},{"$f":"COUNTIFS('WHS Event Log'!$C$3:$C$502,H$106,'WHS Event Log'!$P$3:$P$502,'Info Tables'!$B109)","v":0},{"$f":"COUNTIFS('WHS Event Log'!$C$3:$C$502,I$106,'WHS Event Log'!$P$3:$P$502,'Info Tables'!$B109)","v":0},{"$f":"COUNTIFS('WHS Event Log'!$F$3:$F$502,J$106,'WHS Event Log'!$P$3:$P$502,'Info Tables'!$B109)","v":0},{"$f":"COUNTIFS('WHS Event Log'!$F$3:$F$502,K$106,'WHS Event Log'!$P$3:$P$502,'Info Tables'!$B109)","v":0},{"$f":"COUNTIFS('WHS Event Log'!$F$3:$F$502,L$106,'WHS Event Log'!$P$3:$P$502,'Info Tables'!$B109)","v":0},{"$f":"COUNTIFS('WHS Event Log'!$F$3:$F$502,M$106,'WHS Event Log'!$P$3:$P$502,'Info Tables'!$B109)","v":0},0,{"$f":"COUNTIFS('WHS Event Log'!$P$3:$P$502,$B109,'WHS Event Log'!$S$3:$S$502,Lists!$E$3)","v":0}]
[null,"Chest",{"$f":"COUNTIFS('WHS Event Log'!$C$3:$C$502,C$106,'WHS Event Log'!$P$3:$P$502,'Info Tables'!$B110)","v":0},{"$f":"COUNTIFS('WHS Event Log'!$C$3:$C$502,D$106,'WHS Event Log'!$P$3:$P$502,'Info Tables'!$B110)","v":0},{"$f":"COUNTIFS('WHS Event Log'!$C$3:$C$502,E$106,'WHS Event Log'!$P$3:$P$502,'Info Tables'!$B110)","v":0},{"$f":"COUNTIFS('WHS Event Log'!$C$3:$C$502,F$106,'WHS Event Log'!$P$3:$P$502,'Info Tables'!$B110)","v":0},{"$f":"COUNTIFS('WHS Event Log'!$C$3:$C$502,G$106,'WHS Event Log'!$P$3:$P$502,'Info Tables'!$B110)","v":0},{"$f":"COUNTIFS('WHS Event Log'!$C$3:$C$502,H$106,'WHS Event Log'!$P$3:$P$502,'Info Tables'!$B110)","v":0},{"$f":"COUNTIFS('WHS Event Log'!$C$3:$C$502,I$106,'WHS Event Log'!$P$3:$P$502,'Info Tables'!$B110)","v":0},{"$f":"COUNTIFS('WHS Event Log'!$F$3:$F$502,J$106,'WHS Event Log'!$P$3:$P$502,'Info Tables'!$B110)","v":0},{"$f":"COUNTIFS('WHS Event Log'!$F$3:$F$502,K$106,'WHS Event Log'!$P$3:$P$502,'Info Tables'!$B110)","v":0},{"$f":"COUNTIFS('WHS Event Log'!$F$3:$F$502,L$106,'WHS Event Log'!$P$3:$P$502,'Info Tables'!$B110)","v":0},{"$f":"COUNTIFS('WHS Event Log'!$F$3:$F$502,M$106,'WHS Event Log'!$P$3:$P$502,'Info Tables'!$B110)","v":0},0,{"$f":"COUNTIFS('WHS Event Log'!$P$3:$P$502,$B110,'WHS Event Log'!$S$3:$S$502,Lists!$E$3)","v":0}]
[null,"Cognitive",{"$f":"COUNTIFS('WHS Event Log'!$C$3:$C$502,C$106,'WHS Event Log'!$P$3:$P$502,'Info Tables'!$B111)","v":0},{"$f":"COUNTIFS('WHS Event Log'!$C$3:$C$502,D$106,'WHS Event Log'!$P$3:$P$502,'Info Tables'!$B111)","v":0},{"$f":"COUNTIFS('WHS Event Log'!$C$3:$C$502,E$106,'WHS Event Log'!$P$3:$P$502,'Info Tables'!$B111)","v":0},{"$f":"COUNTIFS('WHS Event Log'!$C$3:$C$502,F$106,'WHS Event Log'!$P$3:$P$502,'Info Tables'!$B111)","v":0},{"$f":"COUNTIFS('WHS Event Log'!$C$3:$C$502,G$106,'WHS Event Log'!$P$3:$P$502,'Info Tables'!$B111)","v":0},{"$f":"COUNTIFS('WHS Event Log'!$C$3:$C$502,H$106,'WHS Event Log'!$P$3:$P$502,'Info Tables'!$B111)","v":0},{"$f":"COUNTIFS('WHS Event Log'!$C$3:$C$502,I$106,'WHS Event Log'!$P$3:$P$502,'Info Tables'!$B111)","v":0},{"$f":"COUNTIFS('WHS Event Log'!$F$3:$F$502,J$106,'WHS Event Log'!$P$3:$P$502,'Info Tables'!$B111)","v":0},{"$f":"COUNTIFS('WHS Event Log'!$F$3:$F$502,K$106,'WHS Event Log'!$P$3:$P$502,'Info Tables'!$B111)","v":0},{"$f":"COUNTIFS('WHS Event Log'!$F$3:$F$502,L$106,'WHS Event Log'!$P$3:$P$502,'Info Tables'!$B111)","v":0},{"$f":"COUNTIFS('WHS Event Log'!$F$3:$F$502,M$106,'WHS Event Log'!$P$3:$P$502,'Info Tables'!$B111)","v":0},0,{"$f":"COUNTIFS('WHS Event Log'!$P$3:$P$502,$B111,'WHS Event Log'!$S$3:$S$502,Lists!$E$3)","v":0}]
[null,"Ear",{"$f":"COUNTIFS('WHS Event Log'!$C$3:$C$502,C$106,'WHS Event Log'!$P$3:$P$502,'Info Tables'!$B112)","v":0},{"$f":"COUNTIFS('WHS Event Log'!$C$3:$C$502,D$106,'WHS Event Log'!$P$3:$P$502,'Info Tables'!$B112)","v":0},{"$f":"COUNTIFS('WHS Event Log'!$C$3:$C$502,E$106,'WHS Event Log'!$P$3:$P$502,'Info Tables'!$B112)","v":0},{"$f":"COUNTIFS('WHS Event Log'!$C$3:$C$502,F$106,'WHS Event Log'!$P$3:$P$502,'Info Tables'!$B112)","v":0},{"$f":"COUNTIFS('WHS Event Log'!$C$3:$C$502,G$106,'WHS Event Log'!$P$3:$P$502,'Info Tables'!$B112)","v":0},{"$f":"COUNTIFS('WHS Event Log'!$C$3:$C$502,H$106,'WHS Event Log'!$P$3:$P$502,'Info Tables'!$B112)","v":0},{"$f":"COUNTIFS('WHS Event Log'!$C$3:$C$502,I$106,'WHS Event Log'!$P$3:$P$502,'Info Tables'!$B112)","v":0},{"$f":"COUNTIFS('WHS Event Log'!$F$3:$F$502,J$106,'WHS Event Log'!$P$3:$P$502,'Info Tables'!$B112)","v":0},{"$f":"COUNTIFS('WHS Event Log'!$F$3:$F$502,K$106,'WHS Event Log'!$P$3:$P$502,'Info Tables'!$B112)","v":0},{"$f":"COUNTIFS('WHS Event Log'!$F$3:$F$502,L$106,'WHS Event Log'!$P$3:$P$502,'Info Tables'!$B112)","v":0},{"$f":"COUNTIFS('WHS Event Log'!$F$3:$F$502,M$106,'WHS Event Log'!$P$3:$P$502,'Info Tables'!$B112)","v":0},0,{"$f":"COUNTIFS('WHS Event Log'!$P$3:$P$502,$B112,'WHS Event Log'!$S$3:$S$502,Lists!$E$3)","v":0}]
[null,"Elbow",{"$f":"COUNTIFS('WHS Event Log'!$C$3:$C$502,C$106,'WHS Event Log'!$P$3:$P$502,'Info Tables'!$B113)","v":0},{"$f":"COUNTIFS('WHS Event Log'!$C$3:$C$502,D$106,'WHS Event Log'!$P$3:$P$502,'Info Tables'!$B113)","v":0},{"$f":"COUNTIFS('WHS Event Log'!$C$3:$C$502,E$106,'WHS Event Log'!$P$3:$P$502,'Info Tables'!$B113)","v":0},{"$f":"COUNTIFS('WHS Event Log'!$C$3:$C$502,F$106,'WHS Event Log'!$P$3:$P$502,'Info Tables'!$B113)","v":0},{"$f":"COUNTIFS('WHS Event Log'!$C$3:$C$502,G$106,'WHS Event Log'!$P$3:$P$502,'Info Tables'!$B113)","v":0},{"$f":"COUNTIFS('WHS Event Log'!$C$3:$C$502,H$106,'WHS Event Log'!$P$3:$P$502,'Info Tables'!$B113)","v":0},{"$f":"COUNTIFS('WHS Event Log'!$C$3:$C$502,I$106,'WHS Event Log'!$P$3:$P$502,'Info Tables'!$B113)","v":0},{"$f":"COUNTIFS('WHS Event Log'!$F$3:$F$502,J$106,'WHS Event Log'!$P$3:$P$502,'Info Tables'!$B113)","v":0},{"$f":"COUNTIFS('WHS Event Log'!$F$3:$F$502,K$106,'WHS Event Log'!$P$3:$P$502,'Info Tables'!$B113)","v":0},{"$f":"COUNTIFS('WHS Event Log'!$F$3:$F$502,L$106,'WHS Event Log'!$P$3:$P$502,'Info Tables'!$B113)","v":0},{"$f":"COUNTIFS('WHS Event Log'!$F$3:$F$502,M$106,'WHS Event Log'!$P$3:$P$502,'Info Tables'!$B113)","v":0},0,{"$f":"COUNTIFS('WHS Event Log'!$P$3:$P$502,$B113,'WHS Event Log'!$S$3:$S$502,Lists!$E$3)","v":0}]
[null,"Eye",{"$f":"COUNTIFS('WHS Event Log'!$C$3:$C$502,C$106,'WHS Event Log'!$P$3:$P$502,'Info Tables'!$B114)","v":0},{"$f":"COUNTIFS('WHS Event Log'!$C$3:$C$502,D$106,'WHS Event Log'!$P$3:$P$502,'Info Tables'!$B114)","v":0},{"$f":"COUNTIFS('WHS Event Log'!$C$3:$C$502,E$106,'WHS Event Log'!$P$3:$P$502,'Info Tables'!$B114)","v":0},{"$f":"COUNTIFS('WHS Event Log'!$C$3:$C$502,F$106,'WHS Event Log'!$P$3:$P$502,'Info Tables'!$B114)","v":0},{"$f":"COUNTIFS('WHS Event Log'!$C$3:$C$502,G$106,'WHS Event Log'!$P$3:$P$502,'Info Tables'!$B114)","v":0},{"$f":"COUNTIFS('WHS Event Log'!$C$3:$C$502,H$106,'WHS Event Log'!$P$3:$P$502,'Info Tables'!$B114)","v":0},{"$f":"COUNTIFS('WHS Event Log'!$C$3:$C$502,I$106,'WHS Event Log'!$P$3:$P$502,'Info Tables'!$B114)","v":0},{"$f":"COUNTIFS('WHS Event Log'!$F$3:$F$502,J$106,'WHS Event Log'!$P$3:$P$502,'Info Tables'!$B114)","v":0},{"$f":"COUNTIFS('WHS Event Log'!$F$3:$F$502,K$106,'WHS Event Log'!$P$3:$P$502,'Info Tables'!$B114)","v":0},{"$f":"COUNTIFS('WHS Event Log'!$F$3:$F$502,L$106,'WHS Event Log'!$P$3:$P$502,'Info Tables'!$B114)","v":0},{"$f":"COUNTIFS('WHS Event Log'!$F$3:$F$502,M$106,'WHS Event Log'!$P$3:$P$502,'Info Tables'!$B114)","v":0},0,{"$f":"COUNTIFS('WHS Event Log'!$P$3:$P$502,$B114,'WHS Event Log'!$S$3:$S$502,Lists!$E$3)","v":0}]
[null,"Face",{"$f":"COUNTIFS('WHS Event Log'!$C$3:$C$502,C$106,'WHS Event Log'!$P$3:$P$502,'Info Tables'!$B115)","v":0},{"$f":"COUNTIFS('WHS Event Log'!$C$3:$C$502,D$106,'WHS Event Log'!$P$3:$P$502,'Info Tables'!$B115)","v":0},{"$f":"COUNTIFS('WHS Event Log'!$C$3:$C$502,E$106,'WHS Event Log'!$P$3:$P$502,'Info Tables'!$B115)","v":0},{"$f":"COUNTIFS('WHS Event Log'!$C$3:$C$502,F$106,'WHS Event Log'!$P$3:$P$502,'Info Tables'!$B115)","v":0},{"$f":"COUNTIFS('WHS Event Log'!$C$3:$C$502,G$106,'WHS Event Log'!$P$3:$P$502,'Info Tables'!$B115)","v":0},{"$f":"COUNTIFS('WHS Event Log'!$C$3:$C$502,H$106,'WHS Event Log'!$P$3:$P$502,'Info Tables'!$B115)","v":0},{"$f":"COUNTIFS('WHS Event Log'!$C$3:$C$502,I$106,'WHS Event Log'!$P$3:$P$502,'Info Tables'!$B115)","v":0},{"$f":"COUNTIFS('WHS Event Log'!$F$3:$F$502,J$106,'WHS Event Log'!$P$3:$P$502,'Info Tables'!$B115)","v":0},{"$f":"COUNTIFS('WHS Event Log'!$F$3:$F$502,K$106,'WHS Event Log'!$P$3:$P$502,'Info Tables'!$B115)","v":0},{"$f":"COUNTIFS('WHS Event Log'!$F$3:$F$502,L$106,'WHS Event Log'!$P$3:$P$502,'Info Tables'!$B115)","v":0},{"$f":"COUNTIFS('WHS Event Log'!$F$3:$F$502,M$106,'WHS Event Log'!$P$3:$P$502,'Info Tables'!$B115)","v":0},0,{"$f":"COUNTIFS('WHS Event Log'!$P$3:$P$502,$B115,'WHS Event Log'!$S$3:$S$502,Lists!$E$3)","v":0}]
[null,"Finger",{"$f":"COUNTIFS('WHS Event Log'!$C$3:$C$502,C$106,'WHS Event Log'!$P$3:$P$502,'Info Tables'!$B116)","v":0},{"$f":"COUNTIFS('WHS Event Log'!$C$3:$C$502,D$106,'WHS Event Log'!$P$3:$P$502,'Info Tables'!$B116)","v":0},{"$f":"COUNTIFS('WHS Event Log'!$C$3:$C$502,E$106,'WHS Event Log'!$P$3:$P$502,'Info Tables'!$B116)","v":0},{"$f":"COUNTIFS('WHS Event Log'!$C$3:$C$502,F$106,'WHS Event Log'!$P$3:$P$502,'Info Tables'!$B116)","v":0},{"$f":"COUNTIFS('WHS Event Log'!$C$3:$C$502,G$106,'WHS Event Log'!$P$3:$P$502,'Info Tables'!$B116)","v":0},{"$f":"COUNTIFS('WHS Event Log'!$C$3:$C$502,H$106,'WHS Event Log'!$P$3:$P$502,'Info Tables'!$B116)","v":0},{"$f":"COUNTIFS('WHS Event Log'!$C$3:$C$502,I$106,'WHS Event Log'!$P$3:$P$502,'Info Tables'!$B116)","v":0},{"$f":"COUNTIFS('WHS Event Log'!$F$3:$F$502,J$106,'WHS Event Log'!$P$3:$P$502,'Info Tables'!$B116)","v":0},{"$f":"COUNTIFS('WHS Event Log'!$F$3:$F$502,K$106,'WHS Event Log'!$P$3:$P$502,'Info Tables'!$B116)","v":0},{"$f":"COUNTIFS('WHS Event Log'!$F$3:$F$502,L$106,'WHS Event Log'!$P$3:$P$502,'Info Tables'!$B116)","v":0},{"$f":"COUNTIFS('WHS Event Log'!$F$3:$F$502,M$106,'WHS Event Log'!$P$3:$P$502,'Info Tables'!$B116)","v":0},0,{"$f":"COUNTIFS('WHS Event Log'!$P$3:$P$502,$B116,'WHS Event Log'!$S$3:$S$502,Lists!$E$3)","v":0}]
[null,"Foot",{"$f":"COUNTIFS('WHS Event Log'!$C$3:$C$502,C$106,'WHS Event Log'!$P$3:$P$502,'Info Tables'!$B117)","v":0},{"$f":"COUNTIFS('WHS Event Log'!$C$3:$C$502,D$106,'WHS Event Log'!$P$3:$P$502,'Info Tables'!$B117)","v":0},{"$f":"COUNTIFS('WHS Event Log'!$C$3:$C$502,E$106,'WHS Event Log'!$P$3:$P$502,'Info Tables'!$B117)","v":0},{"$f":"COUNTIFS('WHS Event Log'!$C$3:$C$502,F$106,'WHS Event Log'!$P$3:$P$502,'Info Tables'!$B117)","v":0},{"$f":"COUNTIFS('WHS Event Log'!$C$3:$C$502,G$106,'WHS Event Log'!$P$3:$P$502,'Info Tables'!$B117)","v":0},{"$f":"COUNTIFS('WHS Event Log'!$C$3:$C$502,H$106,'WHS Event Log'!$P$3:$P$502,'Info Tables'!$B117)","v":0},{"$f":"COUNTIFS('WHS Event Log'!$C$3:$C$502,I$106,'WHS Event Log'!$P$3:$P$502,'Info Tables'!$B117)","v":0},{"$f":"COUNTIFS('WHS Event Log'!$F$3:$F$502,J$106,'WHS Event Log'!$P$3:$P$502,'Info Tables'!$B117)","v":0},{"$f":"COUNTIFS('WHS Event Log'!$F$3:$F$502,K$106,'WHS Event Log'!$P$3:$P$502,'Info Tables'!$B117)","v":0},{"$f":"COUNTIFS('WHS Event Log'!$F$3:$F$502,L$106,'WHS Event Log'!$P$3:$P$502,'Info Tables'!$B117)","v":0},{"$f":"COUNTIFS('WHS Event Log'!$F$3:$F$502,M$106,'WHS Event Log'!$P$3:$P$502,'Info Tables'!$B117)","v":0},0,{"$f":"COUNTIFS('WHS Event Log'!$P$3:$P$502,$B117,'WHS Event Log'!$S$3:$S$502,Lists!$E$3)","v":0}]
[null,"Groin",{"$f":"COUNTIFS('WHS Event Log'!$C$3:$C$502,C$106,'WHS Event Log'!$P$3:$P$502,'Info Tables'!$B118)","v":0},{"$f":"COUNTIFS('WHS Event Log'!$C$3:$C$502,D$106,'WHS Event Log'!$P$3:$P$502,'Info Tables'!$B118)","v":0},{"$f":"COUNTIFS('WHS Event Log'!$C$3:$C$502,E$106,'WHS Event Log'!$P$3:$P$502,'Info Tables'!$B118)","v":0},{"$f":"COUNTIFS('WHS Event Log'!$C$3:$C$502,F$106,'WHS Event Log'!$P$3:$P$502,'Info Tables'!$B118)","v":0},{"$f":"COUNTIFS('WHS Event Log'!$C$3:$C$502,G$106,'WHS Event Log'!$P$3:$P$502,'Info Tables'!$B118)","v":0},{"$f":"COUNTIFS('WHS Event Log'!$C$3:$C$502,H$106,'WHS Event Log'!$P$3:$P$502,'Info Tables'!$B118)","v":0},{"$f":"COUNTIFS('WHS Event Log'!$C$3:$C$502,I$106,'WHS Event Log'!$P$3:$P$502,'Info Tables'!$B118)","v":0},{"$f":"COUNTIFS('WHS Event Log'!$F$3:$F$502,J$106,'WHS Event Log'!$P$3:$P$502,'Info Tables'!$B118)","v":0},{"$f":"COUNTIFS('WHS Event Log'!$F$3:$F$502,K$106,'WHS Event Log'!$P$3:$P$502,'Info Tables'!$B118)","v":0},{"$f":"COUNTIFS('WHS Event Log'!$F$3:$F$502,L$106,'WHS Event Log'!$P$3:$P$502,'Info Tables'!$B118)","v":0},{"$f":"COUNTIFS('WHS Event Log'!$F$3:$F$502,M$106,'WHS Event Log'!$P$3:$P$502,'Info Tables'!$B118)","v":0},0,{"$f":"COUNTIFS('WHS Event Log'!$P$3:$P$502,$B118,'WHS Event Log'!$S$3:$S$502,Lists!$E$3)","v":0}]
[null,"Hand",{"$f":"COUNTIFS('WHS Event Log'!$C$3:$C$502,C$106,'WHS Event Log'!$P$3:$P$502,'Info Tables'!$B119)","v":0},{"$f":"COUNTIFS('WHS Event Log'!$C$3:$C$502,D$106,'WHS Event Log'!$P$3:$P$502,'Info Tables'!$B119)","v":0},{"$f":"COUNTIFS('WHS Event Log'!$C$3:$C$502,E$106,'WHS Event Log'!$P$3:$P$502,'Info Tables'!$B119)","v":0},{"$f":"COUNTIFS('WHS Event Log'!$C$3:$C$502,F$106,'WHS Event Log'!$P$3:$P$502,'Info Tables'!$B119)","v":0},{"$f":"COUNTIFS('WHS Event Log'!$C$3:$C$502,G$106,'WHS Event Log'!$P$3:$P$502,'Info Tables'!$B119)","v":0},{"$f":"COUNTIFS('WHS Event Log'!$C$3:$C$502,H$106,'WHS Event Log'!$P$3:$P$502,'Info Tables'!$B119)","v":0},{"$f":"COUNTIFS('WHS Event Log'!$C$3:$C$502,I$106,'WHS Event Log'!$P$3:$P$502,'Info Tables'!$B119)","v":0},{"$f":"COUNTIFS('WHS Event Log'!$F$3:$F$502,J$106,'WHS Event Log'!$P$3:$P$502,'Info Tables'!$B119)","v":0},{"$f":"COUNTIFS('WHS Event Log'!$F$3:$F$502,K$106,'WHS Event Log'!$P$3:$P$502,'Info Tables'!$B119)","v":0},{"$f":"COUNTIFS('WHS Event Log'!$F$3:$F$502,L$106,'WHS Event Log'!$P$3:$P$502,'Info Tables'!$B119)","v":0},{"$f":"COUNTIFS('WHS Event Log'!$F$3:$F$502,M$106,'WHS Event Log'!$P$3:$P$502,'Info Tables'!$B119)","v":0},0,{"$f":"COUNTIFS('WHS Event Log'!$P$3:$P$502,$B119,'WHS Event Log'!$S$3:$S$502,Lists!$E$3)","v":0}]
[null,"Head",{"$f":"COUNTIFS('WHS Event Log'!$C$3:$C$502,C$106,'WHS Event Log'!$P$3:$P$502,'Info Tables'!$B120)","v":0},{"$f":"COUNTIFS('WHS Event Log'!$C$3:$C$502,D$106,'WHS Event Log'!$P$3:$P$502,'Info Tables'!$B120)","v":0},{"$f":"COUNTIFS('WHS Event Log'!$C$3:$C$502,E$106,'WHS Event Log'!$P$3:$P$502,'Info Tables'!$B120)","v":0},{"$f":"COUNTIFS('WHS Event Log'!$C$3:$C$502,F$106,'WHS Event Log'!$P$3:$P$502,'Info Tables'!$B120)","v":0},{"$f":"COUNTIFS('WHS Event Log'!$C$3:$C$502,G$106,'WHS Event Log'!$P$3:$P$502,'Info Tables'!$B120)","v":0},{"$f":"COUNTIFS('WHS Event Log'!$C$3:$C$502,H$106,'WHS Event Log'!$P$3:$P$502,'Info Tables'!$B120)","v":0},{"$f":"COUNTIFS('WHS Event Log'!$C$3:$C$502,I$106,'WHS Event Log'!$P$3:$P$502,'Info Tables'!$B120)","v":0},{"$f":"COUNTIFS('WHS Event Log'!$F$3:$F$502,J$106,'WHS Event Log'!$P$3:$P$502,'Info Tables'!$B120)","v":0},{"$f":"COUNTIFS('WHS Event Log'!$F$3:$F$502,K$106,'WHS Event Log'!$P$3:$P$502,'Info Tables'!$B120)","v":0},{"$f":"COUNTIFS('WHS Event Log'!$F$3:$F$502,L$106,'WHS Event Log'!$P$3:$P$502,'Info Tables'!$B120)","v":0},{"$f":"COUNTIFS('WHS Event Log'!$F$3:$F$502,M$106,'WHS Event Log'!$P$3:$P$502,'Info Tables'!$B120)","v":0},0,{"$f":"COUNTIFS('WHS Event Log'!$P$3:$P$502,$B120,'WHS Event Log'!$S$3:$S$502,Lists!$E$3)","v":0}]
[null,"Internal",{"$f":"COUNTIFS('WHS Event Log'!$C$3:$C$502,C$106,'WHS Event Log'!$P$3:$P$502,'Info Tables'!$B121)","v":0},{"$f":"COUNTIFS('WHS Event Log'!$C$3:$C$502,D$106,'WHS Event Log'!$P$3:$P$502,'Info Tables'!$B121)","v":0},{"$f":"COUNTIFS('WHS Event Log'!$C$3:$C$502,E$106,'WHS Event Log'!$P$3:$P$502,'Info Tables'!$B121)","v":0},{"$f":"COUNTIFS('WHS Event Log'!$C$3:$C$502,F$106,'WHS Event Log'!$P$3:$P$502,'Info Tables'!$B121)","v":0},{"$f":"COUNTIFS('WHS Event Log'!$C$3:$C$502,G$106,'WHS Event Log'!$P$3:$P$502,'Info Tables'!$B121)","v":0},{"$f":"COUNTIFS('WHS Event Log'!$C$3:$C$502,H$106,'WHS Event Log'!$P$3:$P$502,'Info Tables'!$B121)","v":0},{"$f":"COUNTIFS('WHS Event Log'!$C$3:$C$502,I$106,'WHS Event Log'!$P$3:$P$502,'Info Tables'!$B121)","v":0},{"$f":"COUNTIFS('WHS Event Log'!$F$3:$F$502,J$106,'WHS Event Log'!$P$3:$P$502,'Info Tables'!$B121)","v":0},{"$f":"COUNTIFS('WHS Event Log'!$F$3:$F$502,K$106,'WHS Event Log'!$P$3:$P$502,'Info Tables'!$B121)","v":0},{"$f":"COUNTIFS('WHS Event Log'!$F$3:$F$502,L$106,'WHS Event Log'!$P$3:$P$502,'Info Tables'!$B121)","v":0},{"$f":"COUNTIFS('WHS Event Log'!$F$3:$F$502,M$106,'WHS Event Log'!$P$3:$P$502,'Info Tables'!$B121)","v":0},0,{"$f":"COUNTIFS('WHS Event Log'!$P$3:$P$502,$B121,'WHS Event Log'!$S$3:$S$502,Lists!$E$3)","v":0}]
[null,"Knee",{"$f":"COUNTIFS('WHS Event Log'!$C$3:$C$502,C$106,'WHS Event Log'!$P$3:$P$502,'Info Tables'!$B122)","v":0},{"$f":"COUNTIFS('WHS Event Log'!$C$3:$C$502,D$106,'WHS Event Log'!$P$3:$P$502,'Info Tables'!$B122)","v":0},{"$f":"COUNTIFS('WHS Event Log'!$C$3:$C$502,E$106,'WHS Event Log'!$P$3:$P$502,'Info Tables'!$B122)","v":0},{"$f":"COUNTIFS('WHS Event Log'!$C$3:$C$502,F$106,'WHS Event Log'!$P$3:$P$502,'Info Tables'!$B122)","v":0},{"$f":"COUNTIFS('WHS Event Log'!$C$3:$C$502,G$106,'WHS Event Log'!$P$3:$P$502,'Info Tables'!$B122)","v":0},{"$f":"COUNTIFS('WHS Event Log'!$C$3:$C$502,H$106,'WHS Event Log'!$P$3:$P$502,'Info Tables'!$B122)","v":0},{"$f":"COUNTIFS('WHS Event Log'!$C$3:$C$502,I$106,'WHS Event Log'!$P$3:$P$502,'Info Tables'!$B122)","v":0},{"$f":"COUNTIFS('WHS Event Log'!$F$3:$F$502,J$106,'WHS Event Log'!$P$3:$P$502,'Info Tables'!$B122)","v":0},{"$f":"COUNTIFS('WHS Event Log'!$F$3:$F$502,K$106,'WHS Event Log'!$P$3:$P$502,'Info Tables'!$B122)","v":0},{"$f":"COUNTIFS('WHS Event Log'!$F$3:$F$502,L$106,'WHS Event Log'!$P$3:$P$502,'Info Tables'!$B122)","v":0},{"$f":"COUNTIFS('WHS Event Log'!$F$3:$F$502,M$106,'WHS Event Log'!$P$3:$P$502,'Info Tables'!$B122)","v":0},0,{"$f":"COUNTIFS('WHS Event Log'!$P$3:$P$502,$B122,'WHS Event Log'!$S$3:$S$502,Lists!$E$3)","v":0}]
[null,"Lower Arm",{"$f":"COUNTIFS('WHS Event Log'!$C$3:$C$502,C$106,'WHS Event Log'!$P$3:$P$502,'Info Tables'!$B123)","v":0},{"$f":"COUNTIFS('WHS Event Log'!$C$3:$C$502,D$106,'WHS Event Log'!$P$3:$P$502,'Info Tables'!$B123)","v":0},{"$f":"COUNTIFS('WHS Event Log'!$C$3:$C$502,E$106,'WHS Event Log'!$P$3:$P$502,'Info Tables'!$B123)","v":0},{"$f":"COUNTIFS('WHS Event Log'!$C$3:$C$502,F$106,'WHS Event Log'!$P$3:$P$502,'Info Tables'!$B123)","v":0},{"$f":"COUNTIFS('WHS Event Log'!$C$3:$C$502,G$106,'WHS Event Log'!$P$3:$P$502,'Info Tables'!$B123)","v":0},{"$f":"COUNTIFS('WHS Event Log'!$C$3:$C$502,H$106,'WHS Event Log'!$P$3:$P$502,'Info Tables'!$B123)","v":0},{"$f":"COUNTIFS('WHS Event Log'!$C$3:$C$502,I$106,'WHS Event Log'!$P$3:$P$502,'Info Tables'!$B123)","v":0},{"$f":"COUNTIFS('WHS Event Log'!$F$3:$F$502,J$106,'WHS Event Log'!$P$3:$P$502,'Info Tables'!$B123)","v":0},{"$f":"COUNTIFS('WHS Event Log'!$F$3:$F$502,K$106,'WHS Event Log'!$P$3:$P$502,'Info Tables'!$B123)","v":0},{"$f":"COUNTIFS('WHS Event Log'!$F$3:$F$502,L$106,'WHS Event Log'!$P$3:$P$502,'Info Tables'!$B123)","v":0},{"$f":"COUNTIFS('WHS Event Log'!$F$3:$F$502,M$106,'WHS Event Log'!$P$3:$P$502,'Info Tables'!$B123)","v":0},0,{"$f":"COUNTIFS('WHS Event Log'!$P$3:$P$502,$B123,'WHS Event Log'!$S$3:$S$502,Lists!$E$3)","v":0}]
[null,"Lower Back",{"$f":"COUNTIFS('WHS Event Log'!$C$3:$C$502,C$106,'WHS Event Log'!$P$3:$P$502,'Info Tables'!$B124)","v":0},{"$f":"COUNTIFS('WHS Event Log'!$C$3:$C$502,D$106,'WHS Event Log'!$P$3:$P$502,'Info Tables'!$B124)","v":0},{"$f":"COUNTIFS('WHS Event Log'!$C$3:$C$502,E$106,'WHS Event Log'!$P$3:$P$502,'Info Tables'!$B124)","v":0},{"$f":"COUNTIFS('WHS Event Log'!$C$3:$C$502,F$106,'WHS Event Log'!$P$3:$P$502,'Info Tables'!$B124)","v":0},{"$f":"COUNTIFS('WHS Event Log'!$C$3:$C$502,G$106,'WHS Event Log'!$P$3:$P$502,'Info Tables'!$B124)","v":0},{"$f":"COUNTIFS('WHS Event Log'!$C$3:$C$502,H$106,'WHS Event Log'!$P$3:$P$502,'Info Tables'!$B124)","v":0},{"$f":"COUNTIFS('WHS Event Log'!$C$3:$C$502,I$106,'WHS Event Log'!$P$3:$P$502,'Info Tables'!$B124)","v":0},{"$f":"COUNTIFS('WHS Event Log'!$F$3:$F$502,J$106,'WHS Event Log'!$P$3:$P$502,'Info Tables'!$B124)","v":0},{"$f":"COUNTIFS('WHS Event Log'!$F$3:$F$502,K$106,'WHS Event Log'!$P$3:$P$502,'Info Tables'!$B124)","v":0},{"$f":"COUNTIFS('WHS Event Log'!$F$3:$F$502,L$106,'WHS Event Log'!$P$3:$P$502,'Info Tables'!$B124)","v":0},{"$f":"COUNTIFS('WHS Event Log'!$F$3:$F$502,M$106,'WHS Event Log'!$P$3:$P$502,'Info Tables'!$B124)","v":0},0,{"$f":"COUNTIFS('WHS Event Log'!$P$3:$P$502,$B124,'WHS Event Log'!$S$3:$S$502,Lists!$E$3)","v":0}]
[null,"Lower Leg",{"$f":"COUNTIFS('WHS Event Log'!$C$3:$C$502,C$106,'WHS Event Log'!$P$3:$P$502,'Info Tables'!$B125)","v":0},{"$f":"COUNTIFS('WHS Event Log'!$C$3:$C$502,D$106,'WHS Event Log'!$P$3:$P$502,'Info Tables'!$B125)","v":0},{"$f":"COUNTIFS('WHS Event Log'!$C$3:$C$502,E$106,'WHS Event Log'!$P$3:$P$502,'Info Tables'!$B125)","v":0},{"$f":"COUNTIFS('WHS Event Log'!$C$3:$C$502,F$106,'WHS Event Log'!$P$3:$P$502,'Info Tables'!$B125)","v":0},{"$f":"COUNTIFS('WHS Event Log'!$C$3:$C$502,G$106,'WHS Event Log'!$P$3:$P$502,'Info Tables'!$B125)","v":0},{"$f":"COUNTIFS('WHS Event Log'!$C$3:$C$502,H$106,'WHS Event Log'!$P$3:$P$502,'Info Tables'!$B125)","v":0},{"$f":"COUNTIFS('WHS Event Log'!$C$3:$C$502,I$106,'WHS Event Log'!$P$3:$P$502,'Info Tables'!$B125)","v":0},{"$f":"COUNTIFS('WHS Event Log'!$F$3:$F$502,J$106,'WHS Event Log'!$P$3:$P$502,'Info Tables'!$B125)","v":0},{"$f":"COUNTIFS('WHS Event Log'!$F$3:$F$502,K$106,'WHS Event Log'!$P$3:$P$502,'Info Tables'!$B125)","v":0},{"$f":"COUNTIFS('WHS Event Log'!$F$3:$F$502,L$106,'WHS Event Log'!$P$3:$P$502,'Info Tables'!$B125)","v":0},{"$f":"COUNTIFS('WHS Event Log'!$F$3:$F$502,M$106,'WHS Event Log'!$P$3:$P$502,'Info Tables'!$B125)","v":0},0,{"$f":"COUNTIFS('WHS Event Log'!$P$3:$P$502,$B125,'WHS Event Log'!$S$3:$S$502,Lists!$E$3)","v":0}]
[null,"Mouth",{"$f":"COUNTIFS('WHS Event Log'!$C$3:$C$502,C$106,'WHS Event Log'!$P$3:$P$502,'Info Tables'!$B126)","v":0},{"$f":"COUNTIFS('WHS Event Log'!$C$3:$C$502,D$106,'WHS Event Log'!$P$3:$P$502,'Info Tables'!$B126)","v":0},{"$f":"COUNTIFS('WHS Event Log'!$C$3:$C$502,E$106,'WHS Event Log'!$P$3:$P$502,'Info Tables'!$B126)","v":0},{"$f":"COUNTIFS('WHS Event Log'!$C$3:$C$502,F$106,'WHS Event Log'!$P$3:$P$502,'Info Tables'!$B126)","v":0},{"$f":"COUNTIFS('WHS Event Log'!$C$3:$C$502,G$106,'WHS Event Log'!$P$3:$P$502,'Info Tables'!$B126)","v":0},{"$f":"COUNTIFS('WHS Event Log'!$C$3:$C$502,H$106,'WHS Event Log'!$P$3:$P$502,'Info Tables'!$B126)","v":0},{"$f":"COUNTIFS('WHS Event Log'!$C$3:$C$502,I$106,'WHS Event Log'!$P$3:$P$502,'Info Tables'!$B126)","v":0},{"$f":"COUNTIFS('WHS Event Log'!$F$3:$F$502,J$106,'WHS Event Log'!$P$3:$P$502,'Info Tables'!$B126)","v":0},{"$f":"COUNTIFS('WHS Event Log'!$F$3:$F$502,K$106,'WHS Event Log'!$P$3:$P$502,'Info Tables'!$B126)","v":0},{"$f":"COUNTIFS('WHS Event Log'!$F$3:$F$502,L$106,'WHS Event Log'!$P$3:$P$502,'Info Tables'!$B126)","v":0},{"$f":"COUNTIFS('WHS Event Log'!$F$3:$F$502,M$106,'WHS Event Log'!$P$3:$P$502,'Info Tables'!$B126)","v":0},0,{"$f":"COUNTIFS('WHS Event Log'!$P$3:$P$502,$B126,'WHS Event Log'!$S$3:$S$502,Lists!$E$3)","v":0}]
[null,"Neck",{"$f":"COUNTIFS('WHS Event Log'!$C$3:$C$502,C$106,'WHS Event Log'!$P$3:$P$502,'Info Tables'!$B127)","v":0},{"$f":"COUNTIFS('WHS Event Log'!$C$3:$C$502,D$106,'WHS Event Log'!$P$3:$P$502,'Info Tables'!$B127)","v":0},{"$f":"COUNTIFS('WHS Event Log'!$C$3:$C$502,E$106,'WHS Event Log'!$P$3:$P$502,'Info Tables'!$B127)","v":0},{"$f":"COUNTIFS('WHS Event Log'!$C$3:$C$502,F$106,'WHS Event Log'!$P$3:$P$502,'Info Tables'!$B127)","v":0},{"$f":"COUNTIFS('WHS Event Log'!$C$3:$C$502,G$106,'WHS Event Log'!$P$3:$P$502,'Info Tables'!$B127)","v":0},{"$f":"COUNTIFS('WHS Event Log'!$C$3:$C$502,H$106,'WHS Event Log'!$P$3:$P$502,'Info Tables'!$B127)","v":0},{"$f":"COUNTIFS('WHS Event Log'!$C$3:$C$502,I$106,'WHS Event Log'!$P$3:$P$502,'Info Tables'!$B127)","v":0},{"$f":"COUNTIFS('WHS Event Log'!$F$3:$F$502,J$106,'WHS Event Log'!$P$3:$P$502,'Info Tables'!$B127)","v":0},{"$f":"COUNTIFS('WHS Event Log'!$F$3:$F$502,K$106,'WHS Event Log'!$P$3:$P$502,'Info Tables'!$B127)","v":0},{"$f":"COUNTIFS('WHS Event Log'!$F$3:$F$502,L$106,'WHS Event Log'!$P$3:$P$502,'Info Tables'!$B127)","v":0},{"$f":"COUNTIFS('WHS Event Log'!$F$3:$F$502,M$106,'WHS Event Log'!$P$3:$P$502,'Info Tables'!$B127)","v":0},0,{"$f":"COUNTIFS('WHS Event Log'!$P$3:$P$502,$B127,'WHS Event Log'!$S$3:$S$502,Lists!$E$3)","v":0}]
[null,"Nose",{"$f":"COUNTIFS('WHS Event Log'!$C$3:$C$502,C$106,'WHS Event Log'!$P$3:$P$502,'Info Tables'!$B128)","v":0},{"$f":"COUNTIFS('WHS Event Log'!$C$3:$C$502,D$106,'WHS Event Log'!$P$3:$P$502,'Info Tables'!$B128)","v":0},{"$f":"COUNTIFS('WHS Event Log'!$C$3:$C$502,E$106,'WHS Event Log'!$P$3:$P$502,'Info Tables'!$B128)","v":0},{"$f":"COUNTIFS('WHS Event Log'!$C$3:$C$502,F$106,'WHS Event Log'!$P$3:$P$502,'Info Tables'!$B128)","v":0},{"$f":"COUNTIFS('WHS Event Log'!$C$3:$C$502,G$106,'WHS Event Log'!$P$3:$P$502,'Info Tables'!$B128)","v":0},{"$f":"COUNTIFS('WHS Event Log'!$C$3:$C$502,H$106,'WHS Event Log'!$P$3:$P$502,'Info Tables'!$B128)","v":0},{"$f":"COUNTIFS('WHS Event Log'!$C$3:$C$502,I$106,'WHS Event Log'!$P$3:$P$502,'Info Tables'!$B128)","v":0},{"$f":"COUNTIFS('WHS Event Log'!$C$3:$C$502,J$106,'WHS Event Log'!$P$3:$P$502,'Info Tables'!$B128)","v":0},{"$f":"COUNTIFS('WHS Event Log'!$C$3:$C$502,K$106,'WHS Event Log'!$P$3:$P$502,'Info Tables'!$B128)","v":0},{"$f":"COUNTIFS('WHS Event Log'!$C$3:$C$502,L$106,'WHS Event Log'!$P$3:$P$502,'Info Tables'!$B128)","v":0},{"$f":"COUNTIFS('WHS Event Log'!$C$3:$C$502,M$106,'WHS Event Log'!$P$3:$P$502,'Info Tables'!$B128)","v":0},0,{"$f":"COUNTIFS('WHS Event Log'!$P$3:$P$502,$B128,'WHS Event Log'!$S$3:$S$502,Lists!$E$3)","v":0}]
[null,"Scalp",{"$f":"COUNTIFS('WHS Event Log'!$C$3:$C$502,C$106,'WHS Event Log'!$P$3:$P$502,'Info Tables'!$B129)","v":0},{"$f":"COUNTIFS('WHS Event Log'!$C$3:$C$502,D$106,'WHS Event Log'!$P$3:$P$502,'Info Tables'!$B129)","v":0},{"$f":"COUNTIFS('WHS Event Log'!$C$3:$C$502,E$106,'WHS Event Log'!$P$3:$P$502,'Info Tables'!$B129)","v":0},{"$f":"COUNTIFS('WHS Event Log'!$C$3:$C$502,F$106,'WHS Event Log'!$P$3:$P$502,'Info Tables'!$B129)","v":0},{"$f":"COUNTIFS('WHS Event Log'!$C$3:$C$502,G$106,'WHS Event Log'!$P$3:$P$502,'Info Tables'!$B129)","v":0},{"$f":"COUNTIFS('WHS Event Log'!$C$3:$C$502,H$106,'WHS Event Log'!$P$3:$P$502,'Info Tables'!$B129)","v":0},{"$f":"COUNTIFS('WHS Event Log'!$C$3:$C$502,I$106,'WHS Event Log'!$P$3:$P$502,'Info Tables'!$B129)","v":0},{"$f":"COUNTIFS('WHS Event Log'!$C$3:$C$502,J$106,'WHS Event Log'!$P$3:$P$502,'Info Tables'!$B129)","v":0},{"$f":"COUNTIFS('WHS Event Log'!$C$3:$C$502,K$106,'WHS Event Log'!$P$3:$P$502,'Info Tables'!$B129)","v":0},{"$f":"COUNTIFS('WHS Event Log'!$C$3:$C$502,L$106,'WHS Event Log'!$P$3:$P$502,'Info Tables'!$B129)","v":0},{"$f":"COUNTIFS('WHS Event Log'!$C$3:$C$502,M$106,'WHS Event Log'!$P$3:$P$502,'Info Tables'!$B129)","v":0},0,{"$f":"COUNTIFS('WHS Event Log'!$P$3:$P$502,$B129,'WHS Event Log'!$S$3:$S$502,Lists!$E$3)","v":0}]
[null,"Shoulder",{"$f":"COUNTIFS('WHS Event Log'!$C$3:$C$502,C$106,'WHS Event Log'!$P$3:$P$502,'Info Tables'!$B130)","v":0},{"$f":"COUNTIFS('WHS Event Log'!$C$3:$C$502,D$106,'WHS Event Log'!$P$3:$P$502,'Info Tables'!$B130)","v":0},{"$f":"COUNTIFS('WHS Event Log'!$C$3:$C$502,E$106,'WHS Event Log'!$P$3:$P$502,'Info Tables'!$B130)","v":0},{"$f":"COUNTIFS('WHS Event Log'!$C$3:$C$502,F$106,'WHS Event Log'!$P$3:$P$502,'Info Tables'!$B130)","v":0},{"$f":"COUNTIFS('WHS Event Log'!$C$3:$C$502,G$106,'WHS Event Log'!$P$3:$P$502,'Info Tables'!$B130)","v":0},{"$f":"COUNTIFS('WHS Event Log'!$C$3:$C$502,H$106,'WHS Event Log'!$P$3:$P$502,'Info Tables'!$B130)","v":0},{"$f":"COUNTIFS('WHS Event Log'!$C$3:$C$502,I$106,'WHS Event Log'!$P$3:$P$502,'Info Tables'!$B130)","v":0},{"$f":"COUNTIFS('WHS Event Log'!$C$3:$C$502,J$106,'WHS Event Log'!$P$3:$P$502,'Info Tables'!$B130)","v":0},{"$f":"COUNTIFS('WHS Event Log'!$C$3:$C$502,K$106,'WHS Event Log'!$P$3:$P$502,'Info Tables'!$B130)","v":0},{"$f":"COUNTIFS('WHS Event Log'!$C$3:$C$502,L$106,'WHS Event Log'!$P$3:$P$502,'Info Tables'!$B130)","v":0},{"$f":"COUNTIFS('WHS Event Log'!$C$3:$C$502,M$106,'WHS Event Log'!$P$3:$P$502,'Info Tables'!$B130)","v":0},0,{"$f":"COUNTIFS('WHS Event Log'!$P$3:$P$502,$B130,'WHS Event Log'!$S$3:$S$502,Lists!$E$3)","v":0}]
[null,"Throat",{"$f":"COUNTIFS('WHS Event Log'!$C$3:$C$502,C$106,'WHS Event Log'!$P$3:$P$502,'Info Tables'!$B131)","v":0},{"$f":"COUNTIFS('WHS Event Log'!$C$3:$C$502,D$106,'WHS Event Log'!$P$3:$P$502,'Info Tables'!$B131)","v":0},{"$f":"COUNTIFS('WHS Event Log'!$C$3:$C$502,E$106,'WHS Event Log'!$P$3:$P$502,'Info Tables'!$B131)","v":0},{"$f":"COUNTIFS('WHS Event Log'!$C$3:$C$502,F$106,'WHS Event Log'!$P$3:$P$502,'Info Tables'!$B131)","v":0},{"$f":"COUNTIFS('WHS Event Log'!$C$3:$C$502,G$106,'WHS Event Log'!$P$3:$P$502,'Info Tables'!$B131)","v":0},{"$f":"COUNTIFS('WHS Event Log'!$C$3:$C$502,H$106,'WHS Event Log'!$P$3:$P$502,'Info Tables'!$B131)","v":0},{"$f":"COUNTIFS('WHS Event Log'!$C$3:$C$502,I$106,'WHS Event Log'!$P$3:$P$502,'Info Tables'!$B131)","v":0},{"$f":"COUNTIFS('WHS Event Log'!$C$3:$C$502,J$106,'WHS Event Log'!$P$3:$P$502,'Info Tables'!$B131)","v":0},{"$f":"COUNTIFS('WHS Event Log'!$C$3:$C$502,K$106,'WHS Event Log'!$P$3:$P$502,'Info Tables'!$B131)","v":0},{"$f":"COUNTIFS('WHS Event Log'!$C$3:$C$502,L$106,'WHS Event Log'!$P$3:$P$502,'Info Tables'!$B131)","v":0},{"$f":"COUNTIFS('WHS Event Log'!$C$3:$C$502,M$106,'WHS Event Log'!$P$3:$P$502,'Info Tables'!$B131)","v":0},0,{"$f":"COUNTIFS('WHS Event Log'!$P$3:$P$502,$B131,'WHS Event Log'!$S$3:$S$502,Lists!$E$3)","v":0}]
[null,"Toe",{"$f":"COUNTIFS('WHS Event Log'!$C$3:$C$502,C$106,'WHS Event Log'!$P$3:$P$502,'Info Tables'!$B132)","v":0},{"$f":"COUNTIFS('WHS Event Log'!$C$3:$C$502,D$106,'WHS Event Log'!$P$3:$P$502,'Info Tables'!$B132)","v":0},{"$f":"COUNTIFS('WHS Event Log'!$C$3:$C$502,E$106,'WHS Event Log'!$P$3:$P$502,'Info Tables'!$B132)","v":0},{"$f":"COUNTIFS('WHS Event Log'!$C$3:$C$502,F$106,'WHS Event Log'!$P$3:$P$502,'Info Tables'!$B132)","v":0},{"$f":"COUNTIFS('WHS Event Log'!$C$3:$C$502,G$106,'WHS Event Log'!$P$3:$P$502,'Info Tables'!$B132)","v":0},{"$f":"COUNTIFS('WHS Event Log'!$C$3:$C$502,H$106,'WHS Event Log'!$P$3:$P$502,'Info Tables'!$B132)","v":0},{"$f":"COUNTIFS('WHS Event Log'!$C$3:$C$502,I$106,'WHS Event Log'!$P$3:$P$502,'Info Tables'!$B132)","v":0},{"$f":"COUNTIFS('WHS Event Log'!$C$3:$C$502,J$106,'WHS Event Log'!$P$3:$P$502,'Info Tables'!$B132)","v":0},{"$f":"COUNTIFS('WHS Event Log'!$C$3:$C$502,K$106,'WHS Event Log'!$P$3:$P$502,'Info Tables'!$B132)","v":0},{"$f":"COUNTIFS('WHS Event Log'!$C$3:$C$502,L$106,'WHS Event Log'!$P$3:$P$502,'Info Tables'!$B132)","v":0},{"$f":"COUNTIFS('WHS Event Log'!$C$3:$C$502,M$106,'WHS Event Log'!$P$3:$P$502,'Info Tables'!$B132)","v":0},0,{"$f":"COUNTIFS('WHS Event Log'!$P$3:$P$502,$B132,'WHS Event Log'!$S$3:$S$502,Lists!$E$3)","v":0}]
[null,"Upper Arm",{"$f":"COUNTIFS('WHS Event Log'!$C$3:$C$502,C$106,'WHS Event Log'!$P$3:$P$502,'Info Tables'!$B133)","v":0},{"$f":"COUNTIFS('WHS Event Log'!$C$3:$C$502,D$106,'WHS Event Log'!$P$3:$P$502,'Info Tables'!$B133)","v":0},{"$f":"COUNTIFS('WHS Event Log'!$C$3:$C$502,E$106,'WHS Event Log'!$P$3:$P$502,'Info Tables'!$B133)","v":0},{"$f":"COUNTIFS('WHS Event Log'!$C$3:$C$502,F$106,'WHS Event Log'!$P$3:$P$502,'Info Tables'!$B133)","v":0},{"$f":"COUNTIFS('WHS Event Log'!$C$3:$C$502,G$106,'WHS Event Log'!$P$3:$P$502,'Info Tables'!$B133)","v":0},{"$f":"COUNTIFS('WHS Event Log'!$C$3:$C$502,H$106,'WHS Event Log'!$P$3:$P$502,'Info Tables'!$B133)","v":0},{"$f":"COUNTIFS('WHS Event Log'!$C$3:$C$502,I$106,'WHS Event Log'!$P$3:$P$502,'Info Tables'!$B133)","v":0},{"$f":"COUNTIFS('WHS Event Log'!$C$3:$C$502,J$106,'WHS Event Log'!$P$3:$P$502,'Info Tables'!$B133)","v":0},{"$f":"COUNTIFS('WHS Event Log'!$C$3:$C$502,K$106,'WHS Event Log'!$P$3:$P$502,'Info Tables'!$B133)","v":0},{"$f":"COUNTIFS('WHS Event Log'!$C$3:$C$502,L$106,'WHS Event Log'!$P$3:$P$502,'Info Tables'!$B133)","v":0},{"$f":"COUNTIFS('WHS Event Log'!$C$3:$C$502,M$106,'WHS Event Log'!$P$3:$P$502,'Info Tables'!$B133)","v":0},0,{"$f":"COUNTIFS('WHS Event Log'!$P$3:$P$502,$B133,'WHS Event Log'!$S$3:$S$502,Lists!$E$3)","v":0}]
[null,"Upper Back",{"$f":"COUNTIFS('WHS Event Log'!$C$3:$C$502,C$106,'WHS Event Log'!$P$3:$P$502,'Info Tables'!$B134)","v":0},{"$f":"COUNTIFS('WHS Event Log'!$C$3:$C$502,D$106,'WHS Event Log'!$P$3:$P$502,'Info Tables'!$B134)","v":0},{"$f":"COUNTIFS('WHS Event Log'!$C$3:$C$502,E$106,'WHS Event Log'!$P$3:$P$502,'Info Tables'!$B134)","v":0},{"$f":"COUNTIFS('WHS Event Log'!$C$3:$C$502,F$106,'WHS Event Log'!$P$3:$P$502,'Info Tables'!$B134)","v":0},{"$f":"COUNTIFS('WHS Event Log'!$C$3:$C$502,G$106,'WHS Event Log'!$P$3:$P$502,'Info Tables'!$B134)","v":0},{"$f":"COUNTIFS('WHS Event Log'!$C$3:$C$502,H$106,'WHS Event Log'!$P$3:$P$502,'Info Tables'!$B134)","v":0},{"$f":"COUNTIFS('WHS Event Log'!$C$3:$C$502,I$106,'WHS Event Log'!$P$3:$P$502,'Info Tables'!$B134)","v":0},{"$f":"COUNTIFS('WHS Event Log'!$C$3:$C$502,J$106,'WHS Event Log'!$P$3:$P$502,'Info Tables'!$B134)","v":0},{"$f":"COUNTIFS('WHS Event Log'!$C$3:$C$502,K$106,'WHS Event Log'!$P$3:$P$502,'Info Tables'!$B134)","v":0},{"$f":"COUNTIFS('WHS Event Log'!$C$3:$C$502,L$106,'WHS Event Log'!$P$3:$P$502,'Info Tables'!$B134)","v":0},{"$f":"COUNTIFS('WHS Event Log'!$C$3:$C$502,M$106,'WHS Event Log'!$P$3:$P$502,'Info Tables'!$B134)","v":0},0,{"$f":"COUNTIFS('WHS Event Log'!$P$3:$P$502,$B134,'WHS Event Log'!$S$3:$S$502,Lists!$E$3)","v":0}]
[null,"Upper Leg",{"$f":"COUNTIFS('WHS Event Log'!$C$3:$C$502,C$106,'WHS Event Log'!$P$3:$P$502,'Info Tables'!$B135)","v":0},{"$f":"COUNTIFS('WHS Event Log'!$C$3:$C$502,D$106,'WHS Event Log'!$P$3:$P$502,'Info Tables'!$B135)","v":0},{"$f":"COUNTIFS('WHS Event Log'!$C$3:$C$502,E$106,'WHS Event Log'!$P$3:$P$502,'Info Tables'!$B135)","v":0},{"$f":"COUNTIFS('WHS Event Log'!$C$3:$C$502,F$106,'WHS Event Log'!$P$3:$P$502,'Info Tables'!$B135)","v":0},{"$f":"COUNTIFS('WHS Event Log'!$C$3:$C$502,G$106,'WHS Event Log'!$P$3:$P$502,'Info Tables'!$B135)","v":0},{"$f":"COUNTIFS('WHS Event Log'!$C$3:$C$502,H$106,'WHS Event Log'!$P$3:$P$502,'Info Tables'!$B135)","v":0},{"$f":"COUNTIFS('WHS Event Log'!$C$3:$C$502,I$106,'WHS Event Log'!$P$3:$P$502,'Info Tables'!$B135)","v":0},{"$f":"COUNTIFS('WHS Event Log'!$C$3:$C$502,J$106,'WHS Event Log'!$P$3:$P$502,'Info Tables'!$B135)","v":0},{"$f":"COUNTIFS('WHS Event Log'!$C$3:$C$502,K$106,'WHS Event Log'!$P$3:$P$502,'Info Tables'!$B135)","v":0},{"$f":"COUNTIFS('WHS Event Log'!$C$3:$C$502,L$106,'WHS Event Log'!$P$3:$P$502,'Info Tables'!$B135)","v":0},{"$f":"COUNTIFS('WHS Event Log'!$C$3:$C$502,M$106,'WHS Event Log'!$P$3:$P$502,'Info Tables'!$B135)","v":0},0,{"$f":"COUNTIFS('WHS Event Log'!$P$3:$P$502,$B135,'WHS Event Log'!$S$3:$S$502,Lists!$E$3)","v":0}]
[null,"Wrist",{"$f":"COUNTIFS('WHS Event Log'!$C$3:$C$502,C$106,'WHS Event Log'!$P$3:$P$502,'Info Tables'!$B136)","v":0},{"$f":"COUNTIFS('WHS Event Log'!$C$3:$C$502,D$106,'WHS Event Log'!$P$3:$P$502,'Info Tables'!$B136)","v":0},{"$f":"COUNTIFS('WHS Event Log'!$C$3:$C$502,E$106,'WHS Event Log'!$P$3:$P$502,'Info Tables'!$B136)","v":0},{"$f":"COUNTIFS('WHS Event Log'!$C$3:$C$502,F$106,'WHS Event Log'!$P$3:$P$502,'Info Tables'!$B136)","v":0},{"$f":"COUNTIFS('WHS Event Log'!$C$3:$C$502,G$106,'WHS Event Log'!$P$3:$P$502,'Info Tables'!$B136)","v":0},{"$f":"COUNTIFS('WHS Event Log'!$C$3:$C$502,H$106,'WHS Event Log'!$P$3:$P$502,'Info Tables'!$B136)","v":0},{"$f":"COUNTIFS('WHS Event Log'!$C$3:$C$502,I$106,'WHS Event Log'!$P$3:$P$502,'Info Tables'!$B136)","v":0},{"$f":"COUNTIFS('WHS Event Log'!$C$3:$C$502,J$106,'WHS Event Log'!$P$3:$P$502,'Info Tables'!$B136)","v":0},{"$f":"COUNTIFS('WHS Event Log'!$C$3:$C$502,K$106,'WHS Event Log'!$P$3:$P$502,'Info Tables'!$B136)","v":0},{"$f":"COUNTIFS('WHS Event Log'!$C$3:$C$502,L$106,'WHS Event Log'!$P$3:$P$502,'Info Tables'!$B136)","v":0},{"$f":"COUNTIFS('WHS Event Log'!$C$3:$C$502,M$106,'WHS Event Log'!$P$3:$P$502,'Info Tables'!$B136)","v":0},0,{"$f":"COUNTIFS('WHS Event Log'!$P$3:$P$502,$B136,'WHS Event Log'!$S$3:$S$502,Lists!$E$3)","v":0}]
[null,"Unspecified",{"$f":"COUNTIFS('WHS Event Log'!$C$3:$C$502,C$106,'WHS Event Log'!$P$3:$P$502,'Info Tables'!$B137)","v":0},{"$f":"COUNTIFS('WHS Event Log'!$C$3:$C$502,D$106,'WHS Event Log'!$P$3:$P$502,'Info Tables'!$B137)","v":0},{"$f":"COUNTIFS('WHS Event Log'!$C$3:$C$502,E$106,'WHS Event Log'!$P$3:$P$502,'Info Tables'!$B137)","v":0},{"$f":"COUNTIFS('WHS Event Log'!$C$3:$C$502,F$106,'WHS Event Log'!$P$3:$P$502,'Info Tables'!$B137)","v":0},{"$f":"COUNTIFS('WHS Event Log'!$C$3:$C$502,G$106,'WHS Event Log'!$P$3:$P$502,'Info Tables'!$B137)","v":0},{"$f":"COUNTIFS('WHS Event Log'!$C$3:$C$502,H$106,'WHS Event Log'!$P$3:$P$502,'Info Tables'!$B137)","v":0},{"$f":"COUNTIFS('WHS Event Log'!$C$3:$C$502,I$106,'WHS Event Log'!$P$3:$P$502,'Info Tables'!$B137)","v":0},{"$f":"COUNTIFS('WHS Event Log'!$C$3:$C$502,J$106,'WHS Event Log'!$P$3:$P$502,'Info Tables'!$B137)","v":0},{"$f":"COUNTIFS('WHS Event Log'!$C$3:$C$502,K$106,'WHS Event Log'!$P$3:$P$502,'Info Tables'!$B137)","v":0},{"$f":"COUNTIFS('WHS Event Log'!$C$3:$C$502,L$106,'WHS Event Log'!$P$3:$P$502,'Info Tables'!$B137)","v":0},{"$f":"COUNTIFS('WHS Event Log'!$C$3:$C$502,M$106,'WHS Event Log'!$P$3:$P$502,'Info Tables'!$B137)","v":0},0,{"$f":"COUNTIFS('WHS Event Log'!$P$3:$P$502,$B137,'WHS Event Log'!$S$3:$S$502,Lists!$E$3)","v":0}]
[null,"Other",{"$f":"COUNTIFS('WHS Event Log'!$C$3:$C$502,C$106,'WHS Event Log'!$P$3:$P$502,'Info Tables'!$B138)","v":0},{"$f":"COUNTIFS('WHS Event Log'!$C$3:$C$502,D$106,'WHS Event Log'!$P$3:$P$502,'Info Tables'!$B138)","v":0},{"$f":"COUNTIFS('WHS Event Log'!$C$3:$C$502,E$106,'WHS Event Log'!$P$3:$P$502,'Info Tables'!$B138)","v":0},{"$f":"COUNTIFS('WHS Event Log'!$C$3:$C$502,F$106,'WHS Event Log'!$P$3:$P$502,'Info Tables'!$B138)","v":0},{"$f":"COUNTIFS('WHS Event Log'!$C$3:$C$502,G$106,'WHS Event Log'!$P$3:$P$502,'Info Tables'!$B138)","v":0},{"$f":"COUNTIFS('WHS Event Log'!$C$3:$C$502,H$106,'WHS Event Log'!$P$3:$P$502,'Info Tables'!$B138)","v":0},{"$f":"COUNTIFS('WHS Event Log'!$C$3:$C$502,I$106,'WHS Event Log'!$P$3:$P$502,'Info Tables'!$B138)","v":0},{"$f":"COUNTIFS('WHS Event Log'!$C$3:$C$502,J$106,'WHS Event Log'!$P$3:$P$502,'Info Tables'!$B138)","v":0},{"$f":"COUNTIFS('WHS Event Log'!$C$3:$C$502,K$106,'WHS Event Log'!$P$3:$P$502,'Info Tables'!$B138)","v":0},{"$f":"COUNTIFS('WHS Event Log'!$C$3:$C$502,L$106,'WHS Event Log'!$P$3:$P$502,'Info Tables'!$B138)","v":0},{"$f":"COUNTIFS('WHS Event Log'!$C$3:$C$502,M$106,'WHS Event Log'!$P$3:$P$502,'Info Tables'!$B138)","v":0},0,{"$f":"COUNTIFS('WHS Event Log'!$P$3:$P$502,$B138,'WHS Event Log'!$S$3:$S$502,Lists!$E$3)","v":0}]
[null,null,{"$f":"SUM(C107:C138)","v":0},0,0,0,0,0,0,0,0,0,0,0,{"$f":"SUM(O108:O138)","v":0}]
[]
[]
[null,"Injury Sustained Month","January","February","March","April","May","June","July","August","September","October","November","December","Total","Claim"]
[null,"Abdomin",{"$f":"COUNTIFS('WHS Event Log'!$E$3:$E$502,C$142,'WHS Event Log'!$P$3:$P$502,'Info Tables'!$B143)","v":0},{"$f":"COUNTIFS('WHS Event Log'!$E$3:$E$502,D$142,'WHS Event Log'!$P$3:$P$502,'Info Tables'!$B143)","v":0},{"$f":"COUNTIFS('WHS Event Log'!$E$3:$E$502,E$142,'WHS Event Log'!$P$3:$P$502,'Info Tables'!$B143)","v":0},{"$f":"COUNTIFS('WHS Event Log'!$E$3:$E$502,F$142,'WHS Event Log'!$P$3:$P$502,'Info Tables'!$B143)","v":0},{"$f":"COUNTIFS('WHS Event Log'!$E$3:$E$502,G$142,'WHS Event Log'!$P$3:$P$502,'Info Tables'!$B143)","v":0},{"$f":"COUNTIFS('WHS Event Log'!$E$3:$E$502,H$142,'WHS Event Log'!$P$3:$P$502,'Info Tables'!$B143)","v":0},{"$f":"COUNTIFS('WHS Event Log'!$E$3:$E$502,I$142,'WHS Event Log'!$P$3:$P$502,'Info Tables'!$B143)","v":0},{"$f":"COUNTIFS('WHS Event Log'!$E$3:$E$502,J$142,'WHS Event Log'!$P$3:$P$502,'Info Tables'!$B143)","v":0},{"$f":"COUNTIFS('WHS Event Log'!$E$3:$E$502,K$142,'WHS Event Log'!$P$3:$P$502,'Info Tables'!$B143)","v":0},{"$f":"COUNTIFS('WHS Event Log'!$E$3:$E$502,L$142,'WHS Event Log'!$P$3:$P$502,'Info Tables'!$B143)","v":0},{"$f":"COUNTIFS('WHS Event Log'!$E$3:$E$502,M$142,'WHS Event Log'!$P$3:$P$502,'Info Tables'!$B143)","v":0},{"$f":"COUNTIFS('WHS Event Log'!$E$3:$E$502,N$142,'WHS Event Log'!$P$3:$P$502,'Info Tables'!$B143)","v":0},{"$f":"COUNTIFS('WHS Event Log'!$E$3:$E$502,O$142,'WHS Event Log'!$P$3:$P$502,'Info Tables'!$B143)","v":0},{"$f":"COUNTIFS('WHS Event Log'!$P$3:$P$502,$B143,'WHS Event Log'!$S$3:$S$502,Lists!$E$3)","v":0}]
[null,"Ankle",{"$f":"COUNTIFS('WHS Event Log'!$E$3:$E$502,C$142,'WHS Event Log'!$P$3:$P$502,'Info Tables'!$B144)","v":0},{"$f":"COUNTIFS('WHS Event Log'!$E$3:$E$502,D$142,'WHS Event Log'!$P$3:$P$502,'Info Tables'!$B144)","v":0},{"$f":"COUNTIFS('WHS Event Log'!$E$3:$E$502,E$142,'WHS Event Log'!$P$3:$P$502,'Info Tables'!$B144)","v":0},{"$f":"COUNTIFS('WHS Event Log'!$E$3:$E$502,F$142,'WHS Event Log'!$P$3:$P$502,'Info Tables'!$B144)","v":0},{"$f":"COUNTIFS('WHS Event Log'!$E$3:$E$502,G$142,'WHS Event Log'!$P$3:$P$502,'Info Tables'!$B144)","v":0},{"$f":"COUNTIFS('WHS Event Log'!$E$3:$E$502,H$142,'WHS Event Log'!$P$3:$P$502,'Info Tables'!$B144)","v":0},{"$f":"COUNTIFS('WHS Event Log'!$E$3:$E$502,I$142,'WHS Event Log'!$P$3:$P$502,'Info Tables'!$B144)","v":0},{"$f":"COUNTIFS('WHS Event Log'!$E$3:$E$502,J$142,'WHS Event Log'!$P$3:$P$502,'Info Tables'!$B144)","v":0},{"$f":"COUNTIFS('WHS Event Log'!$E$3:$E$502,K$142,'WHS Event Log'!$P$3:$P$502,'Info Tables'!$B144)","v":0},{"$f":"COUNTIFS('WHS Event Log'!$E$3:$E$502,L$142,'WHS Event Log'!$P$3:$P$502,'Info Tables'!$B144)","v":0},{"$f":"COUNTIFS('WHS Event Log'!$E$3:$E$502,M$142,'WHS Event Log'!$P$3:$P$502,'Info Tables'!$B144)","v":0},{"$f":"COUNTIFS('WHS Event Log'!$E$3:$E$502,N$142,'WHS Event Log'!$P$3:$P$502,'Info Tables'!$B144)","v":0},{"$f":"COUNTIFS('WHS Event Log'!$E$3:$E$502,O$142,'WHS Event Log'!$P$3:$P$502,'Info Tables'!$B144)","v":0},{"$f":"COUNTIFS('WHS Event Log'!$P$3:$P$502,$B144,'WHS Event Log'!$S$3:$S$502,Lists!$E$3)","v":0}]
[null,"Buttock",{"$f":"COUNTIFS('WHS Event Log'!$E$3:$E$502,C$142,'WHS Event Log'!$P$3:$P$502,'Info Tables'!$B145)","v":0},{"$f":"COUNTIFS('WHS Event Log'!$E$3:$E$502,D$142,'WHS Event Log'!$P$3:$P$502,'Info Tables'!$B145)","v":0},{"$f":"COUNTIFS('WHS Event Log'!$E$3:$E$502,E$142,'WHS Event Log'!$P$3:$P$502,'Info Tables'!$B145)","v":0},{"$f":"COUNTIFS('WHS Event Log'!$E$3:$E$502,F$142,'WHS Event Log'!$P$3:$P$502,'Info Tables'!$B145)","v":0},{"$f":"COUNTIFS('WHS Event Log'!$E$3:$E$502,G$142,'WHS Event Log'!$P$3:$P$502,'Info Tables'!$B145)","v":0},{"$f":"COUNTIFS('WHS Event Log'!$E$3:$E$502,H$142,'WHS Event Log'!$P$3:$P$502,'Info Tables'!$B145)","v":0},{"$f":"COUNTIFS('WHS Event Log'!$E$3:$E$502,I$142,'WHS Event Log'!$P$3:$P$502,'Info Tables'!$B145)","v":0},{"$f":"COUNTIFS('WHS Event Log'!$E$3:$E$502,J$142,'WHS Event Log'!$P$3:$P$502,'Info Tables'!$B145)","v":0},{"$f":"COUNTIFS('WHS Event Log'!$E$3:$E$502,K$142,'WHS Event Log'!$P$3:$P$502,'Info Tables'!$B145)","v":0},{"$f":"COUNTIFS('WHS Event Log'!$E$3:$E$502,L$142,'WHS Event Log'!$P$3:$P$502,'Info Tables'!$B145)","v":0},{"$f":"COUNTIFS('WHS Event Log'!$E$3:$E$502,M$142,'WHS Event Log'!$P$3:$P$502,'Info Tables'!$B145)","v":0},{"$f":"COUNTIFS('WHS Event Log'!$E$3:$E$502,N$142,'WHS Event Log'!$P$3:$P$502,'Info Tables'!$B145)","v":0},{"$f":"COUNTIFS('WHS Event Log'!$E$3:$E$502,O$142,'WHS Event Log'!$P$3:$P$502,'Info Tables'!$B145)","v":0},{"$f":"COUNTIFS('WHS Event Log'!$P$3:$P$502,$B145,'WHS Event Log'!$S$3:$S$502,Lists!$E$3)","v":0}]
[null,"Chest",{"$f":"COUNTIFS('WHS Event Log'!$E$3:$E$502,C$142,'WHS Event Log'!$P$3:$P$502,'Info Tables'!$B146)","v":0},{"$f":"COUNTIFS('WHS Event Log'!$E$3:$E$502,D$142,'WHS Event Log'!$P$3:$P$502,'Info Tables'!$B146)","v":0},{"$f":"COUNTIFS('WHS Event Log'!$E$3:$E$502,E$142,'WHS Event Log'!$P$3:$P$502,'Info Tables'!$B146)","v":0},{"$f":"COUNTIFS('WHS Event Log'!$E$3:$E$502,F$142,'WHS Event Log'!$P$3:$P$502,'Info Tables'!$B146)","v":0},{"$f":"COUNTIFS('WHS Event Log'!$E$3:$E$502,G$142,'WHS Event Log'!$P$3:$P$502,'Info Tables'!$B146)","v":0},{"$f":"COUNTIFS('WHS Event Log'!$E$3:$E$502,H$142,'WHS Event Log'!$P$3:$P$502,'Info Tables'!$B146)","v":0},{"$f":"COUNTIFS('WHS Event Log'!$E$3:$E$502,I$142,'WHS Event Log'!$P$3:$P$502,'Info Tables'!$B146)","v":0},{"$f":"COUNTIFS('WHS Event Log'!$E$3:$E$502,J$142,'WHS Event Log'!$P$3:$P$502,'Info Tables'!$B146)","v":0},{"$f":"COUNTIFS('WHS Event Log'!$E$3:$E$502,K$142,'WHS Event Log'!$P$3:$P$502,'Info Tables'!$B146)","v":0},{"$f":"COUNTIFS('WHS Event Log'!$E$3:$E$502,L$142,'WHS Event Log'!$P$3:$P$502,'Info Tables'!$B146)","v":0},{"$f":"COUNTIFS('WHS Event Log'!$E$3:$E$502,M$142,'WHS Event Log'!$P$3:$P$502,'Info Tables'!$B146)","v":0},{"$f":"COUNTIFS('WHS Event Log'!$E$3:$E$502,N$142,'WHS Event Log'!$P$3:$P$502,'Info Tables'!$B146)","v":0},{"$f":"COUNTIFS('WHS Event Log'!$E$3:$E$502,O$142,'WHS Event Log'!$P$3:$P$502,'Info Tables'!$B146)","v":0},{"$f":"COUNTIFS('WHS Event Log'!$P$3:$P$502,$B146,'WHS Event Log'!$S$3:$S$502,Lists!$E$3)","v":0}]
[null,"Cognitive",{"$f":"COUNTIFS('WHS Event Log'!$E$3:$E$502,C$142,'WHS Event Log'!$P$3:$P$502,'Info Tables'!$B147)","v":0},{"$f":"COUNTIFS('WHS Event Log'!$E$3:$E$502,D$142,'WHS Event Log'!$P$3:$P$502,'Info Tables'!$B147)","v":0},{"$f":"COUNTIFS('WHS Event Log'!$E$3:$E$502,E$142,'WHS Event Log'!$P$3:$P$502,'Info Tables'!$B147)","v":0},{"$f":"COUNTIFS('WHS Event Log'!$E$3:$E$502,F$142,'WHS Event Log'!$P$3:$P$502,'Info Tables'!$B147)","v":0},{"$f":"COUNTIFS('WHS Event Log'!$E$3:$E$502,G$142,'WHS Event Log'!$P$3:$P$502,'Info Tables'!$B147)","v":0},{"$f":"COUNTIFS('WHS Event Log'!$E$3:$E$502,H$142,'WHS Event Log'!$P$3:$P$502,'Info Tables'!$B147)","v":0},{"$f":"COUNTIFS('WHS Event Log'!$E$3:$E$502,I$142,'WHS Event Log'!$P$3:$P$502,'Info Tables'!$B147)","v":0},{"$f":"COUNTIFS('WHS Event Log'!$E$3:$E$502,J$142,'WHS Event Log'!$P$3:$P$502,'Info Tables'!$B147)","v":0},{"$f":"COUNTIFS('WHS Event Log'!$E$3:$E$502,K$142,'WHS Event Log'!$P$3:$P$502,'Info Tables'!$B147)","v":0},{"$f":"COUNTIFS('WHS Event Log'!$E$3:$E$502,L$142,'WHS Event Log'!$P$3:$P$502,'Info Tables'!$B147)","v":0},{"$f":"COUNTIFS('WHS Event Log'!$E$3:$E$502,M$142,'WHS Event Log'!$P$3:$P$502,'Info Tables'!$B147)","v":0},{"$f":"COUNTIFS('WHS Event Log'!$E$3:$E$502,N$142,'WHS Event Log'!$P$3:$P$502,'Info Tables'!$B147)","v":0},{"$f":"COUNTIFS('WHS Event Log'!$E$3:$E$502,O$142,'WHS Event Log'!$P$3:$P$502,'Info Tables'!$B147)","v":0},{"$f":"COUNTIFS('WHS Event Log'!$P$3:$P$502,$B147,'WHS Event Log'!$S$3:$S$502,Lists!$E$3)","v":0}]
[null,"Ear",{"$f":"COUNTIFS('WHS Event Log'!$E$3:$E$502,C$142,'WHS Event Log'!$P$3:$P$502,'Info Tables'!$B148)","v":0},{"$f":"COUNTIFS('WHS Event Log'!$E$3:$E$502,D$142,'WHS Event Log'!$P$3:$P$502,'Info Tables'!$B148)","v":0},{"$f":"COUNTIFS('WHS Event Log'!$E$3:$E$502,E$142,'WHS Event Log'!$P$3:$P$502,'Info Tables'!$B148)","v":0},{"$f":"COUNTIFS('WHS Event Log'!$E$3:$E$502,F$142,'WHS Event Log'!$P$3:$P$502,'Info Tables'!$B148)","v":0},{"$f":"COUNTIFS('WHS Event Log'!$E$3:$E$502,G$142,'WHS Event Log'!$P$3:$P$502,'Info Tables'!$B148)","v":0},{"$f":"COUNTIFS('WHS Event Log'!$E$3:$E$502,H$142,'WHS Event Log'!$P$3:$P$502,'Info Tables'!$B148)","v":0},{"$f":"COUNTIFS('WHS Event Log'!$E$3:$E$502,I$142,'WHS Event Log'!$P$3:$P$502,'Info Tables'!$B148)","v":0},{"$f":"COUNTIFS('WHS Event Log'!$E$3:$E$502,J$142,'WHS Event Log'!$P$3:$P$502,'Info Tables'!$B148)","v":0},{"$f":"COUNTIFS('WHS Event Log'!$E$3:$E$502,K$142,'WHS Event Log'!$P$3:$P$502,'Info Tables'!$B148)","v":0},{"$f":"COUNTIFS('WHS Event Log'!$E$3:$E$502,L$142,'WHS Event Log'!$P$3:$P$502,'Info Tables'!$B148)","v":0},{"$f":"COUNTIFS('WHS Event Log'!$E$3:$E$502,M$142,'WHS Event Log'!$P$3:$P$502,'Info Tables'!$B148)","v":0},{"$f":"COUNTIFS('WHS Event Log'!$E$3:$E$502,N$142,'WHS Event Log'!$P$3:$P$502,'Info Tables'!$B148)","v":0},{"$f":"COUNTIFS('WHS Event Log'!$E$3:$E$502,O$142,'WHS Event Log'!$P$3:$P$502,'Info Tables'!$B148)","v":0},{"$f":"COUNTIFS('WHS Event Log'!$P$3:$P$502,$B148,'WHS Event Log'!$S$3:$S$502,Lists!$E$3)","v":0}]
[null,"Elbow",{"$f":"COUNTIFS('WHS Event Log'!$E$3:$E$502,C$142,'WHS Event Log'!$P$3:$P$502,'Info Tables'!$B149)","v":0},{"$f":"COUNTIFS('WHS Event Log'!$E$3:$E$502,D$142,'WHS Event Log'!$P$3:$P$502,'Info Tables'!$B149)","v":0},{"$f":"COUNTIFS('WHS Event Log'!$E$3:$E$502,E$142,'WHS Event Log'!$P$3:$P$502,'Info Tables'!$B149)","v":0},{"$f":"COUNTIFS('WHS Event Log'!$E$3:$E$502,F$142,'WHS Event Log'!$P$3:$P$502,'Info Tables'!$B149)","v":0},{"$f":"COUNTIFS('WHS Event Log'!$E$3:$E$502,G$142,'WHS Event Log'!$P$3:$P$502,'Info Tables'!$B149)","v":0},{"$f":"COUNTIFS('WHS Event Log'!$E$3:$E$502,H$142,'WHS Event Log'!$P$3:$P$502,'Info Tables'!$B149)","v":0},{"$f":"COUNTIFS('WHS Event Log'!$E$3:$E$502,I$142,'WHS Event Log'!$P$3:$P$502,'Info Tables'!$B149)","v":0},{"$f":"COUNTIFS('WHS Event Log'!$E$3:$E$502,J$142,'WHS Event Log'!$P$3:$P$502,'Info Tables'!$B149)","v":0},{"$f":"COUNTIFS('WHS Event Log'!$E$3:$E$502,K$142,'WHS Event Log'!$P$3:$P$502,'Info Tables'!$B149)","v":0},{"$f":"COUNTIFS('WHS Event Log'!$E$3:$E$502,L$142,'WHS Event Log'!$P$3:$P$502,'Info Tables'!$B149)","v":0},{"$f":"COUNTIFS('WHS Event Log'!$E$3:$E$502,M$142,'WHS Event Log'!$P$3:$P$502,'Info Tables'!$B149)","v":0},{"$f":"COUNTIFS('WHS Event Log'!$E$3:$E$502,N$142,'WHS Event Log'!$P$3:$P$502,'Info Tables'!$B149)","v":0},{"$f":"COUNTIFS('WHS Event Log'!$E$3:$E$502,O$142,'WHS Event Log'!$P$3:$P$502,'Info Tables'!$B149)","v":0},{"$f":"COUNTIFS('WHS Event Log'!$P$3:$P$502,$B149,'WHS Event Log'!$S$3:$S$502,Lists!$E$3)","v":0}]
[null,"Eye",{"$f":"COUNTIFS('WHS Event Log'!$E$3:$E$502,C$142,'WHS Event Log'!$P$3:$P$502,'Info Tables'!$B150)","v":0},{"$f":"COUNTIFS('WHS Event Log'!$E$3:$E$502,D$142,'WHS Event Log'!$P$3:$P$502,'Info Tables'!$B150)","v":0},{"$f":"COUNTIFS('WHS Event Log'!$E$3:$E$502,E$142,'WHS Event Log'!$P$3:$P$502,'Info Tables'!$B150)","v":0},{"$f":"COUNTIFS('WHS Event Log'!$E$3:$E$502,F$142,'WHS Event Log'!$P$3:$P$502,'Info Tables'!$B150)","v":0},{"$f":"COUNTIFS('WHS Event Log'!$E$3:$E$502,G$142,'WHS Event Log'!$P$3:$P$502,'Info Tables'!$B150)","v":0},{"$f":"COUNTIFS('WHS Event Log'!$E$3:$E$502,H$142,'WHS Event Log'!$P$3:$P$502,'Info Tables'!$B150)","v":0},{"$f":"COUNTIFS('WHS Event Log'!$E$3:$E$502,I$142,'WHS Event Log'!$P$3:$P$502,'Info Tables'!$B150)","v":0},{"$f":"COUNTIFS('WHS Event Log'!$E$3:$E$502,J$142,'WHS Event Log'!$P$3:$P$502,'Info Tables'!$B150)","v":0},{"$f":"COUNTIFS('WHS Event Log'!$E$3:$E$502,K$142,'WHS Event Log'!$P$3:$P$502,'Info Tables'!$B150)","v":0},{"$f":"COUNTIFS('WHS Event Log'!$E$3:$E$502,L$142,'WHS Event Log'!$P$3:$P$502,'Info Tables'!$B150)","v":0},{"$f":"COUNTIFS('WHS Event Log'!$E$3:$E$502,M$142,'WHS Event Log'!$P$3:$P$502,'Info Tables'!$B150)","v":0},{"$f":"COUNTIFS('WHS Event Log'!$E$3:$E$502,N$142,'WHS Event Log'!$P$3:$P$502,'Info Tables'!$B150)","v":0},{"$f":"COUNTIFS('WHS Event Log'!$E$3:$E$502,O$142,'WHS Event Log'!$P$3:$P$502,'Info Tables'!$B150)","v":0},{"$f":"COUNTIFS('WHS Event Log'!$P$3:$P$502,$B150,'WHS Event Log'!$S$3:$S$502,Lists!$E$3)","v":0}]
[null,"Face",{"$f":"COUNTIFS('WHS Event Log'!$E$3:$E$502,C$142,'WHS Event Log'!$P$3:$P$502,'Info Tables'!$B151)","v":0},{"$f":"COUNTIFS('WHS Event Log'!$E$3:$E$502,D$142,'WHS Event Log'!$P$3:$P$502,'Info Tables'!$B151)","v":0},{"$f":"COUNTIFS('WHS Event Log'!$E$3:$E$502,E$142,'WHS Event Log'!$P$3:$P$502,'Info Tables'!$B151)","v":0},{"$f":"COUNTIFS('WHS Event Log'!$E$3:$E$502,F$142,'WHS Event Log'!$P$3:$P$502,'Info Tables'!$B151)","v":0},{"$f":"COUNTIFS('WHS Event Log'!$E$3:$E$502,G$142,'WHS Event Log'!$P$3:$P$502,'Info Tables'!$B151)","v":0},{"$f":"COUNTIFS('WHS Event Log'!$E$3:$E$502,H$142,'WHS Event Log'!$P$3:$P$502,'Info Tables'!$B151)","v":0},{"$f":"COUNTIFS('WHS Event Log'!$E$3:$E$502,I$142,'WHS Event Log'!$P$3:$P$502,'Info Tables'!$B151)","v":0},{"$f":"COUNTIFS('WHS Event Log'!$E$3:$E$502,J$142,'WHS Event Log'!$P$3:$P$502,'Info Tables'!$B151)","v":0},{"$f":"COUNTIFS('WHS Event Log'!$E$3:$E$502,K$142,'WHS Event Log'!$P$3:$P$502,'Info Tables'!$B151)","v":0},{"$f":"COUNTIFS('WHS Event Log'!$E$3:$E$502,L$142,'WHS Event Log'!$P$3:$P$502,'Info Tables'!$B151)","v":0},{"$f":"COUNTIFS('WHS Event Log'!$E$3:$E$502,M$142,'WHS Event Log'!$P$3:$P$502,'Info Tables'!$B151)","v":0},{"$f":"COUNTIFS('WHS Event Log'!$E$3:$E$502,N$142,'WHS Event Log'!$P$3:$P$502,'Info Tables'!$B151)","v":0},{"$f":"COUNTIFS('WHS Event Log'!$E$3:$E$502,O$142,'WHS Event Log'!$P$3:$P$502,'Info Tables'!$B151)","v":0},{"$f":"COUNTIFS('WHS Event Log'!$P$3:$P$502,$B151,'WHS Event Log'!$S$3:$S$502,Lists!$E$3)","v":0}]
[null,"Finger",{"$f":"COUNTIFS('WHS Event Log'!$E$3:$E$502,C$142,'WHS Event Log'!$P$3:$P$502,'Info Tables'!$B152)","v":0},{"$f":"COUNTIFS('WHS Event Log'!$E$3:$E$502,D$142,'WHS Event Log'!$P$3:$P$502,'Info Tables'!$B152)","v":0},{"$f":"COUNTIFS('WHS Event Log'!$E$3:$E$502,E$142,'WHS Event Log'!$P$3:$P$502,'Info Tables'!$B152)","v":0},{"$f":"COUNTIFS('WHS Event Log'!$E$3:$E$502,F$142,'WHS Event Log'!$P$3:$P$502,'Info Tables'!$B152)","v":0},{"$f":"COUNTIFS('WHS Event Log'!$E$3:$E$502,G$142,'WHS Event Log'!$P$3:$P$502,'Info Tables'!$B152)","v":0},{"$f":"COUNTIFS('WHS Event Log'!$E$3:$E$502,H$142,'WHS Event Log'!$P$3:$P$502,'Info Tables'!$B152)","v":0},{"$f":"COUNTIFS('WHS Event Log'!$E$3:$E$502,I$142,'WHS Event Log'!$P$3:$P$502,'Info Tables'!$B152)","v":0},{"$f":"COUNTIFS('WHS Event Log'!$E$3:$E$502,J$142,'WHS Event Log'!$P$3:$P$502,'Info Tables'!$B152)","v":0},{"$f":"COUNTIFS('WHS Event Log'!$E$3:$E$502,K$142,'WHS Event Log'!$P$3:$P$502,'Info Tables'!$B152)","v":0},{"$f":"COUNTIFS('WHS Event Log'!$E$3:$E$502,L$142,'WHS Event Log'!$P$3:$P$502,'Info Tables'!$B152)","v":0},{"$f":"COUNTIFS('WHS Event Log'!$E$3:$E$502,M$142,'WHS Event Log'!$P$3:$P$502,'Info Tables'!$B152)","v":0},{"$f":"COUNTIFS('WHS Event Log'!$E$3:$E$502,N$142,'WHS Event Log'!$P$3:$P$502,'Info Tables'!$B152)","v":0},{"$f":"COUNTIFS('WHS Event Log'!$E$3:$E$502,O$142,'WHS Event Log'!$P$3:$P$502,'Info Tables'!$B152)","v":0},{"$f":"COUNTIFS('WHS Event Log'!$P$3:$P$502,$B152,'WHS Event Log'!$S$3:$S$502,Lists!$E$3)","v":0}]
[null,"Foot",{"$f":"COUNTIFS('WHS Event Log'!$E$3:$E$502,C$142,'WHS Event Log'!$P$3:$P$502,'Info Tables'!$B153)","v":0},{"$f":"COUNTIFS('WHS Event Log'!$E$3:$E$502,D$142,'WHS Event Log'!$P$3:$P$502,'Info Tables'!$B153)","v":0},{"$f":"COUNTIFS('WHS Event Log'!$E$3:$E$502,E$142,'WHS Event Log'!$P$3:$P$502,'Info Tables'!$B153)","v":0},{"$f":"COUNTIFS('WHS Event Log'!$E$3:$E$502,F$142,'WHS Event Log'!$P$3:$P$502,'Info Tables'!$B153)","v":0},{"$f":"COUNTIFS('WHS Event Log'!$E$3:$E$502,G$142,'WHS Event Log'!$P$3:$P$502,'Info Tables'!$B153)","v":0},{"$f":"COUNTIFS('WHS Event Log'!$E$3:$E$502,H$142,'WHS Event Log'!$P$3:$P$502,'Info Tables'!$B153)","v":0},{"$f":"COUNTIFS('WHS Event Log'!$E$3:$E$502,I$142,'WHS Event Log'!$P$3:$P$502,'Info Tables'!$B153)","v":0},{"$f":"COUNTIFS('WHS Event Log'!$E$3:$E$502,J$142,'WHS Event Log'!$P$3:$P$502,'Info Tables'!$B153)","v":0},{"$f":"COUNTIFS('WHS Event Log'!$E$3:$E$502,K$142,'WHS Event Log'!$P$3:$P$502,'Info Tables'!$B153)","v":0},{"$f":"COUNTIFS('WHS Event Log'!$E$3:$E$502,L$142,'WHS Event Log'!$P$3:$P$502,'Info Tables'!$B153)","v":0},{"$f":"COUNTIFS('WHS Event Log'!$E$3:$E$502,M$142,'WHS Event Log'!$P$3:$P$502,'Info Tables'!$B153)","v":0},{"$f":"COUNTIFS('WHS Event Log'!$E$3:$E$502,N$142,'WHS Event Log'!$P$3:$P$502,'Info Tables'!$B153)","v":0},{"$f":"COUNTIFS('WHS Event Log'!$E$3:$E$502,O$142,'WHS Event Log'!$P$3:$P$502,'Info Tables'!$B153)","v":0},{"$f":"COUNTIFS('WHS Event Log'!$P$3:$P$502,$B153,'WHS Event Log'!$S$3:$S$502,Lists!$E$3)","v":0}]
[null,"Groin",{"$f":"COUNTIFS('WHS Event Log'!$E$3:$E$502,C$142,'WHS Event Log'!$P$3:$P$502,'Info Tables'!$B154)","v":0},{"$f":"COUNTIFS('WHS Event Log'!$E$3:$E$502,D$142,'WHS Event Log'!$P$3:$P$502,'Info Tables'!$B154)","v":0},{"$f":"COUNTIFS('WHS Event Log'!$E$3:$E$502,E$142,'WHS Event Log'!$P$3:$P$502,'Info Tables'!$B154)","v":0},{"$f":"COUNTIFS('WHS Event Log'!$E$3:$E$502,F$142,'WHS Event Log'!$P$3:$P$502,'Info Tables'!$B154)","v":0},{"$f":"COUNTIFS('WHS Event Log'!$E$3:$E$502,G$142,'WHS Event Log'!$P$3:$P$502,'Info Tables'!$B154)","v":0},{"$f":"COUNTIFS('WHS Event Log'!$E$3:$E$502,H$142,'WHS Event Log'!$P$3:$P$502,'Info Tables'!$B154)","v":0},{"$f":"COUNTIFS('WHS Event Log'!$E$3:$E$502,I$142,'WHS Event Log'!$P$3:$P$502,'Info Tables'!$B154)","v":0},{"$f":"COUNTIFS('WHS Event Log'!$E$3:$E$502,J$142,'WHS Event Log'!$P$3:$P$502,'Info Tables'!$B154)","v":0},{"$f":"COUNTIFS('WHS Event Log'!$E$3:$E$502,K$142,'WHS Event Log'!$P$3:$P$502,'Info Tables'!$B154)","v":0},{"$f":"COUNTIFS('WHS Event Log'!$E$3:$E$502,L$142,'WHS Event Log'!$P$3:$P$502,'Info Tables'!$B154)","v":0},{"$f":"COUNTIFS('WHS Event Log'!$E$3:$E$502,M$142,'WHS Event Log'!$P$3:$P$502,'Info Tables'!$B154)","v":0},{"$f":"COUNTIFS('WHS Event Log'!$E$3:$E$502,N$142,'WHS Event Log'!$P$3:$P$502,'Info Tables'!$B154)","v":0},{"$f":"COUNTIFS('WHS Event Log'!$E$3:$E$502,O$142,'WHS Event Log'!$P$3:$P$502,'Info Tables'!$B154)","v":0},{"$f":"COUNTIFS('WHS Event Log'!$P$3:$P$502,$B154,'WHS Event Log'!$S$3:$S$502,Lists!$E$3)","v":0}]
[null,"Hand",{"$f":"COUNTIFS('WHS Event Log'!$E$3:$E$502,C$142,'WHS Event Log'!$P$3:$P$502,'Info Tables'!$B155)","v":0},{"$f":"COUNTIFS('WHS Event Log'!$E$3:$E$502,D$142,'WHS Event Log'!$P$3:$P$502,'Info Tables'!$B155)","v":0},{"$f":"COUNTIFS('WHS Event Log'!$E$3:$E$502,E$142,'WHS Event Log'!$P$3:$P$502,'Info Tables'!$B155)","v":0},{"$f":"COUNTIFS('WHS Event Log'!$E$3:$E$502,F$142,'WHS Event Log'!$P$3:$P$502,'Info Tables'!$B155)","v":0},{"$f":"COUNTIFS('WHS Event Log'!$E$3:$E$502,G$142,'WHS Event Log'!$P$3:$P$502,'Info Tables'!$B155)","v":0},{"$f":"COUNTIFS('WHS Event Log'!$E$3:$E$502,H$142,'WHS Event Log'!$P$3:$P$502,'Info Tables'!$B155)","v":0},{"$f":"COUNTIFS('WHS Event Log'!$E$3:$E$502,I$142,'WHS Event Log'!$P$3:$P$502,'Info Tables'!$B155)","v":0},{"$f":"COUNTIFS('WHS Event Log'!$E$3:$E$502,J$142,'WHS Event Log'!$P$3:$P$502,'Info Tables'!$B155)","v":0},{"$f":"COUNTIFS('WHS Event Log'!$E$3:$E$502,K$142,'WHS Event Log'!$P$3:$P$502,'Info Tables'!$B155)","v":0},{"$f":"COUNTIFS('WHS Event Log'!$E$3:$E$502,L$142,'WHS Event Log'!$P$3:$P$502,'Info Tables'!$B155)","v":0},{"$f":"COUNTIFS('WHS Event Log'!$E$3:$E$502,M$142,'WHS Event Log'!$P$3:$P$502,'Info Tables'!$B155)","v":0},{"$f":"COUNTIFS('WHS Event Log'!$E$3:$E$502,N$142,'WHS Event Log'!$P$3:$P$502,'Info Tables'!$B155)","v":0},{"$f":"COUNTIFS('WHS Event Log'!$E$3:$E$502,O$142,'WHS Event Log'!$P$3:$P$502,'Info Tables'!$B155)","v":0},{"$f":"COUNTIFS('WHS Event Log'!$P$3:$P$502,$B155,'WHS Event Log'!$S$3:$S$502,Lists!$E$3)","v":0}]
[null,"Head",{"$f":"COUNTIFS('WHS Event Log'!$E$3:$E$502,C$142,'WHS Event Log'!$P$3:$P$502,'Info Tables'!$B156)","v":0},{"$f":"COUNTIFS('WHS Event Log'!$E$3:$E$502,D$142,'WHS Event Log'!$P$3:$P$502,'Info Tables'!$B156)","v":0},{"$f":"COUNTIFS('WHS Event Log'!$E$3:$E$502,E$142,'WHS Event Log'!$P$3:$P$502,'Info Tables'!$B156)","v":0},{"$f":"COUNTIFS('WHS Event Log'!$E$3:$E$502,F$142,'WHS Event Log'!$P$3:$P$502,'Info Tables'!$B156)","v":0},{"$f":"COUNTIFS('WHS Event Log'!$E$3:$E$502,G$142,'WHS Event Log'!$P$3:$P$502,'Info Tables'!$B156)","v":0},{"$f":"COUNTIFS('WHS Event Log'!$E$3:$E$502,H$142,'WHS Event Log'!$P$3:$P$502,'Info Tables'!$B156)","v":0},{"$f":"COUNTIFS('WHS Event Log'!$E$3:$E$502,I$142,'WHS Event Log'!$P$3:$P$502,'Info Tables'!$B156)","v":0},{"$f":"COUNTIFS('WHS Event Log'!$E$3:$E$502,J$142,'WHS Event Log'!$P$3:$P$502,'Info Tables'!$B156)","v":0},{"$f":"COUNTIFS('WHS Event Log'!$E$3:$E$502,K$142,'WHS Event Log'!$P$3:$P$502,'Info Tables'!$B156)","v":0},{"$f":"COUNTIFS('WHS Event Log'!$E$3:$E$502,L$142,'WHS Event Log'!$P$3:$P$502,'Info Tables'!$B156)","v":0},{"$f":"COUNTIFS('WHS Event Log'!$E$3:$E$502,M$142,'WHS Event Log'!$P$3:$P$502,'Info Tables'!$B156)","v":0},{"$f":"COUNTIFS('WHS Event Log'!$E$3:$E$502,N$142,'WHS Event Log'!$P$3:$P$502,'Info Tables'!$B156)","v":0},{"$f":"COUNTIFS('WHS Event Log'!$E$3:$E$502,O$142,'WHS Event Log'!$P$3:$P$502,'Info Tables'!$B156)","v":0},{"$f":"COUNTIFS('WHS Event Log'!$P$3:$P$502,$B156,'WHS Event Log'!$S$3:$S$502,Lists!$E$3)","v":0}]
[null,"Internal",{"$f":"COUNTIFS('WHS Event Log'!$E$3:$E$502,C$142,'WHS Event Log'!$P$3:$P$502,'Info Tables'!$B157)","v":0},{"$f":"COUNTIFS('WHS Event Log'!$E$3:$E$502,D$142,'WHS Event Log'!$P$3:$P$502,'Info Tables'!$B157)","v":0},{"$f":"COUNTIFS('WHS Event Log'!$E$3:$E$502,E$142,'WHS Event Log'!$P$3:$P$502,'Info Tables'!$B157)","v":0},{"$f":"COUNTIFS('WHS Event Log'!$E$3:$E$502,F$142,'WHS Event Log'!$P$3:$P$502,'Info Tables'!$B157)","v":0},{"$f":"COUNTIFS('WHS Event Log'!$E$3:$E$502,G$142,'WHS Event Log'!$P$3:$P$502,'Info Tables'!$B157)","v":0},{"$f":"COUNTIFS('WHS Event Log'!$E$3:$E$502,H$142,'WHS Event Log'!$P$3:$P$502,'Info Tables'!$B157)","v":0},{"$f":"COUNTIFS('WHS Event Log'!$E$3:$E$502,I$142,'WHS Event Log'!$P$3:$P$502,'Info Tables'!$B157)","v":0},{"$f":"COUNTIFS('WHS Event Log'!$E$3:$E$502,J$142,'WHS Event Log'!$P$3:$P$502,'Info Tables'!$B157)","v":0},{"$f":"COUNTIFS('WHS Event Log'!$E$3:$E$502,K$142,'WHS Event Log'!$P$3:$P$502,'Info Tables'!$B157)","v":0},{"$f":"COUNTIFS('WHS Event Log'!$E$3:$E$502,L$142,'WHS Event Log'!$P$3:$P$502,'Info Tables'!$B157)","v":0},{"$f":"COUNTIFS('WHS Event Log'!$E$3:$E$502,M$142,'WHS Event Log'!$P$3:$P$502,'Info Tables'!$B157)","v":0},{"$f":"COUNTIFS('WHS Event Log'!$E$3:$E$502,N$142,'WHS Event Log'!$P$3:$P$502,'Info Tables'!$B157)","v":0},{"$f":"COUNTIFS('WHS Event Log'!$E$3:$E$502,O$142,'WHS Event Log'!$P$3:$P$502,'Info Tables'!$B157)","v":0},{"$f":"COUNTIFS('WHS Event Log'!$P$3:$P$502,$B157,'WHS Event Log'!$S$3:$S$502,Lists!$E$3)","v":0}]
[null,"Knee",{"$f":"COUNTIFS('WHS Event Log'!$E$3:$E$502,C$142,'WHS Event Log'!$P$3:$P$502,'Info Tables'!$B158)","v":0},{"$f":"COUNTIFS('WHS Event Log'!$E$3:$E$502,D$142,'WHS Event Log'!$P$3:$P$502,'Info Tables'!$B158)","v":0},{"$f":"COUNTIFS('WHS Event Log'!$E$3:$E$502,E$142,'WHS Event Log'!$P$3:$P$502,'Info Tables'!$B158)","v":0},{"$f":"COUNTIFS('WHS Event Log'!$E$3:$E$502,F$142,'WHS Event Log'!$P$3:$P$502,'Info Tables'!$B158)","v":0},{"$f":"COUNTIFS('WHS Event Log'!$E$3:$E$502,G$142,'WHS Event Log'!$P$3:$P$502,'Info Tables'!$B158)","v":0},{"$f":"COUNTIFS('WHS Event Log'!$E$3:$E$502,H$142,'WHS Event Log'!$P$3:$P$502,'Info Tables'!$B158)","v":0},{"$f":"COUNTIFS('WHS Event Log'!$E$3:$E$502,I$142,'WHS Event Log'!$P$3:$P$502,'Info Tables'!$B158)","v":0},{"$f":"COUNTIFS('WHS Event Log'!$E$3:$E$502,J$142,'WHS Event Log'!$P$3:$P$502,'Info Tables'!$B158)","v":0},{"$f":"COUNTIFS('WHS Event Log'!$E$3:$E$502,K$142,'WHS Event Log'!$P$3:$P$502,'Info Tables'!$B158)","v":0},{"$f":"COUNTIFS('WHS Event Log'!$E$3:$E$502,L$142,'WHS Event Log'!$P$3:$P$502,'Info Tables'!$B158)","v":0},{"$f":"COUNTIFS('WHS Event Log'!$E$3:$E$502,M$142,'WHS Event Log'!$P$3:$P$502,'Info Tables'!$B158)","v":0},{"$f":"COUNTIFS('WHS Event Log'!$E$3:$E$502,N$142,'WHS Event Log'!$P$3:$P$502,'Info Tables'!$B158)","v":0},{"$f":"SUM(C158:N158)","v":0},{"$f":"COUNTIFS('WHS Event Log'!$P$3:$P$502,$B158,'WHS Event Log'!$S$3:$S$502,Lists!$E$3)","v":0}]
[null,"Lower Arm",{"$f":"COUNTIFS('WHS Event Log'!$E$3:$E$502,C$142,'WHS Event Log'!$P$3:$P$502,'Info Tables'!$B159)","v":0},{"$f":"COUNTIFS('WHS Event Log'!$E$3:$E$502,D$142,'WHS Event Log'!$P$3:$P$502,'Info Tables'!$B159)","v":0},{"$f":"COUNTIFS('WHS Event Log'!$E$3:$E$502,E$142,'WHS Event Log'!$P$3:$P$502,'Info Tables'!$B159)","v":0},{"$f":"COUNTIFS('WHS Event Log'!$E$3:$E$502,F$142,'WHS Event Log'!$P$3:$P$502,'Info Tables'!$B159)","v":0},{"$f":"COUNTIFS('WHS Event Log'!$E$3:$E$502,G$142,'WHS Event Log'!$P$3:$P$502,'Info Tables'!$B159)","v":0},{"$f":"COUNTIFS('WHS Event Log'!$E$3:$E$502,H$142,'WHS Event Log'!$P$3:$P$502,'Info Tables'!$B159)","v":0},{"$f":"COUNTIFS('WHS Event Log'!$E$3:$E$502,I$142,'WHS Event Log'!$P$3:$P$502,'Info Tables'!$B159)","v":0},{"$f":"COUNTIFS('WHS Event Log'!$E$3:$E$502,J$142,'WHS Event Log'!$P$3:$P$502,'Info Tables'!$B159)","v":0},{"$f":"COUNTIFS('WHS Event Log'!$E$3:$E$502,K$142,'WHS Event Log'!$P$3:$P$502,'Info Tables'!$B159)","v":0},{"$f":"COUNTIFS('WHS Event Log'!$E$3:$E$502,L$142,'WHS Event Log'!$P$3:$P$502,'Info Tables'!$B159)","v":0},{"$f":"COUNTIFS('WHS Event Log'!$E$3:$E$502,M$142,'WHS Event Log'!$P$3:$P$502,'Info Tables'!$B159)","v":0},{"$f":"COUNTIFS('WHS Event Log'!$E$3:$E$502,N$142,'WHS Event Log'!$P$3:$P$502,'Info Tables'!$B159)","v":0},0,{"$f":"COUNTIFS('WHS Event Log'!$P$3:$P$502,$B159,'WHS Event Log'!$S$3:$S$502,Lists!$E$3)","v":0}]
[null,"Lower Back",{"$f":"COUNTIFS('WHS Event Log'!$E$3:$E$502,C$142,'WHS Event Log'!$P$3:$P$502,'Info Tables'!$B160)","v":0},{"$f":"COUNTIFS('WHS Event Log'!$E$3:$E$502,D$142,'WHS Event Log'!$P$3:$P$502,'Info Tables'!$B160)","v":0},{"$f":"COUNTIFS('WHS Event Log'!$E$3:$E$502,E$142,'WHS Event Log'!$P$3:$P$502,'Info Tables'!$B160)","v":0},{"$f":"COUNTIFS('WHS Event Log'!$E$3:$E$502,F$142,'WHS Event Log'!$P$3:$P$502,'Info Tables'!$B160)","v":0},{"$f":"COUNTIFS('WHS Event Log'!$E$3:$E$502,G$142,'WHS Event Log'!$P$3:$P$502,'Info Tables'!$B160)","v":0},{"$f":"COUNTIFS('WHS Event Log'!$E$3:$E$502,H$142,'WHS Event Log'!$P$3:$P$502,'Info Tables'!$B160)","v":0},{"$f":"COUNTIFS('WHS Event Log'!$E$3:$E$502,I$142,'WHS Event Log'!$P$3:$P$502,'Info Tables'!$B160)","v":0},{"$f":"COUNTIFS('WHS Event Log'!$E$3:$E$502,J$142,'WHS Event Log'!$P$3:$P$502,'Info Tables'!$B160)","v":0},{"$f":"COUNTIFS('WHS Event Log'!$E$3:$E$502,K$142,'WHS Event Log'!$P$3:$P$502,'Info Tables'!$B160)","v":0},{"$f":"COUNTIFS('WHS Event Log'!$E$3:$E$502,L$142,'WHS Event Log'!$P$3:$P$502,'Info Tables'!$B160)","v":0},{"$f":"COUNTIFS('WHS Event Log'!$E$3:$E$502,M$142,'WHS Event Log'!$P$3:$P$502,'Info Tables'!$B160)","v":0},{"$f":"COUNTIFS('WHS Event Log'!$E$3:$E$502,N$142,'WHS Event Log'!$P$3:$P$502,'Info Tables'!$B160)","v":0},0,{"$f":"COUNTIFS('WHS Event Log'!$P$3:$P$502,$B160,'WHS Event Log'!$S$3:$S$502,Lists!$E$3)","v":0}]
[null,"Lower Leg",{"$f":"COUNTIFS('WHS Event Log'!$E$3:$E$502,C$142,'WHS Event Log'!$P$3:$P$502,'Info Tables'!$B161)","v":0},{"$f":"COUNTIFS('WHS Event Log'!$E$3:$E$502,D$142,'WHS Event Log'!$P$3:$P$502,'Info Tables'!$B161)","v":0},{"$f":"COUNTIFS('WHS Event Log'!$E$3:$E$502,E$142,'WHS Event Log'!$P$3:$P$502,'Info Tables'!$B161)","v":0},{"$f":"COUNTIFS('WHS Event Log'!$E$3:$E$502,F$142,'WHS Event Log'!$P$3:$P$502,'Info Tables'!$B161)","v":0},{"$f":"COUNTIFS('WHS Event Log'!$E$3:$E$502,G$142,'WHS Event Log'!$P$3:$P$502,'Info Tables'!$B161)","v":0},{"$f":"COUNTIFS('WHS Event Log'!$E$3:$E$502,H$142,'WHS Event Log'!$P$3:$P$502,'Info Tables'!$B161)","v":0},{"$f":"COUNTIFS('WHS Event Log'!$E$3:$E$502,I$142,'WHS Event Log'!$P$3:$P$502,'Info Tables'!$B161)","v":0},{"$f":"COUNTIFS('WHS Event Log'!$E$3:$E$502,J$142,'WHS Event Log'!$P$3:$P$502,'Info Tables'!$B161)","v":0},{"$f":"COUNTIFS('WHS Event Log'!$E$3:$E$502,K$142,'WHS Event Log'!$P$3:$P$502,'Info Tables'!$B161)","v":0},{"$f":"COUNTIFS('WHS Event Log'!$E$3:$E$502,L$142,'WHS Event Log'!$P$3:$P$502,'Info Tables'!$B161)","v":0},{"$f":"COUNTIFS('WHS Event Log'!$E$3:$E$502,M$142,'WHS Event Log'!$P$3:$P$502,'Info Tables'!$B161)","v":0},{"$f":"COUNTIFS('WHS Event Log'!$E$3:$E$502,N$142,'WHS Event Log'!$P$3:$P$502,'Info Tables'!$B161)","v":0},0,{"$f":"COUNTIFS('WHS Event Log'!$P$3:$P$502,$B161,'WHS Event Log'!$S$3:$S$502,Lists!$E$3)","v":0}]
[null,"Mouth",{"$f":"COUNTIFS('WHS Event Log'!$E$3:$E$502,C$142,'WHS Event Log'!$P$3:$P$502,'Info Tables'!$B162)","v":0},{"$f":"COUNTIFS('WHS Event Log'!$E$3:$E$502,D$142,'WHS Event Log'!$P$3:$P$502,'Info Tables'!$B162)","v":0},{"$f":"COUNTIFS('WHS Event Log'!$E$3:$E$502,E$142,'WHS Event Log'!$P$3:$P$502,'Info Tables'!$B162)","v":0},{"$f":"COUNTIFS('WHS Event Log'!$E$3:$E$502,F$142,'WHS Event Log'!$P$3:$P$502,'Info Tables'!$B162)","v":0},{"$f":"COUNTIFS('WHS Event Log'!$E$3:$E$502,G$142,'WHS Event Log'!$P$3:$P$502,'Info Tables'!$B162)","v":0},{"$f":"COUNTIFS('WHS Event Log'!$E$3:$E$502,H$142,'WHS Event Log'!$P$3:$P$502,'Info Tables'!$B162)","v":0},{"$f":"COUNTIFS('WHS Event Log'!$E$3:$E$502,I$142,'WHS Event Log'!$P$3:$P$502,'Info Tables'!$B162)","v":0},{"$f":"COUNTIFS('WHS Event Log'!$E$3:$E$502,J$142,'WHS Event Log'!$P$3:$P$502,'Info Tables'!$B162)","v":0},{"$f":"COUNTIFS('WHS Event Log'!$E$3:$E$502,K$142,'WHS Event Log'!$P$3:$P$502,'Info Tables'!$B162)","v":0},{"$f":"COUNTIFS('WHS Event Log'!$E$3:$E$502,L$142,'WHS Event Log'!$P$3:$P$502,'Info Tables'!$B162)","v":0},{"$f":"COUNTIFS('WHS Event Log'!$E$3:$E$502,M$142,'WHS Event Log'!$P$3:$P$502,'Info Tables'!$B162)","v":0},{"$f":"COUNTIFS('WHS Event Log'!$E$3:$E$502,N$142,'WHS Event Log'!$P$3:$P$502,'Info Tables'!$B162)","v":0},0,{"$f":"COUNTIFS('WHS Event Log'!$P$3:$P$502,$B162,'WHS Event Log'!$S$3:$S$502,Lists!$E$3)","v":0}]
[null,"Neck",{"$f":"COUNTIFS('WHS Event Log'!$E$3:$E$502,C$142,'WHS Event Log'!$P$3:$P$502,'Info Tables'!$B163)","v":0},{"$f":"COUNTIFS('WHS Event Log'!$E$3:$E$502,D$142,'WHS Event Log'!$P$3:$P$502,'Info Tables'!$B163)","v":0},{"$f":"COUNTIFS('WHS Event Log'!$E$3:$E$502,E$142,'WHS Event Log'!$P$3:$P$502,'Info Tables'!$B163)","v":0},{"$f":"COUNTIFS('WHS Event Log'!$E$3:$E$502,F$142,'WHS Event Log'!$P$3:$P$502,'Info Tables'!$B163)","v":0},{"$f":"COUNTIFS('WHS Event Log'!$E$3:$E$502,G$142,'WHS Event Log'!$P$3:$P$502,'Info Tables'!$B163)","v":0},{"$f":"COUNTIFS('WHS Event Log'!$E$3:$E$502,H$142,'WHS Event Log'!$P$3:$P$502,'Info Tables'!$B163)","v":0},{"$f":"COUNTIFS('WHS Event Log'!$E$3:$E$502,I$142,'WHS Event Log'!$P$3:$P$502,'Info Tables'!$B163)","v":0},{"$f":"COUNTIFS('WHS Event Log'!$E$3:$E$502,J$142,'WHS Event Log'!$P$3:$P$502,'Info Tables'!$B163)","v":0},{"$f":"COUNTIFS('WHS Event Log'!$E$3:$E$502,K$142,'WHS Event Log'!$P$3:$P$502,'Info Tables'!$B163)","v":0},{"$f":"COUNTIFS('WHS Event Log'!$E$3:$E$502,L$142,'WHS Event Log'!$P$3:$P$502,'Info Tables'!$B163)","v":0},{"$f":"COUNTIFS('WHS Event Log'!$E$3:$E$502,M$142,'WHS Event Log'!$P$3:$P$502,'Info Tables'!$B163)","v":0},{"$f":"COUNTIFS('WHS Event Log'!$E$3:$E$502,N$142,'WHS Event Log'!$P$3:$P$502,'Info Tables'!$B163)","v":0},0,{"$f":"COUNTIFS('WHS Event Log'!$P$3:$P$502,$B163,'WHS Event Log'!$S$3:$S$502,Lists!$E$3)","v":0}]
[null,"Nose",{"$f":"COUNTIFS('WHS Event Log'!$E$3:$E$502,C$142,'WHS Event Log'!$P$3:$P$502,'Info Tables'!$B164)","v":0},{"$f":"COUNTIFS('WHS Event Log'!$E$3:$E$502,D$142,'WHS Event Log'!$P$3:$P$502,'Info Tables'!$B164)","v":0},{"$f":"COUNTIFS('WHS Event Log'!$E$3:$E$502,E$142,'WHS Event Log'!$P$3:$P$502,'Info Tables'!$B164)","v":0},{"$f":"COUNTIFS('WHS Event Log'!$E$3:$E$502,F$142,'WHS Event Log'!$P$3:$P$502,'Info Tables'!$B164)","v":0},{"$f":"COUNTIFS('WHS Event Log'!$E$3:$E$502,G$142,'WHS Event Log'!$P$3:$P$502,'Info Tables'!$B164)","v":0},{"$f":"COUNTIFS('WHS Event Log'!$E$3:$E$502,H$142,'WHS Event Log'!$P$3:$P$502,'Info Tables'!$B164)","v":0},{"$f":"COUNTIFS('WHS Event Log'!$E$3:$E$502,I$142,'WHS Event Log'!$P$3:$P$502,'Info Tables'!$B164)","v":0},{"$f":"COUNTIFS('WHS Event Log'!$E$3:$E$502,J$142,'WHS Event Log'!$P$3:$P$502,'Info Tables'!$B164)","v":0},{"$f":"COUNTIFS('WHS Event Log'!$E$3:$E$502,K$142,'WHS Event Log'!$P$3:$P$502,'Info Tables'!$B164)","v":0},{"$f":"COUNTIFS('WHS Event Log'!$E$3:$E$502,L$142,'WHS Event Log'!$P$3:$P$502,'Info Tables'!$B164)","v":0},{"$f":"COUNTIFS('WHS Event Log'!$E$3:$E$502,M$142,'WHS Event Log'!$P$3:$P$502,'Info Tables'!$B164)","v":0},{"$f":"COUNTIFS('WHS Event Log'!$E$3:$E$502,N$142,'WHS Event Log'!$P$3:$P$502,'Info Tables'!$B164)","v":0},0,{"$f":"COUNTIFS('WHS Event Log'!$P$3:$P$502,$B164,'WHS Event Log'!$S$3:$S$502,Lists!$E$3)","v":0}]
[null,"Scalp",{"$f":"COUNTIFS('WHS Event Log'!$E$3:$E$502,C$142,'WHS Event Log'!$P$3:$P$502,'Info Tables'!$B165)","v":0},{"$f":"COUNTIFS('WHS Event Log'!$E$3:$E$502,D$142,'WHS Event Log'!$P$3:$P$502,'Info Tables'!$B165)","v":0},{"$f":"COUNTIFS('WHS Event Log'!$E$3:$E$502,E$142,'WHS Event Log'!$P$3:$P$502,'Info Tables'!$B165)","v":0},{"$f":"COUNTIFS('WHS Event Log'!$E$3:$E$502,F$142,'WHS Event Log'!$P$3:$P$502,'Info Tables'!$B165)","v":0},{"$f":"COUNTIFS('WHS Event Log'!$E$3:$E$502,G$142,'WHS Event Log'!$P$3:$P$502,'Info Tables'!$B165)","v":0},{"$f":"COUNTIFS('WHS Event Log'!$E$3:$E$502,H$142,'WHS Event Log'!$P$3:$P$502,'Info Tables'!$B165)","v":0},{"$f":"COUNTIFS('WHS Event Log'!$E$3:$E$502,I$142,'WHS Event Log'!$P$3:$P$502,'Info Tables'!$B165)","v":0},{"$f":"COUNTIFS('WHS Event Log'!$E$3:$E$502,J$142,'WHS Event Log'!$P$3:$P$502,'Info Tables'!$B165)","v":0},{"$f":"COUNTIFS('WHS Event Log'!$E$3:$E$502,K$142,'WHS Event Log'!$P$3:$P$502,'Info Tables'!$B165)","v":0},{"$f":"COUNTIFS('WHS Event Log'!$E$3:$E$502,L$142,'WHS Event Log'!$P$3:$P$502,'Info Tables'!$B165)","v":0},{"$f":"COUNTIFS('WHS Event Log'!$E$3:$E$502,M$142,'WHS Event Log'!$P$3:$P$502,'Info Tables'!$B165)","v":0},{"$f":"COUNTIFS('WHS Event Log'!$E$3:$E$502,N$142,'WHS Event Log'!$P$3:$P$502,'Info Tables'!$B165)","v":0},0,{"$f":"COUNTIFS('WHS Event Log'!$P$3:$P$502,$B165,'WHS Event Log'!$S$3:$S$502,Lists!$E$3)","v":0}]
[null,"Shoulder",{"$f":"COUNTIFS('WHS Event Log'!$E$3:$E$502,C$142,'WHS Event Log'!$P$3:$P$502,'Info Tables'!$B166)","v":0},{"$f":"COUNTIFS('WHS Event Log'!$E$3:$E$502,D$142,'WHS Event Log'!$P$3:$P$502,'Info Tables'!$B166)","v":0},{"$f":"COUNTIFS('WHS Event Log'!$E$3:$E$502,E$142,'WHS Event Log'!$P$3:$P$502,'Info Tables'!$B166)","v":0},{"$f":"COUNTIFS('WHS Event Log'!$E$3:$E$502,F$142,'WHS Event Log'!$P$3:$P$502,'Info Tables'!$B166)","v":0},{"$f":"COUNTIFS('WHS Event Log'!$E$3:$E$502,G$142,'WHS Event Log'!$P$3:$P$502,'Info Tables'!$B166)","v":0},{"$f":"COUNTIFS('WHS Event Log'!$E$3:$E$502,H$142,'WHS Event Log'!$P$3:$P$502,'Info Tables'!$B166)","v":0},{"$f":"COUNTIFS('WHS Event Log'!$E$3:$E$502,I$142,'WHS Event Log'!$P$3:$P$502,'Info Tables'!$B166)","v":0},{"$f":"COUNTIFS('WHS Event Log'!$E$3:$E$502,J$142,'WHS Event Log'!$P$3:$P$502,'Info Tables'!$B166)","v":0},{"$f":"COUNTIFS('WHS Event Log'!$E$3:$E$502,K$142,'WHS Event Log'!$P$3:$P$502,'Info Tables'!$B166)","v":0},{"$f":"COUNTIFS('WHS Event Log'!$E$3:$E$502,L$142,'WHS Event Log'!$P$3:$P$502,'Info Tables'!$B166)","v":0},{"$f":"COUNTIFS('WHS Event Log'!$E$3:$E$502,M$142,'WHS Event Log'!$P$3:$P$502,'Info Tables'!$B166)","v":0},{"$f":"COUNTIFS('WHS Event Log'!$E$3:$E$502,N$142,'WHS Event Log'!$P$3:$P$502,'Info Tables'!$B166)","v":0},0,{"$f":"COUNTIFS('WHS Event Log'!$P$3:$P$502,$B166,'WHS Event Log'!$S$3:$S$502,Lists!$E$3)","v":0}]
[null,"Throat",{"$f":"COUNTIFS('WHS Event Log'!$E$3:$E$502,C$142,'WHS Event Log'!$P$3:$P$502,'Info Tables'!$B167)","v":0},{"$f":"COUNTIFS('WHS Event Log'!$E$3:$E$502,D$142,'WHS Event Log'!$P$3:$P$502,'Info Tables'!$B167)","v":0},{"$f":"COUNTIFS('WHS Event Log'!$E$3:$E$502,E$142,'WHS Event Log'!$P$3:$P$502,'Info Tables'!$B167)","v":0},{"$f":"COUNTIFS('WHS Event Log'!$E$3:$E$502,F$142,'WHS Event Log'!$P$3:$P$502,'Info Tables'!$B167)","v":0},{"$f":"COUNTIFS('WHS Event Log'!$E$3:$E$502,G$142,'WHS Event Log'!$P$3:$P$502,'Info Tables'!$B167)","v":0},{"$f":"COUNTIFS('WHS Event Log'!$E$3:$E$502,H$142,'WHS Event Log'!$P$3:$P$502,'Info Tables'!$B167)","v":0},{"$f":"COUNTIFS('WHS Event Log'!$E$3:$E$502,I$142,'WHS Event Log'!$P$3:$P$502,'Info Tables'!$B167)","v":0},{"$f":"COUNTIFS('WHS Event Log'!$E$3:$E$502,J$142,'WHS Event Log'!$P$3:$P$502,'Info Tables'!$B167)","v":0},{"$f":"COUNTIFS('WHS Event Log'!$E$3:$E$502,K$142,'WHS Event Log'!$P$3:$P$502,'Info Tables'!$B167)","v":0},{"$f":"COUNTIFS('WHS Event Log'!$E$3:$E$502,L$142,'WHS Event Log'!$P$3:$P$502,'Info Tables'!$B167)","v":0},{"$f":"COUNTIFS('WHS Event Log'!$E$3:$E$502,M$142,'WHS Event Log'!$P$3:$P$502,'Info Tables'!$B167)","v":0},{"$f":"COUNTIFS('WHS Event Log'!$E$3:$E$502,N$142,'WHS Event Log'!$P$3:$P$502,'Info Tables'!$B167)","v":0},0,{"$f":"COUNTIFS('WHS Event Log'!$P$3:$P$502,$B167,'WHS Event Log'!$S$3:$S$502,Lists!$E$3)","v":0}]
[null,"Toe",{"$f":"COUNTIFS('WHS Event Log'!$E$3:$E$502,C$142,'WHS Event Log'!$P$3:$P$502,'Info Tables'!$B168)","v":0},{"$f":"COUNTIFS('WHS Event Log'!$E$3:$E$502,D$142,'WHS Event Log'!$P$3:$P$502,'Info Tables'!$B168)","v":0},{"$f":"COUNTIFS('WHS Event Log'!$E$3:$E$502,E$142,'WHS Event Log'!$P$3:$P$502,'Info Tables'!$B168)","v":0},{"$f":"COUNTIFS('WHS Event Log'!$E$3:$E$502,F$142,'WHS Event Log'!$P$3:$P$502,'Info Tables'!$B168)","v":0},{"$f":"COUNTIFS('WHS Event Log'!$E$3:$E$502,G$142,'WHS Event Log'!$P$3:$P$502,'Info Tables'!$B168)","v":0},{"$f":"COUNTIFS('WHS Event Log'!$E$3:$E$502,H$142,'WHS Event Log'!$P$3:$P$502,'Info Tables'!$B168)","v":0},{"$f":"COUNTIFS('WHS Event Log'!$E$3:$E$502,I$142,'WHS Event Log'!$P$3:$P$502,'Info Tables'!$B168)","v":0},{"$f":"COUNTIFS('WHS Event Log'!$E$3:$E$502,J$142,'WHS Event Log'!$P$3:$P$502,'Info Tables'!$B168)","v":0},{"$f":"COUNTIFS('WHS Event Log'!$E$3:$E$502,K$142,'WHS Event Log'!$P$3:$P$502,'Info Tables'!$B168)","v":0},{"$f":"COUNTIFS('WHS Event Log'!$E$3:$E$502,L$142,'WHS Event Log'!$P$3:$P$502,'Info Tables'!$B168)","v":0},{"$f":"COUNTIFS('WHS Event Log'!$E$3:$E$502,M$142,'WHS Event Log'!$P$3:$P$502,'Info Tables'!$B168)","v":0},{"$f":"COUNTIFS('WHS Event Log'!$E$3:$E$502,N$142,'WHS Event Log'!$P$3:$P$502,'Info Tables'!$B168)","v":0},0,{"$f":"COUNTIFS('WHS Event Log'!$P$3:$P$502,$B168,'WHS Event Log'!$S$3:$S$502,Lists!$E$3)","v":0}]
[null,"Upper Arm",{"$f":"COUNTIFS('WHS Event Log'!$E$3:$E$502,C$142,'WHS Event Log'!$P$3:$P$502,'Info Tables'!$B169)","v":0},{"$f":"COUNTIFS('WHS Event Log'!$E$3:$E$502,D$142,'WHS Event Log'!$P$3:$P$502,'Info Tables'!$B169)","v":0},{"$f":"COUNTIFS('WHS Event Log'!$E$3:$E$502,E$142,'WHS Event Log'!$P$3:$P$502,'Info Tables'!$B169)","v":0},{"$f":"COUNTIFS('WHS Event Log'!$E$3:$E$502,F$142,'WHS Event Log'!$P$3:$P$502,'Info Tables'!$B169)","v":0},{"$f":"COUNTIFS('WHS Event Log'!$E$3:$E$502,G$142,'WHS Event Log'!$P$3:$P$502,'Info Tables'!$B169)","v":0},{"$f":"COUNTIFS('WHS Event Log'!$E$3:$E$502,H$142,'WHS Event Log'!$P$3:$P$502,'Info Tables'!$B169)","v":0},{"$f":"COUNTIFS('WHS Event Log'!$E$3:$E$502,I$142,'WHS Event Log'!$P$3:$P$502,'Info Tables'!$B169)","v":0},{"$f":"COUNTIFS('WHS Event Log'!$E$3:$E$502,J$142,'WHS Event Log'!$P$3:$P$502,'Info Tables'!$B169)","v":0},{"$f":"COUNTIFS('WHS Event Log'!$E$3:$E$502,K$142,'WHS Event Log'!$P$3:$P$502,'Info Tables'!$B169)","v":0},{"$f":"COUNTIFS('WHS Event Log'!$E$3:$E$502,L$142,'WHS Event Log'!$P$3:$P$502,'Info Tables'!$B169)","v":0},{"$f":"COUNTIFS('WHS Event Log'!$E$3:$E$502,M$142,'WHS Event Log'!$P$3:$P$502,'Info Tables'!$B169)","v":0},{"$f":"COUNTIFS('WHS Event Log'!$E$3:$E$502,N$142,'WHS Event Log'!$P$3:$P$502,'Info Tables'!$B169)","v":0},0,{"$f":"COUNTIFS('WHS Event Log'!$P$3:$P$502,$B169,'WHS Event Log'!$S$3:$S$502,Lists!$E$3)","v":0}]
[null,"Upper Back",{"$f":"COUNTIFS('WHS Event Log'!$E$3:$E$502,C$142,'WHS Event Log'!$P$3:$P$502,'Info Tables'!$B170)","v":0},{"$f":"COUNTIFS('WHS Event Log'!$E$3:$E$502,D$142,'WHS Event Log'!$P$3:$P$502,'Info Tables'!$B170)","v":0},{"$f":"COUNTIFS('WHS Event Log'!$E$3:$E$502,E$142,'WHS Event Log'!$P$3:$P$502,'Info Tables'!$B170)","v":0},{"$f":"COUNTIFS('WHS Event Log'!$E$3:$E$502,F$142,'WHS Event Log'!$P$3:$P$502,'Info Tables'!$B170)","v":0},{"$f":"COUNTIFS('WHS Event Log'!$E$3:$E$502,G$142,'WHS Event Log'!$P$3:$P$502,'Info Tables'!$B170)","v":0},{"$f":"COUNTIFS('WHS Event Log'!$E$3:$E$502,H$142,'WHS Event Log'!$P$3:$P$502,'Info Tables'!$B170)","v":0},{"$f":"COUNTIFS('WHS Event Log'!$E$3:$E$502,I$142,'WHS Event Log'!$P$3:$P$502,'Info Tables'!$B170)","v":0},{"$f":"COUNTIFS('WHS Event Log'!$E$3:$E$502,J$142,'WHS Event Log'!$P$3:$P$502,'Info Tables'!$B170)","v":0},{"$f":"COUNTIFS('WHS Event Log'!$E$3:$E$502,K$142,'WHS Event Log'!$P$3:$P$502,'Info Tables'!$B170)","v":0},{"$f":"COUNTIFS('WHS Event Log'!$E$3:$E$502,L$142,'WHS Event Log'!$P$3:$P$502,'Info Tables'!$B170)","v":0},{"$f":"COUNTIFS('WHS Event Log'!$E$3:$E$502,M$142,'WHS Event Log'!$P$3:$P$502,'Info Tables'!$B170)","v":0},{"$f":"COUNTIFS('WHS Event Log'!$E$3:$E$502,N$142,'WHS Event Log'!$P$3:$P$502,'Info Tables'!$B170)","v":0},0,{"$f":"COUNTIFS('WHS Event Log'!$P$3:$P$502,$B170,'WHS Event Log'!$S$3:$S$502,Lists!$E$3)","v":0}]
[null,"Upper Leg",{"$f":"COUNTIFS('WHS Event Log'!$E$3:$E$502,C$142,'WHS Event Log'!$P$3:$P$502,'Info Tables'!$B171)","v":0},{"$f":"COUNTIFS('WHS Event Log'!$E$3:$E$502,D$142,'WHS Event Log'!$P$3:$P$502,'Info Tables'!$B171)","v":0},{"$f":"COUNTIFS('WHS Event Log'!$E$3:$E$502,E$142,'WHS Event Log'!$P$3:$P$502,'Info Tables'!$B171)","v":0},{"$f":"COUNTIFS('WHS Event Log'!$E$3:$E$502,F$142,'WHS Event Log'!$P$3:$P$502,'Info Tables'!$B171)","v":0},{"$f":"COUNTIFS('WHS Event Log'!$E$3:$E$502,G$142,'WHS Event Log'!$P$3:$P$502,'Info Tables'!$B171)","v":0},{"$f":"COUNTIFS('WHS Event Log'!$E$3:$E$502,H$142,'WHS Event Log'!$P$3:$P$502,'Info Tables'!$B171)","v":0},{"$f":"COUNTIFS('WHS Event Log'!$E$3:$E$502,I$142,'WHS Event Log'!$P$3:$P$502,'Info Tables'!$B171)","v":0},{"$f":"COUNTIFS('WHS Event Log'!$E$3:$E$502,J$142,'WHS Event Log'!$P$3:$P$502,'Info Tables'!$B171)","v":0},{"$f":"COUNTIFS('WHS Event Log'!$E$3:$E$502,K$142,'WHS Event Log'!$P$3:$P$502,'Info Tables'!$B171)","v":0},{"$f":"COUNTIFS('WHS Event Log'!$E$3:$E$502,L$142,'WHS Event Log'!$P$3:$P$502,'Info Tables'!$B171)","v":0},{"$f":"COUNTIFS('WHS Event Log'!$E$3:$E$502,M$142,'WHS Event Log'!$P$3:$P$502,'Info Tables'!$B171)","v":0},{"$f":"COUNTIFS('WHS Event Log'!$E$3:$E$502,N$142,'WHS Event Log'!$P$3:$P$502,'Info Tables'!$B171)","v":0},0,{"$f":"COUNTIFS('WHS Event Log'!$P$3:$P$502,$B171,'WHS Event Log'!$S$3:$S$502,Lists!$E$3)","v":0}]
[null,"Wrist",{"$f":"COUNTIFS('WHS Event Log'!$E$3:$E$502,C$142,'WHS Event Log'!$P$3:$P$502,'Info Tables'!$B172)","v":0},{"$f":"COUNTIFS('WHS Event Log'!$E$3:$E$502,D$142,'WHS Event Log'!$P$3:$P$502,'Info Tables'!$B172)","v":0},{"$f":"COUNTIFS('WHS Event Log'!$E$3:$E$502,E$142,'WHS Event Log'!$P$3:$P$502,'Info Tables'!$B172)","v":0},{"$f":"COUNTIFS('WHS Event Log'!$E$3:$E$502,F$142,'WHS Event Log'!$P$3:$P$502,'Info Tables'!$B172)","v":0},{"$f":"COUNTIFS('WHS Event Log'!$E$3:$E$502,G$142,'WHS Event Log'!$P$3:$P$502,'Info Tables'!$B172)","v":0},{"$f":"COUNTIFS('WHS Event Log'!$E$3:$E$502,H$142,'WHS Event Log'!$P$3:$P$502,'Info Tables'!$B172)","v":0},{"$f":"COUNTIFS('WHS Event Log'!$E$3:$E$502,I$142,'WHS Event Log'!$P$3:$P$502,'Info Tables'!$B172)","v":0},{"$f":"COUNTIFS('WHS Event Log'!$E$3:$E$502,J$142,'WHS Event Log'!$P$3:$P$502,'Info Tables'!$B172)","v":0},{"$f":"COUNTIFS('WHS Event Log'!$E$3:$E$502,K$142,'WHS Event Log'!$P$3:$P$502,'Info Tables'!$B172)","v":0},{"$f":"COUNTIFS('WHS Event Log'!$E$3:$E$502,L$142,'WHS Event Log'!$P$3:$P$502,'Info Tables'!$B172)","v":0},{"$f":"COUNTIFS('WHS Event Log'!$E$3:$E$502,M$142,'WHS Event Log'!$P$3:$P$502,'Info Tables'!$B172)","v":0},{"$f":"COUNTIFS('WHS Event Log'!$E$3:$E$502,N$142,'WHS Event Log'!$P$3:$P$502,'Info Tables'!$B172)","v":0},0,{"$f":"COUNTIFS('WHS Event Log'!$P$3:$P$502,$B172,'WHS Event Log'!$S$3:$S$502,Lists!$E$3)","v":0}]
[null,"Unspecified",{"$f":"COUNTIFS('WHS Event Log'!$E$3:$E$502,C$142,'WHS Event Log'!$P$3:$P$502,'Info Tables'!$B173)","v":0},{"$f":"COUNTIFS('WHS Event Log'!$E$3:$E$502,D$142,'WHS Event Log'!$P$3:$P$502,'Info Tables'!$B173)","v":0},{"$f":"COUNTIFS('WHS Event Log'!$E$3:$E$502,E$142,'WHS Event Log'!$P$3:$P$502,'Info Tables'!$B173)","v":0},{"$f":"COUNTIFS('WHS Event Log'!$E$3:$E$502,F$142,'WHS Event Log'!$P$3:$P$502,'Info Tables'!$B173)","v":0},{"$f":"COUNTIFS('WHS Event Log'!$E$3:$E$502,G$142,'WHS Event Log'!$P$3:$P$502,'Info Tables'!$B173)","v":0},{"$f":"COUNTIFS('WHS Event Log'!$E$3:$E$502,H$142,'WHS Event Log'!$P$3:$P$502,'Info Tables'!$B173)","v":0},{"$f":"COUNTIFS('WHS Event Log'!$E$3:$E$502,I$142,'WHS Event Log'!$P$3:$P$502,'Info Tables'!$B173)","v":0},{"$f":"COUNTIFS('WHS Event Log'!$E$3:$E$502,J$142,'WHS Event Log'!$P$3:$P$502,'Info Tables'!$B173)","v":0},{"$f":"COUNTIFS('WHS Event Log'!$E$3:$E$502,K$142,'WHS Event Log'!$P$3:$P$502,'Info Tables'!$B173)","v":0},{"$f":"COUNTIFS('WHS Event Log'!$E$3:$E$502,L$142,'WHS Event Log'!$P$3:$P$502,'Info Tables'!$B173)","v":0},{"$f":"COUNTIFS('WHS Event Log'!$E$3:$E$502,M$142,'WHS Event Log'!$P$3:$P$502,'Info Tables'!$B173)","v":0},{"$f":"COUNTIFS('WHS Event Log'!$E$3:$E$502,N$142,'WHS Event Log'!$P$3:$P$502,'Info Tables'!$B173)","v":0},0,{"$f":"COUNTIFS('WHS Event Log'!$P$3:$P$502,$B173,'WHS Event Log'!$S$3:$S$502,Lists!$E$3)","v":0}]
[null,"Other",{"$f":"COUNTIFS('WHS Event Log'!$E$3:$E$502,C$142,'WHS Event Log'!$P$3:$P$502,'Info Tables'!$B174)","v":0},{"$f":"COUNTIFS('WHS Event Log'!$E$3:$E$502,D$142,'WHS Event Log'!$P$3:$P$502,'Info Tables'!$B174)","v":0},{"$f":"COUNTIFS('WHS Event Log'!$E$3:$E$502,E$142,'WHS Event Log'!$P$3:$P$502,'Info Tables'!$B174)","v":0},{"$f":"COUNTIFS('WHS Event Log'!$E$3:$E$502,F$142,'WHS Event Log'!$P$3:$P$502,'Info Tables'!$B174)","v":0},{"$f":"COUNTIFS('WHS Event Log'!$E$3:$E$502,G$142,'WHS Event Log'!$P$3:$P$502,'Info Tables'!$B174)","v":0},{"$f":"COUNTIFS('WHS Event Log'!$E$3:$E$502,H$142,'WHS Event Log'!$P$3:$P$502,'Info Tables'!$B174)","v":0},{"$f":"COUNTIFS('WHS Event Log'!$E$3:$E$502,I$142,'WHS Event Log'!$P$3:$P$502,'Info Tables'!$B174)","v":0},{"$f":"COUNTIFS('WHS Event Log'!$E$3:$E$502,J$142,'WHS Event Log'!$P$3:$P$502,'Info Tables'!$B174)","v":0},{"$f":"COUNTIFS('WHS Event Log'!$E$3:$E$502,K$142,'WHS Event Log'!$P$3:$P$502,'Info Tables'!$B174)","v":0},{"$f":"COUNTIFS('WHS Event Log'!$E$3:$E$502,L$142,'WHS Event Log'!$P$3:$P$502,'Info Tables'!$B174)","v":0},{"$f":"COUNTIFS('WHS Event Log'!$E$3:$E$502,M$142,'WHS Event Log'!$P$3:$P$502,'Info Tables'!$B174)","v":0},{"$f":"COUNTIFS('WHS Event Log'!$E$3:$E$502,N$142,'WHS Event Log'!$P$3:$P$502,'Info Tables'!$B174)","v":0},0,{"$f":"COUNTIFS('WHS Event Log'!$P$3:$P$502,$B174,'WHS Event Log'!$S$3:$S$502,Lists!$E$3)","v":0}]
[null,null,{"$f":"SUM(C144:C174)","v":0},0,0,0,0,0,0,0,0,0,0,0,0,0]
[]
[]
[null,"Notifiable Event","January","February","March","April","May","June","July","August","September","October","November","December","Total","Open"]
[null,"Yes",{"$f":"COUNTIFS('WHS Event Log'!$E$3:$E$502,C$61,'WHS Event Log'!$AB$3:$AB$502,'Info Tables'!$B179)","v":0},{"$f":"COUNTIFS('WHS Event Log'!$E$3:$E$502,D$61,'WHS Event Log'!$AB$3:$AB$502,'Info Tables'!$B179)","v":0},{"$f":"COUNTIFS('WHS Event Log'!$E$3:$E$502,E$61,'WHS Event Log'!$AB$3:$AB$502,'Info Tables'!$B179)","v":0},{"$f":"COUNTIFS('WHS Event Log'!$E$3:$E$502,F$61,'WHS Event Log'!$AB$3:$AB$502,'Info Tables'!$B179)","v":0},{"$f":"COUNTIFS('WHS Event Log'!$E$3:$E$502,G$61,'WHS Event Log'!$AB$3:$AB$502,'Info Tables'!$B179)","v":0},{"$f":"COUNTIFS('WHS Event Log'!$E$3:$E$502,H$61,'WHS Event Log'!$AB$3:$AB$502,'Info Tables'!$B179)","v":0},{"$f":"COUNTIFS('WHS Event Log'!$E$3:$E$502,I$61,'WHS Event Log'!$AB$3:$AB$502,'Info Tables'!$B179)","v":0},{"$f":"COUNTIFS('WHS Event Log'!$E$3:$E$502,J$61,'WHS Event Log'!$AB$3:$AB$502,'Info Tables'!$B179)","v":0},{"$f":"COUNTIFS('WHS Event Log'!$E$3:$E$502,K$61,'WHS Event Log'!$AB$3:$AB$502,'Info Tables'!$B179)","v":0},{"$f":"COUNTIFS('WHS Event Log'!$E$3:$E$502,L$61,'WHS Event Log'!$AB$3:$AB$502,'Info Tables'!$B179)","v":0},{"$f":"COUNTIFS('WHS Event Log'!$E$3:$E$502,M$61,'WHS Event Log'!$AB$3:$AB$502,'Info Tables'!$B179)","v":0},{"$f":"COUNTIFS('WHS Event Log'!$E$3:$E$502,N$61,'WHS Event Log'!$AB$3:$AB$502,'Info Tables'!$B179)","v":0},{"$f":"SUM(C179:N179)","v":0},{"$f":"COUNTIFS('WHS Event Log'!$Q$3:$Q$502,$B179,'WHS Event Log'!$S$3:$S$502,Lists!$E$3,'WHS Event Log'!$T$3:$T$502,Lists!$K$3)","v":0}]

{"sheet":"Monthly Summaries","index":14,"n_rows":0,"n_cols":0,"rows_kept":0,"cut":false,"hidden":false,"merged":[]}

{"sheet":"Type Graphs","index":15,"n_rows":0,"n_cols":0,"rows_kept":0,"cut":false,"hidden":false,"merged":[]}

{"sheet":"Injury Sustained","index":16,"n_rows":0,"n_cols":0,"rows_kept":0,"cut":false,"hidden":false,"merged":[]}

{"sheet":"Day_Shift_Data","index":17,"n_rows":4,"n_cols":2,"rows_kept":4,"cut":false,"hidden":false,"merged":[]}
["Report Type","(All)"]
[]
["Row Labels","Count of Shift"]
["Grand Total"]

{"sheet":"Controls_Month","index":18,"n_rows":8,"n_cols":13,"rows_kept":8,"cut":false,"hidden":false,"merged":[]}
["Row Labels","Sum of January","Sum of February","Sum of March","Sum of April","Sum of May","Sum of June","Sum of July","Sum of August","Sum of September","Sum of October","Sum of November","Sum of December"]
["Elimination",0,0,0,0,0,0,0,0,0,0,0,0]
["Substitution",0,0,0,0,0,0,0,0,0,0,0,0]
["Isolation",0,0,0,0,0,0,0,0,0,0,0,0]
["Engineering",0,0,0,0,0,0,0,0,0,0,0,0]
["Administration",0,0,0,0,0,0,0,0,0,0,0,0]
["PPE",0,0,0,0,0,0,0,0,0,0,0,0]
["Grand Total",0,0,0,0,0,0,0,0,0,0,0,0]

{"sheet":"Identification Type","index":19,"n_rows":4,"n_cols":2,"rows_kept":4,"cut":false,"hidden":false,"merged":[]}
[]
[]
["Row Labels","Count of Report Type"]
["Grand Total"]

{"sheet":"Controls_Risk","index":20,"n_rows":8,"n_cols":5,"rows_kept":8,"cut":false,"hidden":false,"merged":[]}
["Row Labels","Sum of Extreme","Sum of High","Sum of Medium","Sum of Low"]
["Elimination",0,0,0,0]
["Substitution",0,0,0,0]
["Isolation",0,0,0,0]
["Engineering",0,0,0,0]
["Administration",0,0,0,0]
["PPE",0,0,0,0]
["Grand Total",0,0,0,0]

{"sheet":"Type Charts","index":21,"n_rows":0,"n_cols":0,"rows_kept":0,"cut":false,"hidden":true,"merged":[]}

{"sheet":"Individual_Stats","index":22,"n_rows":6,"n_cols":2,"rows_kept":6,"cut":false,"hidden":false,"merged":[]}
["Person(s) Involved","(Multiple Items)"]
["Cause","(All)"]
["Shift","(All)"]
[]
["Row Labels","Count of Report Type"]
["Grand Total"]

{"sheet":"Sheet1","index":23,"n_rows":0,"n_cols":0,"rows_kept":0,"cut":false,"hidden":false,"merged":[]}